BEGIN:VCALENDAR
VERSION:2.0
PRODID:-//Viva Fall River - ECPv6.15.18//NONSGML v1.0//EN
CALSCALE:GREGORIAN
METHOD:PUBLISH
X-WR-CALNAME:Viva Fall River
X-ORIGINAL-URL:https://www.vivafallriver.com
X-WR-CALDESC:Events for Viva Fall River
REFRESH-INTERVAL;VALUE=DURATION:PT1H
X-Robots-Tag:noindex
X-PUBLISHED-TTL:PT1H
BEGIN:VTIMEZONE
TZID:America/New_York
BEGIN:DAYLIGHT
TZOFFSETFROM:-0500
TZOFFSETTO:-0400
TZNAME:EDT
DTSTART:20250309T070000
END:DAYLIGHT
BEGIN:STANDARD
TZOFFSETFROM:-0400
TZOFFSETTO:-0500
TZNAME:EST
DTSTART:20251102T060000
END:STANDARD
BEGIN:DAYLIGHT
TZOFFSETFROM:-0500
TZOFFSETTO:-0400
TZNAME:EDT
DTSTART:20260308T070000
END:DAYLIGHT
BEGIN:STANDARD
TZOFFSETFROM:-0400
TZOFFSETTO:-0500
TZNAME:EST
DTSTART:20261101T060000
END:STANDARD
BEGIN:DAYLIGHT
TZOFFSETFROM:-0500
TZOFFSETTO:-0400
TZNAME:EDT
DTSTART:20270314T070000
END:DAYLIGHT
BEGIN:STANDARD
TZOFFSETFROM:-0400
TZOFFSETTO:-0500
TZNAME:EST
DTSTART:20271107T060000
END:STANDARD
END:VTIMEZONE
BEGIN:VEVENT
DTSTART;TZID=America/New_York:20260422T200000
DTEND;TZID=America/New_York:20260422T230000
DTSTAMP:20260424T093718
CREATED:20260328T182122Z
LAST-MODIFIED:20260328T182130Z
UID:10020462-1776888000-1776898800@www.vivafallriver.com
SUMMARY:Social Club Karaoke: The League
DESCRIPTION:The League Karaoke offers a cash prize every week!!! From themed songs to open mic\, come by and sing your heart out!
URL:https://www.vivafallriver.com/event/social-club-karaoke-the-league/2026-04-22/
LOCATION:The Tipsy Toboggan\, 75 Ferry Street\, Fall River\, MA\, United States
CATEGORIES:Fundraisers/Community,Live Music
ATTACH;FMTTYPE=image/png:https://www.vivafallriver.com/wp-content/uploads/2026/03/image-8.png
END:VEVENT
BEGIN:VEVENT
DTSTART;TZID=America/New_York:20260420T183000
DTEND;TZID=America/New_York:20260420T213000
DTSTAMP:20260424T093718
CREATED:20250227T165416Z
LAST-MODIFIED:20260103T204708Z
UID:10017013-1776709800-1776720600@www.vivafallriver.com
SUMMARY:Monday Nights with Nick Sanfilippo (weekly)
DESCRIPTION:Join us at The Tipsy Toboggan every day and every night! Always something delicious to eat and always something exciting happening! From a beautiful winter/summer garden patio\, to fireside dining\, to rotating acoustics\, karaoke and live bands! We have it all! Don’t miss out! Check our facebook and website at www.thetipsytoboggan.com for a full calendar of events each month! \n\n\n\nOur late night menu is served Wednesday\, Friday And Saturday nights until midnight!
URL:https://www.vivafallriver.com/event/monday-nights-with-nick-sanfilippo-weekly/2026-04-20/
LOCATION:The Tipsy Toboggan\, 75 Ferry Street\, Fall River\, MA\, United States
CATEGORIES:Live Music
END:VEVENT
BEGIN:VEVENT
DTSTART;TZID=America/New_York:20260419T160000
DTEND;TZID=America/New_York:20260419T190000
DTSTAMP:20260424T093718
CREATED:20250107T205401Z
LAST-MODIFIED:20260103T204612Z
UID:10016752-1776614400-1776625200@www.vivafallriver.com
SUMMARY:Matt Silva Sunday Funday
DESCRIPTION:Every Sunday meet Matt Silva in the Tipsy Toboggan Lounge. He brings the vocals\, the charm and charisma and you bring your friends! See you there!
URL:https://www.vivafallriver.com/event/matt-silva-sunday-funday/2026-04-19/
LOCATION:The Tipsy Toboggan\, 75 Ferry Street\, Fall River\, MA\, United States
CATEGORIES:Live Music
ATTACH;FMTTYPE=image/jpeg:https://www.vivafallriver.com/wp-content/uploads/2025/01/IMG_2710.jpeg
END:VEVENT
BEGIN:VEVENT
DTSTART;TZID=America/New_York:20260419T100000
DTEND;TZID=America/New_York:20260419T123000
DTSTAMP:20260424T093718
CREATED:20250518T201957Z
LAST-MODIFIED:20251224T145226Z
UID:10014816-1776592800-1776601800@www.vivafallriver.com
SUMMARY:Weekend Brunch
DESCRIPTION:Bring the crew! Enjoy brunch\, mimosas\, bloodys and more!! \n\n\n\nEvery Saturday and Sunday from 10am-1230pm!
URL:https://www.vivafallriver.com/event/weekend-brunch/2026-04-19/
LOCATION:The Tipsy Toboggan\, 75 Ferry Street\, Fall River\, MA\, United States
CATEGORIES:Culinary Events
ATTACH;FMTTYPE=image/jpeg:https://www.vivafallriver.com/wp-content/uploads/2025/05/brunch.jpg
END:VEVENT
BEGIN:VEVENT
DTSTART;TZID=America/New_York:20260410T210000
DTEND;TZID=America/New_York:20260410T210000
DTSTAMP:20260424T093718
CREATED:20260328T191310Z
LAST-MODIFIED:20260328T191319Z
UID:10020510-1775854800-1775854800@www.vivafallriver.com
SUMMARY:Electracoustic (live music)
DESCRIPTION:
URL:https://www.vivafallriver.com/event/electracoustic-live-music/
LOCATION:The Tipsy Toboggan\, 75 Ferry Street\, Fall River\, MA\, United States
CATEGORIES:Live Music
ATTACH;FMTTYPE=image/png:https://www.vivafallriver.com/wp-content/uploads/2026/03/image-26.png
END:VEVENT
BEGIN:VEVENT
DTSTART;TZID=America/New_York:20260403T120000
DTEND;TZID=America/New_York:20260403T220000
DTSTAMP:20260424T093718
CREATED:20260328T182749Z
LAST-MODIFIED:20260328T182958Z
UID:10020467-1775217600-1775253600@www.vivafallriver.com
SUMMARY:Fish Fry Fridays
DESCRIPTION:
URL:https://www.vivafallriver.com/event/fish-fry-fridays/
LOCATION:The Tipsy Toboggan\, 75 Ferry Street\, Fall River\, MA\, United States
CATEGORIES:Culinary Events,Holiday
ATTACH;FMTTYPE=image/png:https://www.vivafallriver.com/wp-content/uploads/2026/03/image-12.png
END:VEVENT
BEGIN:VEVENT
DTSTART;TZID=America/New_York:20260401T120000
DTEND;TZID=America/New_York:20260401T210000
DTSTAMP:20260424T093718
CREATED:20260328T131758Z
LAST-MODIFIED:20260328T131806Z
UID:10019928-1775044800-1775077200@www.vivafallriver.com
SUMMARY:$20 Lobster Rolls All Month
DESCRIPTION:For the entire month of April\, enjoy a New England style Lobster Roll for just $20! Lunch or Dinner!
URL:https://www.vivafallriver.com/event/20-lobster-rolls-all-month/
LOCATION:The Tipsy Toboggan\, 75 Ferry Street\, Fall River\, MA\, United States
CATEGORIES:Culinary Events
ATTACH;FMTTYPE=image/png:https://www.vivafallriver.com/wp-content/uploads/2026/03/image-4.png
END:VEVENT
END:VCALENDAR