BEGIN:VCALENDAR
VERSION:2.0
PRODID:-//Viva Fall River - ECPv6.15.18//NONSGML v1.0//EN
CALSCALE:GREGORIAN
METHOD:PUBLISH
X-WR-CALNAME:Viva Fall River
X-ORIGINAL-URL:https://www.vivafallriver.com
X-WR-CALDESC:Events for Viva Fall River
REFRESH-INTERVAL;VALUE=DURATION:PT1H
X-Robots-Tag:noindex
X-PUBLISHED-TTL:PT1H
BEGIN:VTIMEZONE
TZID:America/New_York
BEGIN:DAYLIGHT
TZOFFSETFROM:-0500
TZOFFSETTO:-0400
TZNAME:EDT
DTSTART:20250309T070000
END:DAYLIGHT
BEGIN:STANDARD
TZOFFSETFROM:-0400
TZOFFSETTO:-0500
TZNAME:EST
DTSTART:20251102T060000
END:STANDARD
BEGIN:DAYLIGHT
TZOFFSETFROM:-0500
TZOFFSETTO:-0400
TZNAME:EDT
DTSTART:20260308T070000
END:DAYLIGHT
BEGIN:STANDARD
TZOFFSETFROM:-0400
TZOFFSETTO:-0500
TZNAME:EST
DTSTART:20261101T060000
END:STANDARD
BEGIN:DAYLIGHT
TZOFFSETFROM:-0500
TZOFFSETTO:-0400
TZNAME:EDT
DTSTART:20270314T070000
END:DAYLIGHT
BEGIN:STANDARD
TZOFFSETFROM:-0400
TZOFFSETTO:-0500
TZNAME:EST
DTSTART:20271107T060000
END:STANDARD
END:VTIMEZONE
BEGIN:VEVENT
DTSTART;TZID=America/New_York:20260405T140000
DTEND;TZID=America/New_York:20260405T170000
DTSTAMP:20260420T193025
CREATED:20260328T184303Z
LAST-MODIFIED:20260328T184312Z
UID:10020478-1775397600-1775408400@www.vivafallriver.com
SUMMARY:Easter Egg Challenge
DESCRIPTION:Looking for something FUN to do this Easter weekend?Join us for our Easter Egg Challenge at Stumpy’s Hatchet House Fall River! \n\n\n\n\n Every thrower gets 3 FREE bonus throws\n\n\n\n Stick the egg and WIN prizes!\n\n\n\n Kids (ages 10-15)→ Bullseye target + Chocolate Bunny\n\n\n\n Ages 16+ → Corner challenge + $10 Gift Certificate\n\n\n\n\n Special Hours & Kids Sessions: \n\n\n\n\n Easter Sunday: 2PM – 5PM (limited hours)\n\n\n\n LumberJack Jr. Sessions ages 10-17 + adult: Saturday 2PM – 6PM (limited spots) & Sunday 2PM-5PM\n\n\n\n\n BYOB & BYOF; Games after you throw
URL:https://www.vivafallriver.com/event/easter-egg-challenge/2026-04-05/
LOCATION:Stumpy’s Hatchet House Fall River\, 75 Ferry St.\, Fall River\, MA\, 02721
CATEGORIES:Family Friendly Events,Holiday,Recreation/Sports Events
ATTACH;FMTTYPE=image/png:https://www.vivafallriver.com/wp-content/uploads/2026/03/image-16.png
END:VEVENT
END:VCALENDAR