BEGIN:VCALENDAR
VERSION:2.0
PRODID:-//Viva Fall River - ECPv6.15.18//NONSGML v1.0//EN
CALSCALE:GREGORIAN
METHOD:PUBLISH
X-WR-CALNAME:Viva Fall River
X-ORIGINAL-URL:https://www.vivafallriver.com
X-WR-CALDESC:Events for Viva Fall River
REFRESH-INTERVAL;VALUE=DURATION:PT1H
X-Robots-Tag:noindex
X-PUBLISHED-TTL:PT1H
BEGIN:VTIMEZONE
TZID:America/New_York
BEGIN:DAYLIGHT
TZOFFSETFROM:-0500
TZOFFSETTO:-0400
TZNAME:EDT
DTSTART:20250309T070000
END:DAYLIGHT
BEGIN:STANDARD
TZOFFSETFROM:-0400
TZOFFSETTO:-0500
TZNAME:EST
DTSTART:20251102T060000
END:STANDARD
BEGIN:DAYLIGHT
TZOFFSETFROM:-0500
TZOFFSETTO:-0400
TZNAME:EDT
DTSTART:20260308T070000
END:DAYLIGHT
BEGIN:STANDARD
TZOFFSETFROM:-0400
TZOFFSETTO:-0500
TZNAME:EST
DTSTART:20261101T060000
END:STANDARD
BEGIN:DAYLIGHT
TZOFFSETFROM:-0500
TZOFFSETTO:-0400
TZNAME:EDT
DTSTART:20270314T070000
END:DAYLIGHT
BEGIN:STANDARD
TZOFFSETFROM:-0400
TZOFFSETTO:-0500
TZNAME:EST
DTSTART:20271107T060000
END:STANDARD
END:VTIMEZONE
BEGIN:VEVENT
DTSTART;TZID=America/New_York:20260507T093000
DTEND;TZID=America/New_York:20260507T223000
DTSTAMP:20260424T113530
CREATED:20260401T212946Z
LAST-MODIFIED:20260401T213003Z
UID:10020588-1778146200-1778193000@www.vivafallriver.com
SUMMARY:Chair Yoga @ First Congregational Church of Fall River
DESCRIPTION:Chair Yoga 9:30 AM @ First Congregational Church of Fall River \n282 Rock St
URL:https://www.vivafallriver.com/event/chair-yoga-first-congregational-church-of-fall-river/2026-05-07/
LOCATION:First Congregational Church of Fall River\, 282 Rock St\, Fall River\, MA\, 02720
CATEGORIES:Health & Wellness
ATTACH;FMTTYPE=image/jpeg:https://www.vivafallriver.com/wp-content/uploads/2026/04/Apr-Jun-Chair-Yoga.jpg
END:VEVENT
BEGIN:VEVENT
DTSTART;TZID=America/New_York:20260517T090000
DTEND;TZID=America/New_York:20260517T123000
DTSTAMP:20260424T113530
CREATED:20260420T005403Z
LAST-MODIFIED:20260420T005411Z
UID:10020668-1779008400-1779021000@www.vivafallriver.com
SUMMARY:Animal Appreciation Sunday with Special Animal Blessing
DESCRIPTION:
URL:https://www.vivafallriver.com/event/animal-appreciation-sunday-with-special-animal-blessing/
LOCATION:First Congregational Church of Fall River\, 282 Rock St\, Fall River\, MA\, 02720
CATEGORIES:Family Friendly Events,Spirituality
ATTACH;FMTTYPE=image/png:https://www.vivafallriver.com/wp-content/uploads/2026/04/image-4.png
END:VEVENT
END:VCALENDAR