BEGIN:VCALENDAR
VERSION:2.0
PRODID:-//Viva Fall River - ECPv6.15.18//NONSGML v1.0//EN
CALSCALE:GREGORIAN
METHOD:PUBLISH
X-ORIGINAL-URL:https://www.vivafallriver.com
X-WR-CALDESC:Events for Viva Fall River
REFRESH-INTERVAL;VALUE=DURATION:PT1H
X-Robots-Tag:noindex
X-PUBLISHED-TTL:PT1H
BEGIN:VTIMEZONE
TZID:America/New_York
BEGIN:DAYLIGHT
TZOFFSETFROM:-0500
TZOFFSETTO:-0400
TZNAME:EDT
DTSTART:20250309T070000
END:DAYLIGHT
BEGIN:STANDARD
TZOFFSETFROM:-0400
TZOFFSETTO:-0500
TZNAME:EST
DTSTART:20251102T060000
END:STANDARD
BEGIN:DAYLIGHT
TZOFFSETFROM:-0500
TZOFFSETTO:-0400
TZNAME:EDT
DTSTART:20260308T070000
END:DAYLIGHT
BEGIN:STANDARD
TZOFFSETFROM:-0400
TZOFFSETTO:-0500
TZNAME:EST
DTSTART:20261101T060000
END:STANDARD
BEGIN:DAYLIGHT
TZOFFSETFROM:-0500
TZOFFSETTO:-0400
TZNAME:EDT
DTSTART:20270314T070000
END:DAYLIGHT
BEGIN:STANDARD
TZOFFSETFROM:-0400
TZOFFSETTO:-0500
TZNAME:EST
DTSTART:20271107T060000
END:STANDARD
END:VTIMEZONE
BEGIN:VEVENT
DTSTART;TZID=America/New_York:20260419T100000
DTEND;TZID=America/New_York:20260419T130000
DTSTAMP:20260423T195445
CREATED:20260328T201432Z
LAST-MODIFIED:20260328T201440Z
UID:10020540-1776592800-1776603600@www.vivafallriver.com
SUMMARY:Hands On Sourdough Fundamentals
DESCRIPTION:Roll up your sleeves and learn the art of real sourdough baking. \n\n\n\nIn this hands-on workshop\, you’ll learn the foundational techniques that turn flour\, water\, salt\, and time into beautifully fermented bread. Sourdough relies on natural wild yeast and beneficial bacteria to create its signature flavor and rise. ￼ \n\n\n\nDuring this class you’ll learn: \n\n\n\n• How sourdough starter works• Mixing and building dough strength• Bulk fermentation and timing• Shaping artisan loaves• Scoring and baking techniques• Troubleshooting common sourdough problems \n\n\n\nPerfect for beginners or anyone wanting to improve their sourdough skills. \n\n\n\nYou’ll leave with:• Your own sourdough starter• Dough ready to bake at home• Recipes and fermentation timeline• The confidence to bake incredible bread \n\n\n\n Reserve your seat here:https://www.songbirdsourdough.com/s/order.
URL:https://www.vivafallriver.com/event/hands-on-sourdough-fundamentals/
LOCATION:Canned Heat Craft Beer Co.\, 52 Ferry Street\, Fall River\, MA\, 02724\, United States
CATEGORIES:Culinary Events,Workshops & Classes
ATTACH;FMTTYPE=image/png:https://www.vivafallriver.com/wp-content/uploads/2026/03/image-53.png
END:VEVENT
END:VCALENDAR