BEGIN:VCALENDAR
VERSION:2.0
PRODID:-//Viva Fall River - ECPv6.15.18//NONSGML v1.0//EN
CALSCALE:GREGORIAN
METHOD:PUBLISH
X-WR-CALNAME:Viva Fall River
X-ORIGINAL-URL:https://www.vivafallriver.com
X-WR-CALDESC:Events for Viva Fall River
REFRESH-INTERVAL;VALUE=DURATION:PT1H
X-Robots-Tag:noindex
X-PUBLISHED-TTL:PT1H
BEGIN:VTIMEZONE
TZID:America/New_York
BEGIN:DAYLIGHT
TZOFFSETFROM:-0500
TZOFFSETTO:-0400
TZNAME:EDT
DTSTART:20250309T070000
END:DAYLIGHT
BEGIN:STANDARD
TZOFFSETFROM:-0400
TZOFFSETTO:-0500
TZNAME:EST
DTSTART:20251102T060000
END:STANDARD
BEGIN:DAYLIGHT
TZOFFSETFROM:-0500
TZOFFSETTO:-0400
TZNAME:EDT
DTSTART:20260308T070000
END:DAYLIGHT
BEGIN:STANDARD
TZOFFSETFROM:-0400
TZOFFSETTO:-0500
TZNAME:EST
DTSTART:20261101T060000
END:STANDARD
BEGIN:DAYLIGHT
TZOFFSETFROM:-0500
TZOFFSETTO:-0400
TZNAME:EDT
DTSTART:20270314T070000
END:DAYLIGHT
BEGIN:STANDARD
TZOFFSETFROM:-0400
TZOFFSETTO:-0500
TZNAME:EST
DTSTART:20271107T060000
END:STANDARD
END:VTIMEZONE
BEGIN:VEVENT
DTSTART;TZID=America/New_York:20260507T110000
DTEND;TZID=America/New_York:20260507T213000
DTSTAMP:20260425T221254
CREATED:20260425T204515Z
LAST-MODIFIED:20260425T204522Z
UID:10021625-1778151600-1778189400@www.vivafallriver.com
SUMMARY:Hot Girl Dinner (Thursdays thru 8/27)
DESCRIPTION:HOT GIRL DINNER MENU  \n\n\n\nBecause dinner should come with a martini… or two  \n\n\n\nIntroducing your new Thursday ritual at Primo on Water Street — a full dinner experience for $25 per person: \n\n\n\n Pick your martini“Just a Drinky Poo” • Nonna’s Espresso Martini • Dirty Martini • Lemon Drop Martini \n\n\n\n Pick your saladSeated Salad Bar (6 toppings) • Primo House • Caesar \n\n\n\n Pick your friesItalian Parmesan Dusted • Plain \n\n\n\n Starting Thursday\, April 30th \n\n\n\n Available ALL DAY every Thursday \n\n\n\n Dine-in onlyGrab your girls\, grab a seat\, and make a night out of it.
URL:https://www.vivafallriver.com/event/hot-girl-dinner-thursdays-thru-8-27/2026-05-07/
LOCATION:Primo on Water Street\, 36 Water Street\, Fall River\, MA\, 02724\, United States
CATEGORIES:Culinary Events
ATTACH;FMTTYPE=image/png:https://www.vivafallriver.com/wp-content/uploads/2026/04/image-25.png
END:VEVENT
BEGIN:VEVENT
DTSTART;TZID=America/New_York:20260514T110000
DTEND;TZID=America/New_York:20260514T213000
DTSTAMP:20260425T221254
CREATED:20260425T204515Z
LAST-MODIFIED:20260425T204522Z
UID:10021626-1778756400-1778794200@www.vivafallriver.com
SUMMARY:Hot Girl Dinner (Thursdays thru 8/27)
DESCRIPTION:HOT GIRL DINNER MENU  \n\n\n\nBecause dinner should come with a martini… or two  \n\n\n\nIntroducing your new Thursday ritual at Primo on Water Street — a full dinner experience for $25 per person: \n\n\n\n Pick your martini“Just a Drinky Poo” • Nonna’s Espresso Martini • Dirty Martini • Lemon Drop Martini \n\n\n\n Pick your saladSeated Salad Bar (6 toppings) • Primo House • Caesar \n\n\n\n Pick your friesItalian Parmesan Dusted • Plain \n\n\n\n Starting Thursday\, April 30th \n\n\n\n Available ALL DAY every Thursday \n\n\n\n Dine-in onlyGrab your girls\, grab a seat\, and make a night out of it.
URL:https://www.vivafallriver.com/event/hot-girl-dinner-thursdays-thru-8-27/2026-05-14/
LOCATION:Primo on Water Street\, 36 Water Street\, Fall River\, MA\, 02724\, United States
CATEGORIES:Culinary Events
ATTACH;FMTTYPE=image/png:https://www.vivafallriver.com/wp-content/uploads/2026/04/image-25.png
END:VEVENT
BEGIN:VEVENT
DTSTART;TZID=America/New_York:20260521T110000
DTEND;TZID=America/New_York:20260521T213000
DTSTAMP:20260425T221254
CREATED:20260425T204515Z
LAST-MODIFIED:20260425T204522Z
UID:10021627-1779361200-1779399000@www.vivafallriver.com
SUMMARY:Hot Girl Dinner (Thursdays thru 8/27)
DESCRIPTION:HOT GIRL DINNER MENU  \n\n\n\nBecause dinner should come with a martini… or two  \n\n\n\nIntroducing your new Thursday ritual at Primo on Water Street — a full dinner experience for $25 per person: \n\n\n\n Pick your martini“Just a Drinky Poo” • Nonna’s Espresso Martini • Dirty Martini • Lemon Drop Martini \n\n\n\n Pick your saladSeated Salad Bar (6 toppings) • Primo House • Caesar \n\n\n\n Pick your friesItalian Parmesan Dusted • Plain \n\n\n\n Starting Thursday\, April 30th \n\n\n\n Available ALL DAY every Thursday \n\n\n\n Dine-in onlyGrab your girls\, grab a seat\, and make a night out of it.
URL:https://www.vivafallriver.com/event/hot-girl-dinner-thursdays-thru-8-27/2026-05-21/
LOCATION:Primo on Water Street\, 36 Water Street\, Fall River\, MA\, 02724\, United States
CATEGORIES:Culinary Events
ATTACH;FMTTYPE=image/png:https://www.vivafallriver.com/wp-content/uploads/2026/04/image-25.png
END:VEVENT
BEGIN:VEVENT
DTSTART;TZID=America/New_York:20260528T110000
DTEND;TZID=America/New_York:20260528T213000
DTSTAMP:20260425T221255
CREATED:20260425T204515Z
LAST-MODIFIED:20260425T204522Z
UID:10021628-1779966000-1780003800@www.vivafallriver.com
SUMMARY:Hot Girl Dinner (Thursdays thru 8/27)
DESCRIPTION:HOT GIRL DINNER MENU  \n\n\n\nBecause dinner should come with a martini… or two  \n\n\n\nIntroducing your new Thursday ritual at Primo on Water Street — a full dinner experience for $25 per person: \n\n\n\n Pick your martini“Just a Drinky Poo” • Nonna’s Espresso Martini • Dirty Martini • Lemon Drop Martini \n\n\n\n Pick your saladSeated Salad Bar (6 toppings) • Primo House • Caesar \n\n\n\n Pick your friesItalian Parmesan Dusted • Plain \n\n\n\n Starting Thursday\, April 30th \n\n\n\n Available ALL DAY every Thursday \n\n\n\n Dine-in onlyGrab your girls\, grab a seat\, and make a night out of it.
URL:https://www.vivafallriver.com/event/hot-girl-dinner-thursdays-thru-8-27/2026-05-28/
LOCATION:Primo on Water Street\, 36 Water Street\, Fall River\, MA\, 02724\, United States
CATEGORIES:Culinary Events
ATTACH;FMTTYPE=image/png:https://www.vivafallriver.com/wp-content/uploads/2026/04/image-25.png
END:VEVENT
BEGIN:VEVENT
DTSTART;TZID=America/New_York:20260604T110000
DTEND;TZID=America/New_York:20260604T213000
DTSTAMP:20260425T221255
CREATED:20260425T204515Z
LAST-MODIFIED:20260425T204522Z
UID:10021629-1780570800-1780608600@www.vivafallriver.com
SUMMARY:Hot Girl Dinner (Thursdays thru 8/27)
DESCRIPTION:HOT GIRL DINNER MENU  \n\n\n\nBecause dinner should come with a martini… or two  \n\n\n\nIntroducing your new Thursday ritual at Primo on Water Street — a full dinner experience for $25 per person: \n\n\n\n Pick your martini“Just a Drinky Poo” • Nonna’s Espresso Martini • Dirty Martini • Lemon Drop Martini \n\n\n\n Pick your saladSeated Salad Bar (6 toppings) • Primo House • Caesar \n\n\n\n Pick your friesItalian Parmesan Dusted • Plain \n\n\n\n Starting Thursday\, April 30th \n\n\n\n Available ALL DAY every Thursday \n\n\n\n Dine-in onlyGrab your girls\, grab a seat\, and make a night out of it.
URL:https://www.vivafallriver.com/event/hot-girl-dinner-thursdays-thru-8-27/2026-06-04/
LOCATION:Primo on Water Street\, 36 Water Street\, Fall River\, MA\, 02724\, United States
CATEGORIES:Culinary Events
ATTACH;FMTTYPE=image/png:https://www.vivafallriver.com/wp-content/uploads/2026/04/image-25.png
END:VEVENT
BEGIN:VEVENT
DTSTART;TZID=America/New_York:20260611T110000
DTEND;TZID=America/New_York:20260611T213000
DTSTAMP:20260425T221255
CREATED:20260425T204515Z
LAST-MODIFIED:20260425T204522Z
UID:10021630-1781175600-1781213400@www.vivafallriver.com
SUMMARY:Hot Girl Dinner (Thursdays thru 8/27)
DESCRIPTION:HOT GIRL DINNER MENU  \n\n\n\nBecause dinner should come with a martini… or two  \n\n\n\nIntroducing your new Thursday ritual at Primo on Water Street — a full dinner experience for $25 per person: \n\n\n\n Pick your martini“Just a Drinky Poo” • Nonna’s Espresso Martini • Dirty Martini • Lemon Drop Martini \n\n\n\n Pick your saladSeated Salad Bar (6 toppings) • Primo House • Caesar \n\n\n\n Pick your friesItalian Parmesan Dusted • Plain \n\n\n\n Starting Thursday\, April 30th \n\n\n\n Available ALL DAY every Thursday \n\n\n\n Dine-in onlyGrab your girls\, grab a seat\, and make a night out of it.
URL:https://www.vivafallriver.com/event/hot-girl-dinner-thursdays-thru-8-27/2026-06-11/
LOCATION:Primo on Water Street\, 36 Water Street\, Fall River\, MA\, 02724\, United States
CATEGORIES:Culinary Events
ATTACH;FMTTYPE=image/png:https://www.vivafallriver.com/wp-content/uploads/2026/04/image-25.png
END:VEVENT
BEGIN:VEVENT
DTSTART;TZID=America/New_York:20260618T110000
DTEND;TZID=America/New_York:20260618T213000
DTSTAMP:20260425T221255
CREATED:20260425T204515Z
LAST-MODIFIED:20260425T204522Z
UID:10021631-1781780400-1781818200@www.vivafallriver.com
SUMMARY:Hot Girl Dinner (Thursdays thru 8/27)
DESCRIPTION:HOT GIRL DINNER MENU  \n\n\n\nBecause dinner should come with a martini… or two  \n\n\n\nIntroducing your new Thursday ritual at Primo on Water Street — a full dinner experience for $25 per person: \n\n\n\n Pick your martini“Just a Drinky Poo” • Nonna’s Espresso Martini • Dirty Martini • Lemon Drop Martini \n\n\n\n Pick your saladSeated Salad Bar (6 toppings) • Primo House • Caesar \n\n\n\n Pick your friesItalian Parmesan Dusted • Plain \n\n\n\n Starting Thursday\, April 30th \n\n\n\n Available ALL DAY every Thursday \n\n\n\n Dine-in onlyGrab your girls\, grab a seat\, and make a night out of it.
URL:https://www.vivafallriver.com/event/hot-girl-dinner-thursdays-thru-8-27/2026-06-18/
LOCATION:Primo on Water Street\, 36 Water Street\, Fall River\, MA\, 02724\, United States
CATEGORIES:Culinary Events
ATTACH;FMTTYPE=image/png:https://www.vivafallriver.com/wp-content/uploads/2026/04/image-25.png
END:VEVENT
BEGIN:VEVENT
DTSTART;TZID=America/New_York:20260625T110000
DTEND;TZID=America/New_York:20260625T213000
DTSTAMP:20260425T221255
CREATED:20260425T204515Z
LAST-MODIFIED:20260425T204522Z
UID:10021632-1782385200-1782423000@www.vivafallriver.com
SUMMARY:Hot Girl Dinner (Thursdays thru 8/27)
DESCRIPTION:HOT GIRL DINNER MENU  \n\n\n\nBecause dinner should come with a martini… or two  \n\n\n\nIntroducing your new Thursday ritual at Primo on Water Street — a full dinner experience for $25 per person: \n\n\n\n Pick your martini“Just a Drinky Poo” • Nonna’s Espresso Martini • Dirty Martini • Lemon Drop Martini \n\n\n\n Pick your saladSeated Salad Bar (6 toppings) • Primo House • Caesar \n\n\n\n Pick your friesItalian Parmesan Dusted • Plain \n\n\n\n Starting Thursday\, April 30th \n\n\n\n Available ALL DAY every Thursday \n\n\n\n Dine-in onlyGrab your girls\, grab a seat\, and make a night out of it.
URL:https://www.vivafallriver.com/event/hot-girl-dinner-thursdays-thru-8-27/2026-06-25/
LOCATION:Primo on Water Street\, 36 Water Street\, Fall River\, MA\, 02724\, United States
CATEGORIES:Culinary Events
ATTACH;FMTTYPE=image/png:https://www.vivafallriver.com/wp-content/uploads/2026/04/image-25.png
END:VEVENT
BEGIN:VEVENT
DTSTART;TZID=America/New_York:20260702T110000
DTEND;TZID=America/New_York:20260702T213000
DTSTAMP:20260425T221255
CREATED:20260425T204515Z
LAST-MODIFIED:20260425T204522Z
UID:10021633-1782990000-1783027800@www.vivafallriver.com
SUMMARY:Hot Girl Dinner (Thursdays thru 8/27)
DESCRIPTION:HOT GIRL DINNER MENU  \n\n\n\nBecause dinner should come with a martini… or two  \n\n\n\nIntroducing your new Thursday ritual at Primo on Water Street — a full dinner experience for $25 per person: \n\n\n\n Pick your martini“Just a Drinky Poo” • Nonna’s Espresso Martini • Dirty Martini • Lemon Drop Martini \n\n\n\n Pick your saladSeated Salad Bar (6 toppings) • Primo House • Caesar \n\n\n\n Pick your friesItalian Parmesan Dusted • Plain \n\n\n\n Starting Thursday\, April 30th \n\n\n\n Available ALL DAY every Thursday \n\n\n\n Dine-in onlyGrab your girls\, grab a seat\, and make a night out of it.
URL:https://www.vivafallriver.com/event/hot-girl-dinner-thursdays-thru-8-27/2026-07-02/
LOCATION:Primo on Water Street\, 36 Water Street\, Fall River\, MA\, 02724\, United States
CATEGORIES:Culinary Events
ATTACH;FMTTYPE=image/png:https://www.vivafallriver.com/wp-content/uploads/2026/04/image-25.png
END:VEVENT
BEGIN:VEVENT
DTSTART;TZID=America/New_York:20260709T110000
DTEND;TZID=America/New_York:20260709T213000
DTSTAMP:20260425T221255
CREATED:20260425T204515Z
LAST-MODIFIED:20260425T204522Z
UID:10021634-1783594800-1783632600@www.vivafallriver.com
SUMMARY:Hot Girl Dinner (Thursdays thru 8/27)
DESCRIPTION:HOT GIRL DINNER MENU  \n\n\n\nBecause dinner should come with a martini… or two  \n\n\n\nIntroducing your new Thursday ritual at Primo on Water Street — a full dinner experience for $25 per person: \n\n\n\n Pick your martini“Just a Drinky Poo” • Nonna’s Espresso Martini • Dirty Martini • Lemon Drop Martini \n\n\n\n Pick your saladSeated Salad Bar (6 toppings) • Primo House • Caesar \n\n\n\n Pick your friesItalian Parmesan Dusted • Plain \n\n\n\n Starting Thursday\, April 30th \n\n\n\n Available ALL DAY every Thursday \n\n\n\n Dine-in onlyGrab your girls\, grab a seat\, and make a night out of it.
URL:https://www.vivafallriver.com/event/hot-girl-dinner-thursdays-thru-8-27/2026-07-09/
LOCATION:Primo on Water Street\, 36 Water Street\, Fall River\, MA\, 02724\, United States
CATEGORIES:Culinary Events
ATTACH;FMTTYPE=image/png:https://www.vivafallriver.com/wp-content/uploads/2026/04/image-25.png
END:VEVENT
BEGIN:VEVENT
DTSTART;TZID=America/New_York:20260716T110000
DTEND;TZID=America/New_York:20260716T213000
DTSTAMP:20260425T221255
CREATED:20260425T204515Z
LAST-MODIFIED:20260425T204522Z
UID:10021635-1784199600-1784237400@www.vivafallriver.com
SUMMARY:Hot Girl Dinner (Thursdays thru 8/27)
DESCRIPTION:HOT GIRL DINNER MENU  \n\n\n\nBecause dinner should come with a martini… or two  \n\n\n\nIntroducing your new Thursday ritual at Primo on Water Street — a full dinner experience for $25 per person: \n\n\n\n Pick your martini“Just a Drinky Poo” • Nonna’s Espresso Martini • Dirty Martini • Lemon Drop Martini \n\n\n\n Pick your saladSeated Salad Bar (6 toppings) • Primo House • Caesar \n\n\n\n Pick your friesItalian Parmesan Dusted • Plain \n\n\n\n Starting Thursday\, April 30th \n\n\n\n Available ALL DAY every Thursday \n\n\n\n Dine-in onlyGrab your girls\, grab a seat\, and make a night out of it.
URL:https://www.vivafallriver.com/event/hot-girl-dinner-thursdays-thru-8-27/2026-07-16/
LOCATION:Primo on Water Street\, 36 Water Street\, Fall River\, MA\, 02724\, United States
CATEGORIES:Culinary Events
ATTACH;FMTTYPE=image/png:https://www.vivafallriver.com/wp-content/uploads/2026/04/image-25.png
END:VEVENT
BEGIN:VEVENT
DTSTART;TZID=America/New_York:20260723T110000
DTEND;TZID=America/New_York:20260723T213000
DTSTAMP:20260425T221255
CREATED:20260425T204515Z
LAST-MODIFIED:20260425T204522Z
UID:10021636-1784804400-1784842200@www.vivafallriver.com
SUMMARY:Hot Girl Dinner (Thursdays thru 8/27)
DESCRIPTION:HOT GIRL DINNER MENU  \n\n\n\nBecause dinner should come with a martini… or two  \n\n\n\nIntroducing your new Thursday ritual at Primo on Water Street — a full dinner experience for $25 per person: \n\n\n\n Pick your martini“Just a Drinky Poo” • Nonna’s Espresso Martini • Dirty Martini • Lemon Drop Martini \n\n\n\n Pick your saladSeated Salad Bar (6 toppings) • Primo House • Caesar \n\n\n\n Pick your friesItalian Parmesan Dusted • Plain \n\n\n\n Starting Thursday\, April 30th \n\n\n\n Available ALL DAY every Thursday \n\n\n\n Dine-in onlyGrab your girls\, grab a seat\, and make a night out of it.
URL:https://www.vivafallriver.com/event/hot-girl-dinner-thursdays-thru-8-27/2026-07-23/
LOCATION:Primo on Water Street\, 36 Water Street\, Fall River\, MA\, 02724\, United States
CATEGORIES:Culinary Events
ATTACH;FMTTYPE=image/png:https://www.vivafallriver.com/wp-content/uploads/2026/04/image-25.png
END:VEVENT
BEGIN:VEVENT
DTSTART;TZID=America/New_York:20260730T110000
DTEND;TZID=America/New_York:20260730T213000
DTSTAMP:20260425T221255
CREATED:20260425T204515Z
LAST-MODIFIED:20260425T204522Z
UID:10021637-1785409200-1785447000@www.vivafallriver.com
SUMMARY:Hot Girl Dinner (Thursdays thru 8/27)
DESCRIPTION:HOT GIRL DINNER MENU  \n\n\n\nBecause dinner should come with a martini… or two  \n\n\n\nIntroducing your new Thursday ritual at Primo on Water Street — a full dinner experience for $25 per person: \n\n\n\n Pick your martini“Just a Drinky Poo” • Nonna’s Espresso Martini • Dirty Martini • Lemon Drop Martini \n\n\n\n Pick your saladSeated Salad Bar (6 toppings) • Primo House • Caesar \n\n\n\n Pick your friesItalian Parmesan Dusted • Plain \n\n\n\n Starting Thursday\, April 30th \n\n\n\n Available ALL DAY every Thursday \n\n\n\n Dine-in onlyGrab your girls\, grab a seat\, and make a night out of it.
URL:https://www.vivafallriver.com/event/hot-girl-dinner-thursdays-thru-8-27/2026-07-30/
LOCATION:Primo on Water Street\, 36 Water Street\, Fall River\, MA\, 02724\, United States
CATEGORIES:Culinary Events
ATTACH;FMTTYPE=image/png:https://www.vivafallriver.com/wp-content/uploads/2026/04/image-25.png
END:VEVENT
BEGIN:VEVENT
DTSTART;TZID=America/New_York:20260806T110000
DTEND;TZID=America/New_York:20260806T213000
DTSTAMP:20260425T221255
CREATED:20260425T204515Z
LAST-MODIFIED:20260425T204522Z
UID:10021638-1786014000-1786051800@www.vivafallriver.com
SUMMARY:Hot Girl Dinner (Thursdays thru 8/27)
DESCRIPTION:HOT GIRL DINNER MENU  \n\n\n\nBecause dinner should come with a martini… or two  \n\n\n\nIntroducing your new Thursday ritual at Primo on Water Street — a full dinner experience for $25 per person: \n\n\n\n Pick your martini“Just a Drinky Poo” • Nonna’s Espresso Martini • Dirty Martini • Lemon Drop Martini \n\n\n\n Pick your saladSeated Salad Bar (6 toppings) • Primo House • Caesar \n\n\n\n Pick your friesItalian Parmesan Dusted • Plain \n\n\n\n Starting Thursday\, April 30th \n\n\n\n Available ALL DAY every Thursday \n\n\n\n Dine-in onlyGrab your girls\, grab a seat\, and make a night out of it.
URL:https://www.vivafallriver.com/event/hot-girl-dinner-thursdays-thru-8-27/2026-08-06/
LOCATION:Primo on Water Street\, 36 Water Street\, Fall River\, MA\, 02724\, United States
CATEGORIES:Culinary Events
ATTACH;FMTTYPE=image/png:https://www.vivafallriver.com/wp-content/uploads/2026/04/image-25.png
END:VEVENT
BEGIN:VEVENT
DTSTART;TZID=America/New_York:20260813T110000
DTEND;TZID=America/New_York:20260813T213000
DTSTAMP:20260425T221255
CREATED:20260425T204515Z
LAST-MODIFIED:20260425T204522Z
UID:10021639-1786618800-1786656600@www.vivafallriver.com
SUMMARY:Hot Girl Dinner (Thursdays thru 8/27)
DESCRIPTION:HOT GIRL DINNER MENU  \n\n\n\nBecause dinner should come with a martini… or two  \n\n\n\nIntroducing your new Thursday ritual at Primo on Water Street — a full dinner experience for $25 per person: \n\n\n\n Pick your martini“Just a Drinky Poo” • Nonna’s Espresso Martini • Dirty Martini • Lemon Drop Martini \n\n\n\n Pick your saladSeated Salad Bar (6 toppings) • Primo House • Caesar \n\n\n\n Pick your friesItalian Parmesan Dusted • Plain \n\n\n\n Starting Thursday\, April 30th \n\n\n\n Available ALL DAY every Thursday \n\n\n\n Dine-in onlyGrab your girls\, grab a seat\, and make a night out of it.
URL:https://www.vivafallriver.com/event/hot-girl-dinner-thursdays-thru-8-27/2026-08-13/
LOCATION:Primo on Water Street\, 36 Water Street\, Fall River\, MA\, 02724\, United States
CATEGORIES:Culinary Events
ATTACH;FMTTYPE=image/png:https://www.vivafallriver.com/wp-content/uploads/2026/04/image-25.png
END:VEVENT
BEGIN:VEVENT
DTSTART;TZID=America/New_York:20260820T110000
DTEND;TZID=America/New_York:20260820T213000
DTSTAMP:20260425T221255
CREATED:20260425T204515Z
LAST-MODIFIED:20260425T204522Z
UID:10021640-1787223600-1787261400@www.vivafallriver.com
SUMMARY:Hot Girl Dinner (Thursdays thru 8/27)
DESCRIPTION:HOT GIRL DINNER MENU  \n\n\n\nBecause dinner should come with a martini… or two  \n\n\n\nIntroducing your new Thursday ritual at Primo on Water Street — a full dinner experience for $25 per person: \n\n\n\n Pick your martini“Just a Drinky Poo” • Nonna’s Espresso Martini • Dirty Martini • Lemon Drop Martini \n\n\n\n Pick your saladSeated Salad Bar (6 toppings) • Primo House • Caesar \n\n\n\n Pick your friesItalian Parmesan Dusted • Plain \n\n\n\n Starting Thursday\, April 30th \n\n\n\n Available ALL DAY every Thursday \n\n\n\n Dine-in onlyGrab your girls\, grab a seat\, and make a night out of it.
URL:https://www.vivafallriver.com/event/hot-girl-dinner-thursdays-thru-8-27/2026-08-20/
LOCATION:Primo on Water Street\, 36 Water Street\, Fall River\, MA\, 02724\, United States
CATEGORIES:Culinary Events
ATTACH;FMTTYPE=image/png:https://www.vivafallriver.com/wp-content/uploads/2026/04/image-25.png
END:VEVENT
BEGIN:VEVENT
DTSTART;TZID=America/New_York:20260827T110000
DTEND;TZID=America/New_York:20260827T213000
DTSTAMP:20260425T221255
CREATED:20260425T204515Z
LAST-MODIFIED:20260425T204522Z
UID:10021641-1787828400-1787866200@www.vivafallriver.com
SUMMARY:Hot Girl Dinner (Thursdays thru 8/27)
DESCRIPTION:HOT GIRL DINNER MENU  \n\n\n\nBecause dinner should come with a martini… or two  \n\n\n\nIntroducing your new Thursday ritual at Primo on Water Street — a full dinner experience for $25 per person: \n\n\n\n Pick your martini“Just a Drinky Poo” • Nonna’s Espresso Martini • Dirty Martini • Lemon Drop Martini \n\n\n\n Pick your saladSeated Salad Bar (6 toppings) • Primo House • Caesar \n\n\n\n Pick your friesItalian Parmesan Dusted • Plain \n\n\n\n Starting Thursday\, April 30th \n\n\n\n Available ALL DAY every Thursday \n\n\n\n Dine-in onlyGrab your girls\, grab a seat\, and make a night out of it.
URL:https://www.vivafallriver.com/event/hot-girl-dinner-thursdays-thru-8-27/2026-08-27/
LOCATION:Primo on Water Street\, 36 Water Street\, Fall River\, MA\, 02724\, United States
CATEGORIES:Culinary Events
ATTACH;FMTTYPE=image/png:https://www.vivafallriver.com/wp-content/uploads/2026/04/image-25.png
END:VEVENT
END:VCALENDAR