BEGIN:VCALENDAR
VERSION:2.0
PRODID:-//Viva Fall River - ECPv6.15.18//NONSGML v1.0//EN
CALSCALE:GREGORIAN
METHOD:PUBLISH
X-WR-CALNAME:Viva Fall River
X-ORIGINAL-URL:https://www.vivafallriver.com
X-WR-CALDESC:Events for Viva Fall River
REFRESH-INTERVAL;VALUE=DURATION:PT1H
X-Robots-Tag:noindex
X-PUBLISHED-TTL:PT1H
BEGIN:VTIMEZONE
TZID:America/New_York
BEGIN:DAYLIGHT
TZOFFSETFROM:-0500
TZOFFSETTO:-0400
TZNAME:EDT
DTSTART:20250309T070000
END:DAYLIGHT
BEGIN:STANDARD
TZOFFSETFROM:-0400
TZOFFSETTO:-0500
TZNAME:EST
DTSTART:20251102T060000
END:STANDARD
BEGIN:DAYLIGHT
TZOFFSETFROM:-0500
TZOFFSETTO:-0400
TZNAME:EDT
DTSTART:20260308T070000
END:DAYLIGHT
BEGIN:STANDARD
TZOFFSETFROM:-0400
TZOFFSETTO:-0500
TZNAME:EST
DTSTART:20261101T060000
END:STANDARD
BEGIN:DAYLIGHT
TZOFFSETFROM:-0500
TZOFFSETTO:-0400
TZNAME:EDT
DTSTART:20270314T070000
END:DAYLIGHT
BEGIN:STANDARD
TZOFFSETFROM:-0400
TZOFFSETTO:-0500
TZNAME:EST
DTSTART:20271107T060000
END:STANDARD
END:VTIMEZONE
BEGIN:VEVENT
DTSTART;TZID=America/New_York:20260505T110000
DTEND;TZID=America/New_York:20260505T210000
DTSTAMP:20260425T232324
CREATED:20260425T204055Z
LAST-MODIFIED:20260425T204102Z
UID:10021619-1777978800-1778014800@www.vivafallriver.com
SUMMARY:Pasta Flights (Tuesdays in May)
DESCRIPTION:Experience the taste of Italy with a trio of Italian-American classics served in perfect tasting portions.Join us every Tuesday and choose your flight: \n\n\n\n Traditional Flight – Fettuccine Alfredo\, Penne alla Vodka\, Spaghetti & Meatballs \n\n\n\n Chef’s Flight – Cacio e Pepe\, Spicy Rigatoni\, Fettuccine with Mushroom Cream SaucePerfect for date night\, girls’ night\, or when you just can’t pick one pasta.
URL:https://www.vivafallriver.com/event/pasta-flights-tuesdays-in-may/2026-05-05/
LOCATION:Primo on Water Street\, 36 Water Street\, Fall River\, MA\, 02724\, United States
CATEGORIES:Culinary Events
ATTACH;FMTTYPE=image/png:https://www.vivafallriver.com/wp-content/uploads/2026/04/image-22.png
END:VEVENT
BEGIN:VEVENT
DTSTART;TZID=America/New_York:20260512T110000
DTEND;TZID=America/New_York:20260512T210000
DTSTAMP:20260425T232324
CREATED:20260425T204055Z
LAST-MODIFIED:20260425T204102Z
UID:10021620-1778583600-1778619600@www.vivafallriver.com
SUMMARY:Pasta Flights (Tuesdays in May)
DESCRIPTION:Experience the taste of Italy with a trio of Italian-American classics served in perfect tasting portions.Join us every Tuesday and choose your flight: \n\n\n\n Traditional Flight – Fettuccine Alfredo\, Penne alla Vodka\, Spaghetti & Meatballs \n\n\n\n Chef’s Flight – Cacio e Pepe\, Spicy Rigatoni\, Fettuccine with Mushroom Cream SaucePerfect for date night\, girls’ night\, or when you just can’t pick one pasta.
URL:https://www.vivafallriver.com/event/pasta-flights-tuesdays-in-may/2026-05-12/
LOCATION:Primo on Water Street\, 36 Water Street\, Fall River\, MA\, 02724\, United States
CATEGORIES:Culinary Events
ATTACH;FMTTYPE=image/png:https://www.vivafallriver.com/wp-content/uploads/2026/04/image-22.png
END:VEVENT
BEGIN:VEVENT
DTSTART;TZID=America/New_York:20260519T110000
DTEND;TZID=America/New_York:20260519T210000
DTSTAMP:20260425T232324
CREATED:20260425T204055Z
LAST-MODIFIED:20260425T204102Z
UID:10021621-1779188400-1779224400@www.vivafallriver.com
SUMMARY:Pasta Flights (Tuesdays in May)
DESCRIPTION:Experience the taste of Italy with a trio of Italian-American classics served in perfect tasting portions.Join us every Tuesday and choose your flight: \n\n\n\n Traditional Flight – Fettuccine Alfredo\, Penne alla Vodka\, Spaghetti & Meatballs \n\n\n\n Chef’s Flight – Cacio e Pepe\, Spicy Rigatoni\, Fettuccine with Mushroom Cream SaucePerfect for date night\, girls’ night\, or when you just can’t pick one pasta.
URL:https://www.vivafallriver.com/event/pasta-flights-tuesdays-in-may/2026-05-19/
LOCATION:Primo on Water Street\, 36 Water Street\, Fall River\, MA\, 02724\, United States
CATEGORIES:Culinary Events
ATTACH;FMTTYPE=image/png:https://www.vivafallriver.com/wp-content/uploads/2026/04/image-22.png
END:VEVENT
BEGIN:VEVENT
DTSTART;TZID=America/New_York:20260526T110000
DTEND;TZID=America/New_York:20260526T210000
DTSTAMP:20260425T232324
CREATED:20260425T204055Z
LAST-MODIFIED:20260425T204102Z
UID:10021622-1779793200-1779829200@www.vivafallriver.com
SUMMARY:Pasta Flights (Tuesdays in May)
DESCRIPTION:Experience the taste of Italy with a trio of Italian-American classics served in perfect tasting portions.Join us every Tuesday and choose your flight: \n\n\n\n Traditional Flight – Fettuccine Alfredo\, Penne alla Vodka\, Spaghetti & Meatballs \n\n\n\n Chef’s Flight – Cacio e Pepe\, Spicy Rigatoni\, Fettuccine with Mushroom Cream SaucePerfect for date night\, girls’ night\, or when you just can’t pick one pasta.
URL:https://www.vivafallriver.com/event/pasta-flights-tuesdays-in-may/2026-05-26/
LOCATION:Primo on Water Street\, 36 Water Street\, Fall River\, MA\, 02724\, United States
CATEGORIES:Culinary Events
ATTACH;FMTTYPE=image/png:https://www.vivafallriver.com/wp-content/uploads/2026/04/image-22.png
END:VEVENT
END:VCALENDAR