BEGIN:VCALENDAR
VERSION:2.0
PRODID:-//Viva Fall River - ECPv6.15.18//NONSGML v1.0//EN
CALSCALE:GREGORIAN
METHOD:PUBLISH
X-WR-CALNAME:Viva Fall River
X-ORIGINAL-URL:https://www.vivafallriver.com
X-WR-CALDESC:Events for Viva Fall River
REFRESH-INTERVAL;VALUE=DURATION:PT1H
X-Robots-Tag:noindex
X-PUBLISHED-TTL:PT1H
BEGIN:VTIMEZONE
TZID:America/New_York
BEGIN:DAYLIGHT
TZOFFSETFROM:-0500
TZOFFSETTO:-0400
TZNAME:EDT
DTSTART:20250309T070000
END:DAYLIGHT
BEGIN:STANDARD
TZOFFSETFROM:-0400
TZOFFSETTO:-0500
TZNAME:EST
DTSTART:20251102T060000
END:STANDARD
BEGIN:DAYLIGHT
TZOFFSETFROM:-0500
TZOFFSETTO:-0400
TZNAME:EDT
DTSTART:20260308T070000
END:DAYLIGHT
BEGIN:STANDARD
TZOFFSETFROM:-0400
TZOFFSETTO:-0500
TZNAME:EST
DTSTART:20261101T060000
END:STANDARD
BEGIN:DAYLIGHT
TZOFFSETFROM:-0500
TZOFFSETTO:-0400
TZNAME:EDT
DTSTART:20270314T070000
END:DAYLIGHT
BEGIN:STANDARD
TZOFFSETFROM:-0400
TZOFFSETTO:-0500
TZNAME:EST
DTSTART:20271107T060000
END:STANDARD
END:VTIMEZONE
BEGIN:VEVENT
DTSTART;TZID=America/New_York:20260404T100000
DTEND;TZID=America/New_York:20260404T100000
DTSTAMP:20260425T164620
CREATED:20260328T184843Z
LAST-MODIFIED:20260328T185121Z
UID:10020489-1775296800-1775296800@www.vivafallriver.com
SUMMARY:Easter Egg Hunt
DESCRIPTION: EASTER EGG HUNT 2026  \n\n\n\nJoin us for a fun-filled morning at Calvary Temple! \n\n\n\n\nAges 1–12\n\n\n\n3\,000+ Easter Eggs\n\n\n\nEaster Story Time\n\n\n\nDon’t forget to bring your own basket!\n\n\n\n\n Rain Date: April 11\, 2026 | 10:00 AM \n\n\n\nBring your family and friends—we can’t wait to celebrate with you!
URL:https://www.vivafallriver.com/event/easter-egg-hunt/
LOCATION:Calvary Temple Assembly of God\, 4321 North Main Street\, Fall River\, MA\, 02720\, United States
CATEGORIES:Family Friendly Events,Holiday,Religious
ATTACH;FMTTYPE=image/png:https://www.vivafallriver.com/wp-content/uploads/2026/03/image-18.png
END:VEVENT
BEGIN:VEVENT
DTSTART;TZID=America/New_York:20260404T083000
DTEND;TZID=America/New_York:20260404T110000
DTSTAMP:20260425T164620
CREATED:20260305T190657Z
LAST-MODIFIED:20260328T133713Z
UID:10019357-1775291400-1775300400@www.vivafallriver.com
SUMMARY:Breakfast with the Easter Bunny
DESCRIPTION:Hop on down to the Battleship Cove to enjoy breakfast with the Easter Bunny! \n\n\n\nEnjoy a pancake breakfast\, crafts\, an Easter scavenger hunt\, and a take-home photo* with our special guest! \n\n\n\nAll tickets include admission to the exhibits for the day. \n\n\n\nAdvance ticket purchase required. Get yours today and save 10% on Early Bird tickets! \n\n\n\nEarly Bird tickets available until March 9th. Full-priced tickets starts March 10th. \n\n\n\nMembers receive 20% off their tickets! \n\n\n\n*includes themed photo folio \n\n\n\n \n\n\n\nTICKETS
URL:https://www.vivafallriver.com/event/brakfast-with-the-easter-bunny/
LOCATION:Battleship Cove\, 5 Water Street\, Fall River\, 02721
CATEGORIES:Family Friendly Events,Holiday
ATTACH;FMTTYPE=image/png:https://www.vivafallriver.com/wp-content/uploads/2026/03/image.png
END:VEVENT
BEGIN:VEVENT
DTSTART;TZID=America/New_York:20260401T120000
DTEND;TZID=America/New_York:20260401T210000
DTSTAMP:20260425T164620
CREATED:20260328T131758Z
LAST-MODIFIED:20260328T131806Z
UID:10019928-1775044800-1775077200@www.vivafallriver.com
SUMMARY:$20 Lobster Rolls All Month
DESCRIPTION:For the entire month of April\, enjoy a New England style Lobster Roll for just $20! Lunch or Dinner!
URL:https://www.vivafallriver.com/event/20-lobster-rolls-all-month/
LOCATION:The Tipsy Toboggan\, 75 Ferry Street\, Fall River\, MA\, United States
CATEGORIES:Culinary Events
ATTACH;FMTTYPE=image/png:https://www.vivafallriver.com/wp-content/uploads/2026/03/image-4.png
END:VEVENT
END:VCALENDAR