BEGIN:VCALENDAR
VERSION:2.0
PRODID:-//Viva Fall River - ECPv6.15.18//NONSGML v1.0//EN
CALSCALE:GREGORIAN
METHOD:PUBLISH
X-ORIGINAL-URL:https://www.vivafallriver.com
X-WR-CALDESC:Events for Viva Fall River
REFRESH-INTERVAL;VALUE=DURATION:PT1H
X-Robots-Tag:noindex
X-PUBLISHED-TTL:PT1H
BEGIN:VTIMEZONE
TZID:America/New_York
BEGIN:DAYLIGHT
TZOFFSETFROM:-0500
TZOFFSETTO:-0400
TZNAME:EDT
DTSTART:20250309T070000
END:DAYLIGHT
BEGIN:STANDARD
TZOFFSETFROM:-0400
TZOFFSETTO:-0500
TZNAME:EST
DTSTART:20251102T060000
END:STANDARD
BEGIN:DAYLIGHT
TZOFFSETFROM:-0500
TZOFFSETTO:-0400
TZNAME:EDT
DTSTART:20260308T070000
END:DAYLIGHT
BEGIN:STANDARD
TZOFFSETFROM:-0400
TZOFFSETTO:-0500
TZNAME:EST
DTSTART:20261101T060000
END:STANDARD
BEGIN:DAYLIGHT
TZOFFSETFROM:-0500
TZOFFSETTO:-0400
TZNAME:EDT
DTSTART:20270314T070000
END:DAYLIGHT
BEGIN:STANDARD
TZOFFSETFROM:-0400
TZOFFSETTO:-0500
TZNAME:EST
DTSTART:20271107T060000
END:STANDARD
END:VTIMEZONE
BEGIN:VEVENT
DTSTART;TZID=America/New_York:20260404T110000
DTEND;TZID=America/New_York:20260404T110000
DTSTAMP:20260425T154734
CREATED:20260307T192404Z
LAST-MODIFIED:20260328T134524Z
UID:10019713-1775300400-1775300400@www.vivafallriver.com
SUMMARY:The Grand Egg Hunt
DESCRIPTION:On April 4th at 11AM\, right after the Battleship Cove Breakfast with the Easter Bunny\, we’re filling the front lawn with thousands of Easter eggs for one of the most exciting spring events around! \n\n\n\nFor $10 per participant\, guests can: \n\n\n\n-Visit with the Easter Bunny \n\n\n\n-Collect eggs throughout the lawn \n\n\n\n-Discover what magical prizes might be hidden inside \n\n\n\nThis isn’t your typical hide-and-seek egg hunt; this is a Collect & Win Egg Hunt! \n\n\n\nEggs may contain surprises ranging from: \n\n\n\n-Visits to the Prize Table \n\n\n\n-Plush friends from the Bear Factory \n\n\n\n-A Year of Carousel Rides \n\n\n\n-Cash\, Gift Cards\, and other amazing prizes \n\n\n\nThis year the Easter Bunny has gone all out! \n\n\n\nLive music from GoodFellow Jazz will be playing in the Starlight Salon from 11AM–2PM\, adding the perfect springtime soundtrack to the celebration. \n\n\n\nLocal businesses interested in helping us stuff eggs and sponsor prizes are welcome to reach out! \n\n\n\nCapacity is not limited and the hunt will continue until every egg is collected. \n\n\n\nPurchase tickets per participant online or the day of: \n\n\n\nwww.FRCarousel.com \n\n\n\nThe Grand Egg Hunt is truly something special — a chance to step away from winter and welcome spring in the most magical way around. \n\n\n\nCome celebrate at Battleship Cove!
URL:https://www.vivafallriver.com/event/the-grand-egg-hunt/
LOCATION:Fall River Carousel\, 5 Water St\, Fall River\, 02721
CATEGORIES:Family Friendly Events,Holiday
ATTACH;FMTTYPE=image/png:https://www.vivafallriver.com/wp-content/uploads/2026/03/image-2.png
END:VEVENT
BEGIN:VEVENT
DTSTART;TZID=America/New_York:20260404T100000
DTEND;TZID=America/New_York:20260404T100000
DTSTAMP:20260425T154734
CREATED:20260328T184843Z
LAST-MODIFIED:20260328T185121Z
UID:10020489-1775296800-1775296800@www.vivafallriver.com
SUMMARY:Easter Egg Hunt
DESCRIPTION: EASTER EGG HUNT 2026  \n\n\n\nJoin us for a fun-filled morning at Calvary Temple! \n\n\n\n\nAges 1–12\n\n\n\n3\,000+ Easter Eggs\n\n\n\nEaster Story Time\n\n\n\nDon’t forget to bring your own basket!\n\n\n\n\n Rain Date: April 11\, 2026 | 10:00 AM \n\n\n\nBring your family and friends—we can’t wait to celebrate with you!
URL:https://www.vivafallriver.com/event/easter-egg-hunt/
LOCATION:Calvary Temple Assembly of God\, 4321 North Main Street\, Fall River\, MA\, 02720\, United States
CATEGORIES:Family Friendly Events,Holiday,Religious
ATTACH;FMTTYPE=image/png:https://www.vivafallriver.com/wp-content/uploads/2026/03/image-18.png
END:VEVENT
BEGIN:VEVENT
DTSTART;TZID=America/New_York:20260404T083000
DTEND;TZID=America/New_York:20260404T110000
DTSTAMP:20260425T154734
CREATED:20260305T190657Z
LAST-MODIFIED:20260328T133713Z
UID:10019357-1775291400-1775300400@www.vivafallriver.com
SUMMARY:Breakfast with the Easter Bunny
DESCRIPTION:Hop on down to the Battleship Cove to enjoy breakfast with the Easter Bunny! \n\n\n\nEnjoy a pancake breakfast\, crafts\, an Easter scavenger hunt\, and a take-home photo* with our special guest! \n\n\n\nAll tickets include admission to the exhibits for the day. \n\n\n\nAdvance ticket purchase required. Get yours today and save 10% on Early Bird tickets! \n\n\n\nEarly Bird tickets available until March 9th. Full-priced tickets starts March 10th. \n\n\n\nMembers receive 20% off their tickets! \n\n\n\n*includes themed photo folio \n\n\n\n \n\n\n\nTICKETS
URL:https://www.vivafallriver.com/event/brakfast-with-the-easter-bunny/
LOCATION:Battleship Cove\, 5 Water Street\, Fall River\, 02721
CATEGORIES:Family Friendly Events,Holiday
ATTACH;FMTTYPE=image/png:https://www.vivafallriver.com/wp-content/uploads/2026/03/image.png
END:VEVENT
BEGIN:VEVENT
DTSTART;TZID=America/New_York:20260403T200000
DTEND;TZID=America/New_York:20260403T220000
DTSTAMP:20260425T154734
CREATED:20260303T010432Z
LAST-MODIFIED:20260303T010432Z
UID:10019166-1775246400-1775253600@www.vivafallriver.com
SUMMARY:Gary Hoey
DESCRIPTION:Friday\, April 3\, 2026\n$43 Advance | $45 Day of Show\n[all-in pricing\, no additional fees]\nDoors 7pm | Show 8pm\n\nRock & blues guitar legend Gary Hoey is touring on his new album Avalanche\, his first album since 2019. “Avalanche” on Wazoo Music Group (Hoey’s own label) features special guest Lita Ford on vocals on “You Know I Would” and Gary’s son\, Ian Hoey\, on “Summer’s Here” and “Dear Mama” which is a tribute to Gary’s mother. Gary says\, “Avalanche is a return to my rock roots. It feels great to turn up the volume and have some fun. This album was a therapeutic album for me. I named the album “Avalanche” because sometimes life feels like one thing hits you after another.\nHoey called on his old friends to help him record\, Matt Scurfield (drums)\, AJ Pappas (bass)\, Ian Hoey (guitar)\, his niece Tayla Lemieux (background vocals). Hoey is hitting the road with his son\, Ian Hoey. “I love to travel and see the fans after the show. And having my son Ian playing guitar by my side is a dream come true. We will be playing the new and the old classics\, Hocus Pocus\, Low Rider and more.” \nHoey’s first break came in 1987 when Ozzy Osbourne showed up in Boston looking for a guitarist. Osborne liked Hoey’s tape enough to fly him to LA for an audition. Ozzy suggested that Gary move to LA. He took Ozzy’s advice and with $17\,000 he saved from teaching guitar\, Hoey loaded the U-Haul and drove across country to LA. In 1992 Hoey released the album “Heavy Bones” on Waner Bros. A short-lived band. In 1993 Hoey released “Animal Instinct” which included a cover of Focus’s hit\, “Hocus Pocus.” It rocketed into the Billboard Top 5\, outpacing all other singles as the most frequently played rock song of the year. It launched Hoey’s career as an instrumental rock guitar hero and got him listed as one of the top 100 guitarists of all time in Guitar\nPlayer Magazine. \n1994 Hoey scored the surf cult classic “Endless Summer II” soundtrack and had another radio hit with War’s “Low Rider.” Other film clients have included Walt Disney films\, ESPN\, New Line Cinema\, scoring the music to “California Screaming” (Disneyland Roller Coaster)\, “Office Space\,” “Deck the Halls” (Danny Devito)\, and Beethoven’s III. \nThese days you can also find Gary on tour with Lou Gramm (voice of Foreigner) in the Lou Gramm All Stars as his guitar player. He recently released a signature beer with AleSmith Brewing Co (San Diego CA) named after his song “Summer’s Here.” Gary also produced and cowrote with the queen of metal\, Lita Ford\, on her soon to be released album as he did in 2012 on her album “Living Like Runaway.” Gary has toured with Jeff Beck\, Brian May of Queen\, Joe Bonamassa\, Ted Nugent\, Joe Satriani\, The Doobie Brothers\, Foreigner\, Styx and many more.
URL:https://www.vivafallriver.com/event/gary-hoey/
LOCATION:Narrows Center for the Arts\, 16 Anawan St.\, Fall River\, MA
CATEGORIES:Live Music
ATTACH;FMTTYPE=image/jpeg:https://www.vivafallriver.com/wp-content/uploads/2026/02/garyhoey2026.jpeg
END:VEVENT
BEGIN:VEVENT
DTSTART;TZID=America/New_York:20260403T180000
DTEND;TZID=America/New_York:20260403T200000
DTSTAMP:20260425T154734
CREATED:20260328T182947Z
LAST-MODIFIED:20260328T182957Z
UID:10020468-1775239200-1775246400@www.vivafallriver.com
SUMMARY:Body Butter Making Class
DESCRIPTION:TICKETS
URL:https://www.vivafallriver.com/event/body-butter-making-class/
LOCATION:SoCo Art Labs\, 418 Quequechan St. 2nd floor\, Fall River\, MA\, 02721
CATEGORIES:Health & Wellness,Workshops & Classes
ATTACH;FMTTYPE=image/png:https://www.vivafallriver.com/wp-content/uploads/2026/03/image-13.png
END:VEVENT
BEGIN:VEVENT
DTSTART;TZID=America/New_York:20260403T173000
DTEND;TZID=America/New_York:20260403T193000
DTSTAMP:20260425T154734
CREATED:20260328T182620Z
LAST-MODIFIED:20260328T182627Z
UID:10020466-1775237400-1775244600@www.vivafallriver.com
SUMMARY:Cece's Closet Bootique Customes Release Party
DESCRIPTION:We are super excited to celebrate the release of our first custom collection!! Come check it out\, shop\, snack & kids can play! \n\n\n\nCome by yourself OR bring your kids. If kids come along it’s $16 for their open play session. \n\n\n\nWe will also have an in person live auction
URL:https://www.vivafallriver.com/event/ceces-closet-bootique-customes-release-party/
LOCATION:Little Wanderers Sensory Play\, 418 Quequechan St\, Fall River\, Massachusetts\, 02723\, United States
CATEGORIES:Fundraisers/Community
ATTACH;FMTTYPE=image/png:https://www.vivafallriver.com/wp-content/uploads/2026/03/image-11.png
END:VEVENT
BEGIN:VEVENT
DTSTART;TZID=America/New_York:20260403T170000
DTEND;TZID=America/New_York:20260403T170000
DTSTAMP:20260425T154734
CREATED:20260328T182428Z
LAST-MODIFIED:20260328T182436Z
UID:10020465-1775235600-1775235600@www.vivafallriver.com
SUMMARY:Johnny Botelho (live music)
DESCRIPTION:Johnny Botelho will be setting the vibes from 5-8pm in the taproom. Save the date and enjoy the amazing solo acoustic performance.No Cover – Taproom Open 3:30-10p
URL:https://www.vivafallriver.com/event/johnny-botelho-live-music/
LOCATION:Troy City Brewing\, 16 Anawan Street\, Fall River\, 02721\, United States
CATEGORIES:Live Music
ATTACH;FMTTYPE=image/png:https://www.vivafallriver.com/wp-content/uploads/2026/03/image-10.png
END:VEVENT
BEGIN:VEVENT
DTSTART;TZID=America/New_York:20260403T120000
DTEND;TZID=America/New_York:20260403T220000
DTSTAMP:20260425T154734
CREATED:20260328T182749Z
LAST-MODIFIED:20260328T182958Z
UID:10020467-1775217600-1775253600@www.vivafallriver.com
SUMMARY:Fish Fry Fridays
DESCRIPTION:
URL:https://www.vivafallriver.com/event/fish-fry-fridays/
LOCATION:The Tipsy Toboggan\, 75 Ferry Street\, Fall River\, MA\, United States
CATEGORIES:Culinary Events,Holiday
ATTACH;FMTTYPE=image/png:https://www.vivafallriver.com/wp-content/uploads/2026/03/image-12.png
END:VEVENT
BEGIN:VEVENT
DTSTART;TZID=America/New_York:20260402T200000
DTEND;TZID=America/New_York:20260402T220000
DTSTAMP:20260425T154734
CREATED:20260303T010422Z
LAST-MODIFIED:20260303T010441Z
UID:10019165-1775160000-1775167200@www.vivafallriver.com
SUMMARY:Shelby Means
DESCRIPTION:Thursday\, April 2\, 2026\n$30 Advance | $32 Day of Show\n[all-in pricing\, no additional fees]\nDoors 7pm | Show 8pm\nOpener: Kathleen Parks Band \nBorn in the bluegrass of Kentucky and raised on Wyoming’s high plains\, Shelby Means is one of the foremost bassists in bluegrass\, with nearly two decades of experience in bluegrass\, folk\, rock\, Americana\, and country outfits. Now based in Charleston\, SC\, during her tenure in Nashville she was a member of the GRAMMY-nominated\, incredibly impactful distaff bluegrass band\, Della Mae. Throughout her career she has traveled to nearly 30 countries around the world spreading musical diplomacy.\n\nMeans is also one half of roots duo Sally & George with her husband and collaborator\, Sol Driven Train’s Joel Timmons. With Timmons\, Mary Lucey\, and Billy Cardine\, she co-founded another group\, Lover’s Leap\, a genre blurring\, heart-led Americana band. Means is a member of Molly Tuttle & Golden Highway\, with whom she gained her first GRAMMY win for their 2023 album\, City of Gold. She’s also received more than a handful of awards from the International Bluegrass Music Association for her work with Della Mae and Golden Highway. \nMeans is a driving player with a deep pocket\, a singular stage presence\, and a magnetic\, centered approach to the upright bass. Beyond her work on the instrument\, she’s also an accomplished songwriter and a heartfelt vocalist whose voice is rooted in tradition while authentically her own. With her debut solo music\, slated for release in 2025\, Means invites listeners to experience the same soulful presence and adventurous spirit she has built her career on. Her singing and playing has been heard across the country and around the world\, from NPR’s airwaves\, the Grand Ole Opry\, Bonnaroo\, Telluride Bluegrass Festival\, and Newport Folk to the U.S. Virgin Islands\, Kazakhstan\, Australia\, and beyond. www.shelbyleemeans.com
URL:https://www.vivafallriver.com/event/shelby-means/
LOCATION:Narrows Center for the Arts\, 16 Anawan St.\, Fall River\, MA
CATEGORIES:Live Music
ATTACH;FMTTYPE=image/jpeg:https://www.vivafallriver.com/wp-content/uploads/2026/02/shelbymeans450.jpeg
END:VEVENT
BEGIN:VEVENT
DTSTART;TZID=America/New_York:20260402T183000
DTEND;TZID=America/New_York:20260402T203000
DTSTAMP:20260425T154734
CREATED:20260223T183031Z
LAST-MODIFIED:20260328T132713Z
UID:10018996-1775154600-1775161800@www.vivafallriver.com
SUMMARY:Board Game Night
DESCRIPTION:
URL:https://www.vivafallriver.com/event/board-game-night/
LOCATION:Once Upon a Bookstore\, 418 Quequechan St. 2nd Fl.\, Fall River\, Massachusetts\, 02721
END:VEVENT
BEGIN:VEVENT
DTSTART;TZID=America/New_York:20260402T180000
DTEND;TZID=America/New_York:20260402T220000
DTSTAMP:20260425T154734
CREATED:20260328T182319Z
LAST-MODIFIED:20260328T182327Z
UID:10020464-1775152800-1775167200@www.vivafallriver.com
SUMMARY:Paint Night
DESCRIPTION: Join Us for Paint Night — Tickets Selling Fast! \n\n\n\nThe Drug Awareness Committee of Elks Lodge #118 invites members and guests to an enjoyable evening of creativity and community — but don’t wait… tickets are going quickly! \n\n\n\n Paint Night with Ms. Billie Martel April 2\, 2026 6:00 PM $40 per person (Members & Guests welcome) \n\n\n\nAll proceeds benefit our Drug Awareness Program (DAP). \n\n\n\nSnacks and light appetizers will be available\, along with a cash bar. \n\n\n\nFor tickets or more information\, contact Nancy Carpenter (dap@fallriverelks.org) 508-965-0151 see the lounge bar\, or reach out to a committee member.
URL:https://www.vivafallriver.com/event/paint-night/
LOCATION:Fall River Lodge Of Elks #118\, 4500 N Main St\, Fall River\, Massachusetts\, 02720\, United States
CATEGORIES:Fundraisers/Community,Workshops & Classes
ATTACH;FMTTYPE=image/png:https://www.vivafallriver.com/wp-content/uploads/2026/03/image-9.png
END:VEVENT
BEGIN:VEVENT
DTSTART;TZID=America/New_York:20260401T180000
DTEND;TZID=America/New_York:20260401T180000
DTSTAMP:20260425T154734
CREATED:20260328T181559Z
LAST-MODIFIED:20260328T181725Z
UID:10020197-1775066400-1775066400@www.vivafallriver.com
SUMMARY:Sunflower Coaster Craft Class
DESCRIPTION:Join Stephanie Enloe of Craftyish Shop to create your own set of handmade sunflower coasters!  Made from jute\, felt and yarn\, these adorable coasters will put a smile on your face every time you use them!  All supplies are included. Registration is required. 
URL:https://www.vivafallriver.com/event/80399/
LOCATION:Fall River Public Library\, 104 North Main St\, Fall River\, MA\, 02720
CATEGORIES:Workshops & Classes
ATTACH;FMTTYPE=image/png:https://www.vivafallriver.com/wp-content/uploads/2026/03/image-7-e1774721732870.png
END:VEVENT
BEGIN:VEVENT
DTSTART;TZID=America/New_York:20260401T173000
DTEND;TZID=America/New_York:20260401T184500
DTSTAMP:20260425T154734
CREATED:20260328T181307Z
LAST-MODIFIED:20260328T181315Z
UID:10020196-1775064600-1775069100@www.vivafallriver.com
SUMMARY:Candlelit Slow Flow Beginner Yoga Class (weekly)
DESCRIPTION:Exploring the breath\, movement and stillness. We will move slowly and compassionately thru the asanas in this Beginner-friendly class by candle light. All levels are welcome.
URL:https://www.vivafallriver.com/event/candlelit-slow-flow-beginner-yoga-class-weekly/
LOCATION:Blue Lotus Spa\, 64 Durfee St\, Fall River\, Massachusetts\, 02720
CATEGORIES:Health & Wellness,Workshops & Classes
ATTACH;FMTTYPE=image/png:https://www.vivafallriver.com/wp-content/uploads/2026/03/image-6.png
END:VEVENT
BEGIN:VEVENT
DTSTART;TZID=America/New_York:20260401T170000
DTEND;TZID=America/New_York:20260401T190000
DTSTAMP:20260425T154734
CREATED:20260328T131930Z
LAST-MODIFIED:20260328T134540Z
UID:10019929-1775062800-1775070000@www.vivafallriver.com
SUMMARY:Dinner with the Easter Bunny
DESCRIPTION:Hop on over for a festive evening the whole family will love! Join us at Barrett’s Alehouse Fall River for a special Dinner with the Easter Bunny on April 1st from 5–7 PM. \n\n\n\nBring the kids\, wear your Easter best\, and enjoy a fun night out filled with smiles\, photos\, and great food. \n\n\n\n Snap a photo with the Easter Bunny Dress in your Easter outfits Enjoy dinner with the family \n\n\n\nWhether you’re starting a new spring tradition or just looking for a fun family night\, the Easter Bunny is excited to meet everyone! \n\n\n\n No reservations – first come\, first serve seating.
URL:https://www.vivafallriver.com/event/dinner-with-the-easter-bunny/
LOCATION:Barrett’s Ale House\, 4171 North Main Street\, Fall River\, MA\, 02720\, United States
CATEGORIES:Culinary Events,Holiday
ATTACH;FMTTYPE=image/png:https://www.vivafallriver.com/wp-content/uploads/2026/03/image-5.png
END:VEVENT
BEGIN:VEVENT
DTSTART;TZID=America/New_York:20260401T120000
DTEND;TZID=America/New_York:20260401T210000
DTSTAMP:20260425T154734
CREATED:20260328T131758Z
LAST-MODIFIED:20260328T131806Z
UID:10019928-1775044800-1775077200@www.vivafallriver.com
SUMMARY:$20 Lobster Rolls All Month
DESCRIPTION:For the entire month of April\, enjoy a New England style Lobster Roll for just $20! Lunch or Dinner!
URL:https://www.vivafallriver.com/event/20-lobster-rolls-all-month/
LOCATION:The Tipsy Toboggan\, 75 Ferry Street\, Fall River\, MA\, United States
CATEGORIES:Culinary Events
ATTACH;FMTTYPE=image/png:https://www.vivafallriver.com/wp-content/uploads/2026/03/image-4.png
END:VEVENT
END:VCALENDAR