BEGIN:VCALENDAR
VERSION:2.0
PRODID:-//Viva Fall River - ECPv6.15.18//NONSGML v1.0//EN
CALSCALE:GREGORIAN
METHOD:PUBLISH
X-ORIGINAL-URL:https://www.vivafallriver.com
X-WR-CALDESC:Events for Viva Fall River
REFRESH-INTERVAL;VALUE=DURATION:PT1H
X-Robots-Tag:noindex
X-PUBLISHED-TTL:PT1H
BEGIN:VTIMEZONE
TZID:America/New_York
BEGIN:DAYLIGHT
TZOFFSETFROM:-0500
TZOFFSETTO:-0400
TZNAME:EDT
DTSTART:20270314T070000
END:DAYLIGHT
BEGIN:STANDARD
TZOFFSETFROM:-0400
TZOFFSETTO:-0500
TZNAME:EST
DTSTART:20271107T060000
END:STANDARD
BEGIN:DAYLIGHT
TZOFFSETFROM:-0500
TZOFFSETTO:-0400
TZNAME:EDT
DTSTART:20280312T070000
END:DAYLIGHT
BEGIN:STANDARD
TZOFFSETFROM:-0400
TZOFFSETTO:-0500
TZNAME:EST
DTSTART:20281105T060000
END:STANDARD
BEGIN:DAYLIGHT
TZOFFSETFROM:-0500
TZOFFSETTO:-0400
TZNAME:EDT
DTSTART:20290311T070000
END:DAYLIGHT
BEGIN:STANDARD
TZOFFSETFROM:-0400
TZOFFSETTO:-0500
TZNAME:EST
DTSTART:20291104T060000
END:STANDARD
END:VTIMEZONE
BEGIN:VEVENT
DTSTART;TZID=America/New_York:20280518T200000
DTEND;TZID=America/New_York:20280518T220000
DTSTAMP:20260425T224459
CREATED:20250121T162138Z
LAST-MODIFIED:20260425T193942Z
UID:10020836-1842292800-1842300000@www.vivafallriver.com
SUMMARY:THURSDAY NIGHT TRIVIA
DESCRIPTION:General knowledge trivia with 1st\, 2nd & 3rd place prizes!
URL:https://www.vivafallriver.com/event/thursday-night-trivia/2028-05-18/
LOCATION:Saint James Irish Pub\, 91 Purchase Street\, Fall River\, MA\, 02720\, United States
CATEGORIES:Recreation/Sports Events
ATTACH;FMTTYPE=image/jpeg:https://www.vivafallriver.com/wp-content/uploads/2025/01/TRIVIA.jpg
END:VEVENT
BEGIN:VEVENT
DTSTART;TZID=America/New_York:20280520T100000
DTEND;TZID=America/New_York:20280520T123000
DTSTAMP:20260425T224459
CREATED:20250518T201957Z
LAST-MODIFIED:20251224T145226Z
UID:10015033-1842429600-1842438600@www.vivafallriver.com
SUMMARY:Weekend Brunch
DESCRIPTION:Bring the crew! Enjoy brunch\, mimosas\, bloodys and more!! \n\n\n\nEvery Saturday and Sunday from 10am-1230pm!
URL:https://www.vivafallriver.com/event/weekend-brunch/2028-05-20/
LOCATION:The Tipsy Toboggan\, 75 Ferry Street\, Fall River\, MA\, United States
CATEGORIES:Culinary Events
ATTACH;FMTTYPE=image/jpeg:https://www.vivafallriver.com/wp-content/uploads/2025/05/brunch.jpg
END:VEVENT
BEGIN:VEVENT
DTSTART;TZID=America/New_York:20280520T123000
DTEND;TZID=America/New_York:20280520T123000
DTSTAMP:20260425T224459
CREATED:20251230T005724Z
LAST-MODIFIED:20251230T005730Z
UID:10016053-1842438600-1842438600@www.vivafallriver.com
SUMMARY:Chess Club
DESCRIPTION:Play a game of chess at the library! Chess players at all levels are invited to stop by on Saturday afternoons. Bring your own chess board and pieces\, or we have some available at the desk.
URL:https://www.vivafallriver.com/event/chess-club/2028-05-20/
LOCATION:Fall River Public Library\, 104 North Main St\, Fall River\, MA\, 02720
CATEGORIES:Family Friendly Events,Recreation/Sports Events
ATTACH;FMTTYPE=image/png:https://www.vivafallriver.com/wp-content/uploads/2025/12/image-49.png
END:VEVENT
BEGIN:VEVENT
DTSTART;TZID=America/New_York:20280520T140000
DTEND;TZID=America/New_York:20280520T160000
DTSTAMP:20260425T224459
CREATED:20251230T011810Z
LAST-MODIFIED:20260131T211848Z
UID:10018256-1842444000-1842451200@www.vivafallriver.com
SUMMARY:Open Draw for Teens
DESCRIPTION:Open Draw for Teens provides a space in the library every other Saturday for teens to draw and socialize with other creative peers! Every session we will have ample time to free draw\, and occasionally will host workshops on paper crafts like making zines\, flipbooks\, pop-up comics\, as well as assorted drawing exercises. \n\n\n\nBring your sketchbooks\, drawing pads\, loose paper\, old magazines\, your favorite pens and pencils… whatever it is you use to draw! Some basic materials will also be available to use each session. \n\n\n\nFor teens ages 13 – 18.
URL:https://www.vivafallriver.com/event/open-draw-for-teens/2028-05-20/
LOCATION:Fall River Public Library\, 104 North Main St\, Fall River\, MA\, 02720
CATEGORIES:Family Friendly Events,Workshops & Classes
ATTACH;FMTTYPE=image/jpeg:https://www.vivafallriver.com/wp-content/uploads/2021/10/Fall-River-public-Library.jpg
END:VEVENT
BEGIN:VEVENT
DTSTART;TZID=America/New_York:20280520T200000
DTEND;TZID=America/New_York:20280520T200000
DTSTAMP:20260425T224459
CREATED:20260425T194211Z
LAST-MODIFIED:20260425T194221Z
UID:10020047-1842465600-1842465600@www.vivafallriver.com
SUMMARY:Primo After Dark - Weekly DJ Sets
DESCRIPTION:Turn your Friday night up at Primo After Dark  \n\n\n\n\n\n\n\n\n\n\n\nSip\, dance\, and hang late while our After Dark Food Menu is available from 10PM–12AM.Free entry\, great vibes\, and the perfect late-night scene at Primo on Water Street. \n\n\n\n \n\n\n\nMay 1: DJ Joey Green \n\n\n\nMay 8: DJ Nuno \n\n\n\nMay 15: DJ Austin Campos \n\n\n\nMay 22: DJ Nuno Raposo \n\n\n\nMay 29: DJ Nook
URL:https://www.vivafallriver.com/event/primo-after-dark-weekly-dj-sets-2/2028-05-20/
LOCATION:Primo on Water Street\, 36 Water Street\, Fall River\, MA\, 02724\, United States
CATEGORIES:Live Music
ATTACH;FMTTYPE=image/jpeg:https://www.vivafallriver.com/wp-content/uploads/2025/12/600257701_786931647739597_8906257509503853684_n.jpg
END:VEVENT
BEGIN:VEVENT
DTSTART;TZID=America/New_York:20280521T100000
DTEND;TZID=America/New_York:20280521T140000
DTSTAMP:20260425T224459
CREATED:20251012T190600Z
LAST-MODIFIED:20260425T194238Z
UID:10021097-1842516000-1842530400@www.vivafallriver.com
SUMMARY:Poppin’ Prosecco with Primo! Brunch
DESCRIPTION:We’re Brunching on Sundays at Primo on Water Street—and we’re doing it in style! Join us every Sunday\, from 10 AM – 2 PM for an elevated brunch experience you won’t want to miss. \n\n\n\n Primo Brunch Menu \n\n\n\n Build Your Own Prosecco Bar – $35When Purchased\, your server will give you an official “Primo Prosecco Punch Card” that you can use to refill your glass up to 3 times!Featuring a rainbow of homemade fruit simple syrups\, flavored rims (salt\, sugar\, cinnamon)\, and a variety of fun garnishes to mix\, match\, and create your perfect bubbly!
URL:https://www.vivafallriver.com/event/poppin-prosecco-with-primo-brunch/2028-05-21/
LOCATION:Primo on Water Street\, 36 Water Street\, Fall River\, MA\, 02724\, United States
CATEGORIES:Culinary Events
ATTACH;FMTTYPE=image/png:https://www.vivafallriver.com/wp-content/uploads/2025/10/image-5.png
END:VEVENT
BEGIN:VEVENT
DTSTART;TZID=America/New_York:20280521T160000
DTEND;TZID=America/New_York:20280521T190000
DTSTAMP:20260425T224459
CREATED:20250107T205401Z
LAST-MODIFIED:20260103T204612Z
UID:10016861-1842537600-1842548400@www.vivafallriver.com
SUMMARY:Matt Silva Sunday Funday
DESCRIPTION:Every Sunday meet Matt Silva in the Tipsy Toboggan Lounge. He brings the vocals\, the charm and charisma and you bring your friends! See you there!
URL:https://www.vivafallriver.com/event/matt-silva-sunday-funday/2028-05-21/
LOCATION:The Tipsy Toboggan\, 75 Ferry Street\, Fall River\, MA\, United States
CATEGORIES:Live Music
ATTACH;FMTTYPE=image/jpeg:https://www.vivafallriver.com/wp-content/uploads/2025/01/IMG_2710.jpeg
END:VEVENT
BEGIN:VEVENT
DTSTART;TZID=America/New_York:20280525T180000
DTEND;TZID=America/New_York:20280525T180000
DTSTAMP:20260425T224459
CREATED:20260223T214107Z
LAST-MODIFIED:20260223T214115Z
UID:10019106-1842890400-1842890400@www.vivafallriver.com
SUMMARY:The Banned Book Club
DESCRIPTION:Join The Banned Book Club – a place where we devour literature that has been historically challenged throughout American history. Every 4th Thursday of the month we will discuss what lies beneath these pages and engage in conversation about the importance of the freedom of reading\, which is essential to our democracy. \n\n\n\nDuring our first meeting we will be discussing 1984 by George Orwell. Pick up a copy at the circulation desk!
URL:https://www.vivafallriver.com/event/the-banned-book-club/2028-05-25/
LOCATION:Fall River Public Library\, 104 North Main St\, Fall River\, MA\, 02720
CATEGORIES:Arts & Culture Events,Literary Events
ATTACH;FMTTYPE=image/png:https://www.vivafallriver.com/wp-content/uploads/2026/01/FRPL.png
END:VEVENT
BEGIN:VEVENT
DTSTART;TZID=America/New_York:20280525T180000
DTEND;TZID=America/New_York:20280525T180000
DTSTAMP:20260425T224459
CREATED:20260425T195103Z
LAST-MODIFIED:20260425T195112Z
UID:10021535-1842890400-1842890400@www.vivafallriver.com
SUMMARY:Silent Book Club
DESCRIPTION:Bring along whatever you are currently reading\, and join other readers for Fall River’s very own chapter of Silent Book Club.
URL:https://www.vivafallriver.com/event/silent-book-club-2/2028-05-25/
LOCATION:Once Upon a Bookstore\, 418 Quequechan St. 2nd Fl.\, Fall River\, Massachusetts\, 02721
CATEGORIES:Arts & Culture Events,Workshops & Classes
ATTACH;FMTTYPE=image/png:https://www.vivafallriver.com/wp-content/uploads/2025/09/image-54.png
END:VEVENT
BEGIN:VEVENT
DTSTART;TZID=America/New_York:20280526T080000
DTEND;TZID=America/New_York:20280526T170000
DTSTAMP:20260425T224459
CREATED:20260118T195139Z
LAST-MODIFIED:20260118T195147Z
UID:10012140-1842940800-1842973200@www.vivafallriver.com
SUMMARY:Aging Well: Senior LGBTQ+ Breakfast Club
DESCRIPTION:For South Coast LGBTQ+ individuals ages 60+ \n\n\n\nREGISTER AT: https://tinyurl.com/breakfast-club-fr 
URL:https://www.vivafallriver.com/event/aging-well-senior-lgbtq-breakfast-club-2/2028-05-26/
LOCATION:Munchies\, 4263 North Main Street\, Fall River\, MA\, 02720\, United States
CATEGORIES:Fundraisers/Community
ATTACH;FMTTYPE=image/png:https://www.vivafallriver.com/wp-content/uploads/2025/09/image-55.png
END:VEVENT
BEGIN:VEVENT
DTSTART;TZID=America/New_York:20280529T180000
DTEND;TZID=America/New_York:20280529T190000
DTSTAMP:20260425T224459
CREATED:20251230T012258Z
LAST-MODIFIED:20260425T194354Z
UID:10016608-1843236000-1843239600@www.vivafallriver.com
SUMMARY:Historical Fiction Book Club
DESCRIPTION:Join us on the last Monday of every month from 6:00-7:00 in the meeting room to read\, discuss\, analyze\, review\, and suggest all books Historical Fiction. Drink some tea and enjoy living in another time. 
URL:https://www.vivafallriver.com/event/historical-fiction-book-club/2028-05-29/
LOCATION:Fall River Public Library\, 104 North Main St\, Fall River\, MA\, 02720
CATEGORIES:Workshops & Classes
END:VEVENT
BEGIN:VEVENT
DTSTART;TZID=America/New_York:20280531T180000
DTEND;TZID=America/New_York:20280531T190000
DTSTAMP:20260425T224459
CREATED:20251230T012036Z
LAST-MODIFIED:20260120T204438Z
UID:10016547-1843408800-1843412400@www.vivafallriver.com
SUMMARY:Photography Group
DESCRIPTION:The Fall River Public Library invites all photography enthusiasts to join our new Photography Group. \n\n\n\nOn the last Wednesday of each month\, participants will share their work\, provide feedback\, and join in open discussion about the wonderful art of photography! A monthly\, optional theme will be picked at random to help inspire and prompt our members to make new and exciting work to share each session. Participants are asked to bring in a thumbdrive of their work\, with a selection of 5-10 photos\, if they intend to share with the group that month. \n\n\n\nWhile we gladly accept photographers at all stages of their journeys\, the Photography Group does not offer photography lessons. We do encourage our participants to ask questions about photography\, and to share tips and tricks they’ve learned with each other. \n\n\n\nThis program is intended for photographers ages 13 and up.
URL:https://www.vivafallriver.com/event/photography-group/2028-05-31/
LOCATION:Fall River Public Library\, 104 North Main St\, Fall River\, MA\, 02720
CATEGORIES:Workshops & Classes
ATTACH;FMTTYPE=image/png:https://www.vivafallriver.com/wp-content/uploads/2025/12/image-59.png
END:VEVENT
BEGIN:VEVENT
DTSTART;TZID=America/New_York:20280601T080000
DTEND;TZID=America/New_York:20280601T170000
DTSTAMP:20260425T224500
CREATED:20260131T214449Z
LAST-MODIFIED:20260131T214502Z
UID:10018541-1843459200-1843491600@www.vivafallriver.com
SUMMARY:Teen Game Night
DESCRIPTION:Gamers unite for Teen Game Night!!! \n\n\n\nEvery first Thursday of the month\, teens are invited to the Fall River Public Library to play all sorts of collaborative and competitive multiplayer video games on the library projector. Show off your skills\, learn about games new and old\, and most importantly… have a blast!! \n\n\n\nFor teens ages 13 – 18.
URL:https://www.vivafallriver.com/event/teen-game-night/2028-06-01/
LOCATION:Fall River Public Library\, 104 North Main St\, Fall River\, MA\, 02720
CATEGORIES:Family Friendly Events
ATTACH;FMTTYPE=image/png:https://www.vivafallriver.com/wp-content/uploads/2026/01/FRPL.png
END:VEVENT
BEGIN:VEVENT
DTSTART;TZID=America/New_York:20280601T190000
DTEND;TZID=America/New_York:20280601T220000
DTSTAMP:20260425T224500
CREATED:20260425T193807Z
LAST-MODIFIED:20260425T193816Z
UID:10018851-1843498800-1843509600@www.vivafallriver.com
SUMMARY:Open Mic Night
DESCRIPTION:
URL:https://www.vivafallriver.com/event/open-mic-night-2/2028-06-01/
LOCATION:The Belmont Club\, 34 Franklin Street\, Fall River
CATEGORIES:Fundraisers/Community,Live Music
ATTACH;FMTTYPE=image/png:https://www.vivafallriver.com/wp-content/uploads/2026/02/image-7.png
END:VEVENT
BEGIN:VEVENT
DTSTART;TZID=America/New_York:20280607T180000
DTEND;TZID=America/New_York:20280607T180000
DTSTAMP:20260425T224500
CREATED:20251230T010225Z
LAST-MODIFIED:20260131T210851Z
UID:10016480-1844013600-1844013600@www.vivafallriver.com
SUMMARY:English Conversation Group
DESCRIPTION:Learning to speak English can be a challenge. Come practice with us in the Nagle Room. Join our English Conversation Club and practice your speaking and listening skills. Beginners are welcome to join!
URL:https://www.vivafallriver.com/event/english-conversation-group/2028-06-07/
LOCATION:Fall River Public Library\, 104 North Main St\, Fall River\, MA\, 02720
CATEGORIES:Fundraisers/Community
END:VEVENT
BEGIN:VEVENT
DTSTART;TZID=America/New_York:20280608T180000
DTEND;TZID=America/New_York:20280608T190000
DTSTAMP:20260425T224500
CREATED:20260425T212327Z
LAST-MODIFIED:20260425T212334Z
UID:10021689-1844100000-1844103600@www.vivafallriver.com
SUMMARY:YA Comics Club
DESCRIPTION:CALLING ALL teenage COMICS ENTHUSIASTS!!!! Do you like comics? Graphics novels? Manga? Webcomics? Some other combination of pictures and words?? Then the Young Adult Comics Club is the place for you! \n\n\n\nThe second Thursday of each month we meet to discuss all things comics – making\, thinking\, reading\, sharing\, etc. Share your favorite manga with peers! Show off the comic you’ve been making to other comic artists! Finally start that cool comic idea you’ve been meaning to draw! Learn what comics are all about!!! \n\n\n\nEach month we will have an optional comic prompt to make and share for the following meeting. Make us some words and pictures!! \n\n\n\nFor teens ages 13 – 18.
URL:https://www.vivafallriver.com/event/ya-comics-club/2028-06-08/
LOCATION:Fall River Public Library\, 104 North Main St\, Fall River\, MA\, 02720
CATEGORIES:Arts & Culture Events,Family Friendly Events,Other
ATTACH;FMTTYPE=image/png:https://www.vivafallriver.com/wp-content/uploads/2026/01/FRPL.png
END:VEVENT
BEGIN:VEVENT
DTSTART;TZID=America/New_York:20280613T183000
DTEND;TZID=America/New_York:20280613T200000
DTSTAMP:20260425T224500
CREATED:20260102T004315Z
LAST-MODIFIED:20260102T004326Z
UID:10016692-1844533800-1844539200@www.vivafallriver.com
SUMMARY:Monthly Artists Share!
DESCRIPTION:Get feedback on your work and meet local creatives at this Monthly Artists Share! group\, facilitated by Midori Creativity.\n\n\n\nArtists Share! is a place to share your creative work\, get support and feedback\, and be part of a wonderful discussion. Hosted by Midori Creativity\, we’re all about cross-pollination welcoming painters\, jewelry makers\, fiber artists\, photographers\, musicians\, scultptors and more. Our exhibit\, Creative Catalysts\, celebrates the interplay and creative exploration that happens when artists of different genres work together. \nAnyone is welcome and we take turns sharing. Sometimes we are looking at a body of work and other times we are talking about creative identity. The group meets every month\, aiming to help each other progress and grow in our work by sharing and exploring together. It’s a chance to learn from people whose work may be different from your own but who have insights you could never imagine. We laugh\, share ideas\, and have fun! \nParticipants can also attend via Zoom. Learn more about the program at midoricreativity.com/artistsshare \nThis program is supported in part by a grant from the New Bedford Cultural Council\, a local agency which is supported by the Massachusetts Cultural Council\, a state agency.
URL:https://www.vivafallriver.com/event/monthly-artists-share/2028-06-13/
LOCATION:Gallery X\, 169 William Street\, New Bedford\, MA\, 02740
CATEGORIES:Arts & Culture Events,Workshops & Classes
ATTACH;FMTTYPE=image/png:https://www.vivafallriver.com/wp-content/uploads/2026/01/Jan-2026.png
ORGANIZER;CN="Midori Creativity":MAILTO:info@midoricreativity.com
END:VEVENT
BEGIN:VEVENT
DTSTART;TZID=America/New_York:20280614T180000
DTEND;TZID=America/New_York:20280614T180000
DTSTAMP:20260425T224500
CREATED:20260131T211235Z
LAST-MODIFIED:20260131T211247Z
UID:10017903-1844618400-1844618400@www.vivafallriver.com
SUMMARY:Writing Group
DESCRIPTION:Welcome all writers! Looking to build a community with creative\, like-minded people? Look no further! We’ll be getting together once a month on the second Wednesday of each month to provide support and feedback and share our love of the craft of writing. Bring your favorite pen!
URL:https://www.vivafallriver.com/event/writing-group/2028-06-14/
LOCATION:Fall River Public Library\, 104 North Main St\, Fall River\, MA\, 02720
CATEGORIES:Workshops & Classes
ATTACH;FMTTYPE=image/png:https://www.vivafallriver.com/wp-content/uploads/2026/01/FRPL.png
END:VEVENT
END:VCALENDAR