BEGIN:VCALENDAR
VERSION:2.0
PRODID:-//Viva Fall River - ECPv6.15.18//NONSGML v1.0//EN
CALSCALE:GREGORIAN
METHOD:PUBLISH
X-ORIGINAL-URL:https://www.vivafallriver.com
X-WR-CALDESC:Events for Viva Fall River
REFRESH-INTERVAL;VALUE=DURATION:PT1H
X-Robots-Tag:noindex
X-PUBLISHED-TTL:PT1H
BEGIN:VTIMEZONE
TZID:America/New_York
BEGIN:DAYLIGHT
TZOFFSETFROM:-0500
TZOFFSETTO:-0400
TZNAME:EDT
DTSTART:20260308T070000
END:DAYLIGHT
BEGIN:STANDARD
TZOFFSETFROM:-0400
TZOFFSETTO:-0500
TZNAME:EST
DTSTART:20261101T060000
END:STANDARD
BEGIN:DAYLIGHT
TZOFFSETFROM:-0500
TZOFFSETTO:-0400
TZNAME:EDT
DTSTART:20270314T070000
END:DAYLIGHT
BEGIN:STANDARD
TZOFFSETFROM:-0400
TZOFFSETTO:-0500
TZNAME:EST
DTSTART:20271107T060000
END:STANDARD
BEGIN:DAYLIGHT
TZOFFSETFROM:-0500
TZOFFSETTO:-0400
TZNAME:EDT
DTSTART:20280312T070000
END:DAYLIGHT
BEGIN:STANDARD
TZOFFSETFROM:-0400
TZOFFSETTO:-0500
TZNAME:EST
DTSTART:20281105T060000
END:STANDARD
END:VTIMEZONE
BEGIN:VEVENT
DTSTART;TZID=America/New_York:20270524T180000
DTEND;TZID=America/New_York:20270524T180000
DTSTAMP:20260420T122225
CREATED:20260202T003230Z
LAST-MODIFIED:20260202T003235Z
UID:10017665-1811181600-1811181600@www.vivafallriver.com
SUMMARY:Silent Book Club
DESCRIPTION:Bring along whatever you are currently reading\, and join other readers for Fall River’s very own chapter of Silent Book Club.
URL:https://www.vivafallriver.com/event/silent-book-club/2027-05-24/
LOCATION:Once Upon a Bookstore\, 418 Quequechan St. 2nd Fl.\, Fall River\, Massachusetts\, 02721
CATEGORIES:Arts & Culture Events,Workshops & Classes
ATTACH;FMTTYPE=image/png:https://www.vivafallriver.com/wp-content/uploads/2025/09/image-54.png
END:VEVENT
BEGIN:VEVENT
DTSTART;TZID=America/New_York:20270527T180000
DTEND;TZID=America/New_York:20270527T180000
DTSTAMP:20260420T122225
CREATED:20260223T214107Z
LAST-MODIFIED:20260223T214115Z
UID:10019094-1811440800-1811440800@www.vivafallriver.com
SUMMARY:The Banned Book Club
DESCRIPTION:Join The Banned Book Club – a place where we devour literature that has been historically challenged throughout American history. Every 4th Thursday of the month we will discuss what lies beneath these pages and engage in conversation about the importance of the freedom of reading\, which is essential to our democracy. \n\n\n\nDuring our first meeting we will be discussing 1984 by George Orwell. Pick up a copy at the circulation desk!
URL:https://www.vivafallriver.com/event/the-banned-book-club/2027-05-27/
LOCATION:Fall River Public Library\, 104 North Main St\, Fall River\, MA\, 02720
CATEGORIES:Arts & Culture Events,Literary Events
ATTACH;FMTTYPE=image/png:https://www.vivafallriver.com/wp-content/uploads/2026/01/FRPL.png
END:VEVENT
BEGIN:VEVENT
DTSTART;TZID=America/New_York:20270630T170000
DTEND;TZID=America/New_York:20270630T190000
DTSTAMP:20260420T122225
CREATED:20250104T005018Z
LAST-MODIFIED:20250116T190347Z
UID:10007533-1814374800-1814382000@www.vivafallriver.com
SUMMARY:Magic: The Gathering Meetup
DESCRIPTION:Our monthly Magic: the Gathering group meets on the last Wednesday of each month.* Come play a few games in the world’s most popular trading card game! Participants are invited to bring their own decks or build their own with a selection of the hundreds of cards we have at the library. Don’t know how to play? We’ll be glad to show you how! \n\n\n\nThis program is intended for teens ages 12 to 18. No prior experience with the game is required to participate. We’ll be meeting in the Fell Reading Room in the library. \n\n\n\n*If the last Wednesday of the month falls on a holiday\, the meetup will be rescheduled\, probably to the week before. Please check our calendar to be sure.
URL:https://www.vivafallriver.com/event/magic-the-gathering-meetup/2027-06-30/
LOCATION:Fall River Public Library\, 104 North Main St\, Fall River\, MA\, 02720
CATEGORIES:Family Friendly Events
ATTACH;FMTTYPE=image/png:https://www.vivafallriver.com/wp-content/uploads/2025/01/IMG_2706.png
END:VEVENT
END:VCALENDAR