BEGIN:VCALENDAR
VERSION:2.0
PRODID:-//Viva Fall River - ECPv6.15.18//NONSGML v1.0//EN
CALSCALE:GREGORIAN
METHOD:PUBLISH
X-ORIGINAL-URL:https://www.vivafallriver.com
X-WR-CALDESC:Events for Viva Fall River
REFRESH-INTERVAL;VALUE=DURATION:PT1H
X-Robots-Tag:noindex
X-PUBLISHED-TTL:PT1H
BEGIN:VTIMEZONE
TZID:America/New_York
BEGIN:DAYLIGHT
TZOFFSETFROM:-0500
TZOFFSETTO:-0400
TZNAME:EDT
DTSTART:20260308T070000
END:DAYLIGHT
BEGIN:STANDARD
TZOFFSETFROM:-0400
TZOFFSETTO:-0500
TZNAME:EST
DTSTART:20261101T060000
END:STANDARD
BEGIN:DAYLIGHT
TZOFFSETFROM:-0500
TZOFFSETTO:-0400
TZNAME:EDT
DTSTART:20270314T070000
END:DAYLIGHT
BEGIN:STANDARD
TZOFFSETFROM:-0400
TZOFFSETTO:-0500
TZNAME:EST
DTSTART:20271107T060000
END:STANDARD
BEGIN:DAYLIGHT
TZOFFSETFROM:-0500
TZOFFSETTO:-0400
TZNAME:EDT
DTSTART:20280312T070000
END:DAYLIGHT
BEGIN:STANDARD
TZOFFSETFROM:-0400
TZOFFSETTO:-0500
TZNAME:EST
DTSTART:20281105T060000
END:STANDARD
END:VTIMEZONE
BEGIN:VEVENT
DTSTART;TZID=America/New_York:20270329T180000
DTEND;TZID=America/New_York:20270329T190000
DTSTAMP:20260420T034714
CREATED:20251230T012258Z
LAST-MODIFIED:20251230T012305Z
UID:10016594-1806343200-1806346800@www.vivafallriver.com
SUMMARY:Historical Fiction Book Club
DESCRIPTION:Join us on the last Monday of every month from 6:00-7:00 in the meeting room to read\, discuss\, analyze\, review\, and suggest all books Historical Fiction. Drink some tea and enjoy living in another time. 
URL:https://www.vivafallriver.com/event/historical-fiction-book-club/2027-03-29/
LOCATION:Fall River Public Library\, 104 North Main St\, Fall River\, MA\, 02720
CATEGORIES:Workshops & Classes
END:VEVENT
BEGIN:VEVENT
DTSTART;TZID=America/New_York:20270331T170000
DTEND;TZID=America/New_York:20270331T190000
DTSTAMP:20260420T034714
CREATED:20250104T005018Z
LAST-MODIFIED:20250116T190347Z
UID:10007532-1806512400-1806519600@www.vivafallriver.com
SUMMARY:Magic: The Gathering Meetup
DESCRIPTION:Our monthly Magic: the Gathering group meets on the last Wednesday of each month.* Come play a few games in the world’s most popular trading card game! Participants are invited to bring their own decks or build their own with a selection of the hundreds of cards we have at the library. Don’t know how to play? We’ll be glad to show you how! \n\n\n\nThis program is intended for teens ages 12 to 18. No prior experience with the game is required to participate. We’ll be meeting in the Fell Reading Room in the library. \n\n\n\n*If the last Wednesday of the month falls on a holiday\, the meetup will be rescheduled\, probably to the week before. Please check our calendar to be sure.
URL:https://www.vivafallriver.com/event/magic-the-gathering-meetup/2027-03-31/
LOCATION:Fall River Public Library\, 104 North Main St\, Fall River\, MA\, 02720
CATEGORIES:Family Friendly Events
ATTACH;FMTTYPE=image/png:https://www.vivafallriver.com/wp-content/uploads/2025/01/IMG_2706.png
END:VEVENT
BEGIN:VEVENT
DTSTART;TZID=America/New_York:20270331T180000
DTEND;TZID=America/New_York:20270331T190000
DTSTAMP:20260420T034714
CREATED:20251230T012036Z
LAST-MODIFIED:20260120T204438Z
UID:10016533-1806516000-1806519600@www.vivafallriver.com
SUMMARY:Photography Group
DESCRIPTION:The Fall River Public Library invites all photography enthusiasts to join our new Photography Group. \n\n\n\nOn the last Wednesday of each month\, participants will share their work\, provide feedback\, and join in open discussion about the wonderful art of photography! A monthly\, optional theme will be picked at random to help inspire and prompt our members to make new and exciting work to share each session. Participants are asked to bring in a thumbdrive of their work\, with a selection of 5-10 photos\, if they intend to share with the group that month. \n\n\n\nWhile we gladly accept photographers at all stages of their journeys\, the Photography Group does not offer photography lessons. We do encourage our participants to ask questions about photography\, and to share tips and tricks they’ve learned with each other. \n\n\n\nThis program is intended for photographers ages 13 and up.
URL:https://www.vivafallriver.com/event/photography-group/2027-03-31/
LOCATION:Fall River Public Library\, 104 North Main St\, Fall River\, MA\, 02720
CATEGORIES:Workshops & Classes
ATTACH;FMTTYPE=image/png:https://www.vivafallriver.com/wp-content/uploads/2025/12/image-59.png
END:VEVENT
END:VCALENDAR