BEGIN:VCALENDAR
VERSION:2.0
PRODID:-//Viva Fall River - ECPv6.15.18//NONSGML v1.0//EN
CALSCALE:GREGORIAN
METHOD:PUBLISH
X-WR-CALNAME:Viva Fall River
X-ORIGINAL-URL:https://www.vivafallriver.com
X-WR-CALDESC:Events for Viva Fall River
REFRESH-INTERVAL;VALUE=DURATION:PT1H
X-Robots-Tag:noindex
X-PUBLISHED-TTL:PT1H
BEGIN:VTIMEZONE
TZID:America/New_York
BEGIN:DAYLIGHT
TZOFFSETFROM:-0500
TZOFFSETTO:-0400
TZNAME:EDT
DTSTART:20260308T070000
END:DAYLIGHT
BEGIN:STANDARD
TZOFFSETFROM:-0400
TZOFFSETTO:-0500
TZNAME:EST
DTSTART:20261101T060000
END:STANDARD
BEGIN:DAYLIGHT
TZOFFSETFROM:-0500
TZOFFSETTO:-0400
TZNAME:EDT
DTSTART:20270314T070000
END:DAYLIGHT
BEGIN:STANDARD
TZOFFSETFROM:-0400
TZOFFSETTO:-0500
TZNAME:EST
DTSTART:20271107T060000
END:STANDARD
BEGIN:DAYLIGHT
TZOFFSETFROM:-0500
TZOFFSETTO:-0400
TZNAME:EDT
DTSTART:20280312T070000
END:DAYLIGHT
BEGIN:STANDARD
TZOFFSETFROM:-0400
TZOFFSETTO:-0500
TZNAME:EST
DTSTART:20281105T060000
END:STANDARD
END:VTIMEZONE
BEGIN:VEVENT
DTSTART;TZID=America/New_York:20270112T183000
DTEND;TZID=America/New_York:20270112T200000
DTSTAMP:20260423T033010
CREATED:20260102T004315Z
LAST-MODIFIED:20260102T004326Z
UID:10016675-1799778600-1799784000@www.vivafallriver.com
SUMMARY:Monthly Artists Share!
DESCRIPTION:Get feedback on your work and meet local creatives at this Monthly Artists Share! group\, facilitated by Midori Creativity.\n\n\n\nArtists Share! is a place to share your creative work\, get support and feedback\, and be part of a wonderful discussion. Hosted by Midori Creativity\, we’re all about cross-pollination welcoming painters\, jewelry makers\, fiber artists\, photographers\, musicians\, scultptors and more. Our exhibit\, Creative Catalysts\, celebrates the interplay and creative exploration that happens when artists of different genres work together. \nAnyone is welcome and we take turns sharing. Sometimes we are looking at a body of work and other times we are talking about creative identity. The group meets every month\, aiming to help each other progress and grow in our work by sharing and exploring together. It’s a chance to learn from people whose work may be different from your own but who have insights you could never imagine. We laugh\, share ideas\, and have fun! \nParticipants can also attend via Zoom. Learn more about the program at midoricreativity.com/artistsshare \nThis program is supported in part by a grant from the New Bedford Cultural Council\, a local agency which is supported by the Massachusetts Cultural Council\, a state agency.
URL:https://www.vivafallriver.com/event/monthly-artists-share/2027-01-12/
LOCATION:Gallery X\, 169 William Street\, New Bedford\, MA\, 02740
CATEGORIES:Arts & Culture Events,Workshops & Classes
ATTACH;FMTTYPE=image/png:https://www.vivafallriver.com/wp-content/uploads/2026/01/Jan-2026.png
ORGANIZER;CN="Midori Creativity":MAILTO:info@midoricreativity.com
END:VEVENT
BEGIN:VEVENT
DTSTART;TZID=America/New_York:20270113T180000
DTEND;TZID=America/New_York:20270113T180000
DTSTAMP:20260423T033010
CREATED:20260131T211235Z
LAST-MODIFIED:20260131T211247Z
UID:10017886-1799863200-1799863200@www.vivafallriver.com
SUMMARY:Writing Group
DESCRIPTION:Welcome all writers! Looking to build a community with creative\, like-minded people? Look no further! We’ll be getting together once a month on the second Wednesday of each month to provide support and feedback and share our love of the craft of writing. Bring your favorite pen!
URL:https://www.vivafallriver.com/event/writing-group/2027-01-13/
LOCATION:Fall River Public Library\, 104 North Main St\, Fall River\, MA\, 02720
CATEGORIES:Workshops & Classes
ATTACH;FMTTYPE=image/png:https://www.vivafallriver.com/wp-content/uploads/2026/01/FRPL.png
END:VEVENT
BEGIN:VEVENT
DTSTART;TZID=America/New_York:20270119T170000
DTEND;TZID=America/New_York:20270119T170000
DTSTAMP:20260423T033010
CREATED:20260131T213835Z
LAST-MODIFIED:20260131T213845Z
UID:10018462-1800378000-1800378000@www.vivafallriver.com
SUMMARY:Middle Grade Book Club
DESCRIPTION:The Children’s Room invites our middle grade readers (ages 8-12) to join our monthly book club! On the third Tuesday of every month\, we will meet to discuss the assigned title which will be chosen from a selection of popular fiction and nonfiction.  \n\n\n\nCopies of the assigned title will be provided for members to keep! Each month’s title and any related materials will be announced and distributed at the end of the previous session.
URL:https://www.vivafallriver.com/event/middle-grade-book-club/2027-01-19/
LOCATION:Fall River Public Library\, 104 North Main St\, Fall River\, MA\, 02720
CATEGORIES:Family Friendly Events
ATTACH;FMTTYPE=image/png:https://www.vivafallriver.com/wp-content/uploads/2026/01/FRPL.png
END:VEVENT
BEGIN:VEVENT
DTSTART;TZID=America/New_York:20270120T140000
DTEND;TZID=America/New_York:20270120T153000
DTSTAMP:20260423T033010
CREATED:20260131T212611Z
LAST-MODIFIED:20260131T212621Z
UID:10018340-1800453600-1800459000@www.vivafallriver.com
SUMMARY:Books & Tea Club
DESCRIPTION:Both returning and new members are invited to join us on the third Wednesday of each month for a different kind of book club–one with no required books to read! Instead\, everyone can share their own recommendations of a book they’re enjoyed recently as we meet for general book chat and afternoon tea. Light refreshments will be served. \n\n\n\nBring your favorite teacup (if you want) and a book or two to share! \n\n\n\nFor questions\, contact Betsy Washburn at 508-324-2700 ext. 3. 
URL:https://www.vivafallriver.com/event/books-tea-club/2027-01-20/
LOCATION:Fall River Public Library\, 104 North Main St\, Fall River\, MA\, 02720
CATEGORIES:Arts & Culture Events
ATTACH;FMTTYPE=image/png:https://www.vivafallriver.com/wp-content/uploads/2026/01/FRPL.png
END:VEVENT
BEGIN:VEVENT
DTSTART;TZID=America/New_York:20270121T180000
DTEND;TZID=America/New_York:20270121T180000
DTSTAMP:20260423T033010
CREATED:20260131T212939Z
LAST-MODIFIED:20260131T212950Z
UID:10018401-1800554400-1800554400@www.vivafallriver.com
SUMMARY:Fantasy & Sci-Fi Book Club
DESCRIPTION:Science fiction and fantasy lovers are invited to join us for our monthly book discussion group! On the third Thursday of each month\, we will meet at 6 pm to talk about a different sci-fi or fantasy book\, ranging from new titles to classics. Each month’s selection will be announced on this calendar and at the previous meeting. \n\n\n\nFor more information\, contact Diana in the Reference Department\, or email dfaulkner@sailsinc.org. 
URL:https://www.vivafallriver.com/event/fantasy-sci-fi-book-club/2027-01-21/
LOCATION:Fall River Public Library\, 104 North Main St\, Fall River\, MA\, 02720
CATEGORIES:Workshops & Classes
ATTACH;FMTTYPE=image/png:https://www.vivafallriver.com/wp-content/uploads/2026/01/FRPL.png
END:VEVENT
END:VCALENDAR