BEGIN:VCALENDAR
VERSION:2.0
PRODID:-//Viva Fall River - ECPv6.15.18//NONSGML v1.0//EN
CALSCALE:GREGORIAN
METHOD:PUBLISH
X-WR-CALNAME:Viva Fall River
X-ORIGINAL-URL:https://www.vivafallriver.com
X-WR-CALDESC:Events for Viva Fall River
REFRESH-INTERVAL;VALUE=DURATION:PT1H
X-Robots-Tag:noindex
X-PUBLISHED-TTL:PT1H
BEGIN:VTIMEZONE
TZID:America/New_York
BEGIN:DAYLIGHT
TZOFFSETFROM:-0500
TZOFFSETTO:-0400
TZNAME:EDT
DTSTART:20270314T070000
END:DAYLIGHT
BEGIN:STANDARD
TZOFFSETFROM:-0400
TZOFFSETTO:-0500
TZNAME:EST
DTSTART:20271107T060000
END:STANDARD
BEGIN:DAYLIGHT
TZOFFSETFROM:-0500
TZOFFSETTO:-0400
TZNAME:EDT
DTSTART:20280312T070000
END:DAYLIGHT
BEGIN:STANDARD
TZOFFSETFROM:-0400
TZOFFSETTO:-0500
TZNAME:EST
DTSTART:20281105T060000
END:STANDARD
BEGIN:DAYLIGHT
TZOFFSETFROM:-0500
TZOFFSETTO:-0400
TZNAME:EDT
DTSTART:20290311T070000
END:DAYLIGHT
BEGIN:STANDARD
TZOFFSETFROM:-0400
TZOFFSETTO:-0500
TZNAME:EST
DTSTART:20291104T060000
END:STANDARD
END:VTIMEZONE
BEGIN:VEVENT
DTSTART;TZID=America/New_York:20280601T080000
DTEND;TZID=America/New_York:20280601T170000
DTSTAMP:20260425T180555
CREATED:20260131T214449Z
LAST-MODIFIED:20260131T214502Z
UID:10018541-1843459200-1843491600@www.vivafallriver.com
SUMMARY:Teen Game Night
DESCRIPTION:Gamers unite for Teen Game Night!!! \n\n\n\nEvery first Thursday of the month\, teens are invited to the Fall River Public Library to play all sorts of collaborative and competitive multiplayer video games on the library projector. Show off your skills\, learn about games new and old\, and most importantly… have a blast!! \n\n\n\nFor teens ages 13 – 18.
URL:https://www.vivafallriver.com/event/teen-game-night/2028-06-01/
LOCATION:Fall River Public Library\, 104 North Main St\, Fall River\, MA\, 02720
CATEGORIES:Family Friendly Events
ATTACH;FMTTYPE=image/png:https://www.vivafallriver.com/wp-content/uploads/2026/01/FRPL.png
END:VEVENT
BEGIN:VEVENT
DTSTART;TZID=America/New_York:20280601T130000
DTEND;TZID=America/New_York:20280601T130000
DTSTAMP:20260425T180555
CREATED:20260131T211404Z
LAST-MODIFIED:20260131T211417Z
UID:10018056-1843477200-1843477200@www.vivafallriver.com
SUMMARY:Knitting Club
DESCRIPTION:Do you like to knit or crochet? Come join a group of fellow crafters – just bring your yarn\, needles\, and yourself. It’s a great way to make friends\, share patterns and tips\, and make progress on your projects. Beginners are welcome and no registration is required.
URL:https://www.vivafallriver.com/event/knitting-club/2028-06-01/
LOCATION:Fall River Public Library\, 104 North Main St\, Fall River\, MA\, 02720
CATEGORIES:Workshops & Classes
ATTACH;FMTTYPE=image/png:https://www.vivafallriver.com/wp-content/uploads/2026/01/FRPL.png
END:VEVENT
BEGIN:VEVENT
DTSTART;TZID=America/New_York:20280601T180000
DTEND;TZID=America/New_York:20280601T210000
DTSTAMP:20260425T180555
CREATED:20250121T221713Z
LAST-MODIFIED:20260118T195533Z
UID:10017512-1843495200-1843506000@www.vivafallriver.com
SUMMARY:Zach Guillette Thursdays
DESCRIPTION:Every Thursday catch Zach and his reggae vibes and chill with us in the taproom! Make friends\, play arcade games and enjoy complimentary popcorn!
URL:https://www.vivafallriver.com/event/zach-guillette-thursdays/2028-06-01/
LOCATION:Canned Heat Craft Beer Co.\, 52 Ferry Street\, Fall River\, MA\, 02724\, United States
CATEGORIES:Live Music
END:VEVENT
BEGIN:VEVENT
DTSTART;TZID=America/New_York:20280601T190000
DTEND;TZID=America/New_York:20280601T220000
DTSTAMP:20260425T180555
CREATED:20260425T193807Z
LAST-MODIFIED:20260425T193816Z
UID:10018851-1843498800-1843509600@www.vivafallriver.com
SUMMARY:Open Mic Night
DESCRIPTION:
URL:https://www.vivafallriver.com/event/open-mic-night-2/2028-06-01/
LOCATION:The Belmont Club\, 34 Franklin Street\, Fall River
CATEGORIES:Fundraisers/Community,Live Music
ATTACH;FMTTYPE=image/png:https://www.vivafallriver.com/wp-content/uploads/2026/02/image-7.png
END:VEVENT
BEGIN:VEVENT
DTSTART;TZID=America/New_York:20280601T200000
DTEND;TZID=America/New_York:20280601T220000
DTSTAMP:20260425T180555
CREATED:20250121T162138Z
LAST-MODIFIED:20260425T193942Z
UID:10020838-1843502400-1843509600@www.vivafallriver.com
SUMMARY:THURSDAY NIGHT TRIVIA
DESCRIPTION:General knowledge trivia with 1st\, 2nd & 3rd place prizes!
URL:https://www.vivafallriver.com/event/thursday-night-trivia/2028-06-01/
LOCATION:Saint James Irish Pub\, 91 Purchase Street\, Fall River\, MA\, 02720\, United States
CATEGORIES:Recreation/Sports Events
ATTACH;FMTTYPE=image/jpeg:https://www.vivafallriver.com/wp-content/uploads/2025/01/TRIVIA.jpg
END:VEVENT
BEGIN:VEVENT
DTSTART;TZID=America/New_York:20280603T100000
DTEND;TZID=America/New_York:20280603T123000
DTSTAMP:20260425T180555
CREATED:20250518T201957Z
LAST-MODIFIED:20251224T145226Z
UID:10015037-1843639200-1843648200@www.vivafallriver.com
SUMMARY:Weekend Brunch
DESCRIPTION:Bring the crew! Enjoy brunch\, mimosas\, bloodys and more!! \n\n\n\nEvery Saturday and Sunday from 10am-1230pm!
URL:https://www.vivafallriver.com/event/weekend-brunch/2028-06-03/
LOCATION:The Tipsy Toboggan\, 75 Ferry Street\, Fall River\, MA\, United States
CATEGORIES:Culinary Events
ATTACH;FMTTYPE=image/jpeg:https://www.vivafallriver.com/wp-content/uploads/2025/05/brunch.jpg
END:VEVENT
BEGIN:VEVENT
DTSTART;TZID=America/New_York:20280603T123000
DTEND;TZID=America/New_York:20280603T123000
DTSTAMP:20260425T180555
CREATED:20251230T005724Z
LAST-MODIFIED:20251230T005730Z
UID:10016055-1843648200-1843648200@www.vivafallriver.com
SUMMARY:Chess Club
DESCRIPTION:Play a game of chess at the library! Chess players at all levels are invited to stop by on Saturday afternoons. Bring your own chess board and pieces\, or we have some available at the desk.
URL:https://www.vivafallriver.com/event/chess-club/2028-06-03/
LOCATION:Fall River Public Library\, 104 North Main St\, Fall River\, MA\, 02720
CATEGORIES:Family Friendly Events,Recreation/Sports Events
ATTACH;FMTTYPE=image/png:https://www.vivafallriver.com/wp-content/uploads/2025/12/image-49.png
END:VEVENT
BEGIN:VEVENT
DTSTART;TZID=America/New_York:20280603T140000
DTEND;TZID=America/New_York:20280603T160000
DTSTAMP:20260425T180555
CREATED:20251230T011810Z
LAST-MODIFIED:20260131T211848Z
UID:10018257-1843653600-1843660800@www.vivafallriver.com
SUMMARY:Open Draw for Teens
DESCRIPTION:Open Draw for Teens provides a space in the library every other Saturday for teens to draw and socialize with other creative peers! Every session we will have ample time to free draw\, and occasionally will host workshops on paper crafts like making zines\, flipbooks\, pop-up comics\, as well as assorted drawing exercises. \n\n\n\nBring your sketchbooks\, drawing pads\, loose paper\, old magazines\, your favorite pens and pencils… whatever it is you use to draw! Some basic materials will also be available to use each session. \n\n\n\nFor teens ages 13 – 18.
URL:https://www.vivafallriver.com/event/open-draw-for-teens/2028-06-03/
LOCATION:Fall River Public Library\, 104 North Main St\, Fall River\, MA\, 02720
CATEGORIES:Family Friendly Events,Workshops & Classes
ATTACH;FMTTYPE=image/jpeg:https://www.vivafallriver.com/wp-content/uploads/2021/10/Fall-River-public-Library.jpg
END:VEVENT
BEGIN:VEVENT
DTSTART;TZID=America/New_York:20280603T200000
DTEND;TZID=America/New_York:20280603T200000
DTSTAMP:20260425T180555
CREATED:20260425T194211Z
LAST-MODIFIED:20260425T194221Z
UID:10020049-1843675200-1843675200@www.vivafallriver.com
SUMMARY:Primo After Dark - Weekly DJ Sets
DESCRIPTION:Turn your Friday night up at Primo After Dark  \n\n\n\n\n\n\n\n\n\n\n\nSip\, dance\, and hang late while our After Dark Food Menu is available from 10PM–12AM.Free entry\, great vibes\, and the perfect late-night scene at Primo on Water Street. \n\n\n\n \n\n\n\nMay 1: DJ Joey Green \n\n\n\nMay 8: DJ Nuno \n\n\n\nMay 15: DJ Austin Campos \n\n\n\nMay 22: DJ Nuno Raposo \n\n\n\nMay 29: DJ Nook
URL:https://www.vivafallriver.com/event/primo-after-dark-weekly-dj-sets-2/2028-06-03/
LOCATION:Primo on Water Street\, 36 Water Street\, Fall River\, MA\, 02724\, United States
CATEGORIES:Live Music
ATTACH;FMTTYPE=image/jpeg:https://www.vivafallriver.com/wp-content/uploads/2025/12/600257701_786931647739597_8906257509503853684_n.jpg
END:VEVENT
BEGIN:VEVENT
DTSTART;TZID=America/New_York:20280604T100000
DTEND;TZID=America/New_York:20280604T123000
DTSTAMP:20260425T180555
CREATED:20250518T201957Z
LAST-MODIFIED:20251224T145226Z
UID:10015038-1843725600-1843734600@www.vivafallriver.com
SUMMARY:Weekend Brunch
DESCRIPTION:Bring the crew! Enjoy brunch\, mimosas\, bloodys and more!! \n\n\n\nEvery Saturday and Sunday from 10am-1230pm!
URL:https://www.vivafallriver.com/event/weekend-brunch/2028-06-04/
LOCATION:The Tipsy Toboggan\, 75 Ferry Street\, Fall River\, MA\, United States
CATEGORIES:Culinary Events
ATTACH;FMTTYPE=image/jpeg:https://www.vivafallriver.com/wp-content/uploads/2025/05/brunch.jpg
END:VEVENT
BEGIN:VEVENT
DTSTART;TZID=America/New_York:20280604T100000
DTEND;TZID=America/New_York:20280604T140000
DTSTAMP:20260425T180555
CREATED:20251012T190600Z
LAST-MODIFIED:20260425T194238Z
UID:10021099-1843725600-1843740000@www.vivafallriver.com
SUMMARY:Poppin’ Prosecco with Primo! Brunch
DESCRIPTION:We’re Brunching on Sundays at Primo on Water Street—and we’re doing it in style! Join us every Sunday\, from 10 AM – 2 PM for an elevated brunch experience you won’t want to miss. \n\n\n\n Primo Brunch Menu \n\n\n\n Build Your Own Prosecco Bar – $35When Purchased\, your server will give you an official “Primo Prosecco Punch Card” that you can use to refill your glass up to 3 times!Featuring a rainbow of homemade fruit simple syrups\, flavored rims (salt\, sugar\, cinnamon)\, and a variety of fun garnishes to mix\, match\, and create your perfect bubbly!
URL:https://www.vivafallriver.com/event/poppin-prosecco-with-primo-brunch/2028-06-04/
LOCATION:Primo on Water Street\, 36 Water Street\, Fall River\, MA\, 02724\, United States
CATEGORIES:Culinary Events
ATTACH;FMTTYPE=image/png:https://www.vivafallriver.com/wp-content/uploads/2025/10/image-5.png
END:VEVENT
BEGIN:VEVENT
DTSTART;TZID=America/New_York:20280604T160000
DTEND;TZID=America/New_York:20280604T190000
DTSTAMP:20260425T180555
CREATED:20250107T205401Z
LAST-MODIFIED:20260103T204612Z
UID:10016863-1843747200-1843758000@www.vivafallriver.com
SUMMARY:Matt Silva Sunday Funday
DESCRIPTION:Every Sunday meet Matt Silva in the Tipsy Toboggan Lounge. He brings the vocals\, the charm and charisma and you bring your friends! See you there!
URL:https://www.vivafallriver.com/event/matt-silva-sunday-funday/2028-06-04/
LOCATION:The Tipsy Toboggan\, 75 Ferry Street\, Fall River\, MA\, United States
CATEGORIES:Live Music
ATTACH;FMTTYPE=image/jpeg:https://www.vivafallriver.com/wp-content/uploads/2025/01/IMG_2710.jpeg
END:VEVENT
BEGIN:VEVENT
DTSTART;TZID=America/New_York:20280605T183000
DTEND;TZID=America/New_York:20280605T213000
DTSTAMP:20260425T180555
CREATED:20250227T165416Z
LAST-MODIFIED:20260103T204708Z
UID:10017124-1843842600-1843853400@www.vivafallriver.com
SUMMARY:Monday Nights with Nick Sanfilippo (weekly)
DESCRIPTION:Join us at The Tipsy Toboggan every day and every night! Always something delicious to eat and always something exciting happening! From a beautiful winter/summer garden patio\, to fireside dining\, to rotating acoustics\, karaoke and live bands! We have it all! Don’t miss out! Check our facebook and website at www.thetipsytoboggan.com for a full calendar of events each month! \n\n\n\nOur late night menu is served Wednesday\, Friday And Saturday nights until midnight!
URL:https://www.vivafallriver.com/event/monday-nights-with-nick-sanfilippo-weekly/2028-06-05/
LOCATION:The Tipsy Toboggan\, 75 Ferry Street\, Fall River\, MA\, United States
CATEGORIES:Live Music
END:VEVENT
BEGIN:VEVENT
DTSTART;TZID=America/New_York:20280606T110000
DTEND;TZID=America/New_York:20280606T110000
DTSTAMP:20260425T180555
CREATED:20251230T005927Z
LAST-MODIFIED:20251230T005933Z
UID:10016316-1843902000-1843902000@www.vivafallriver.com
SUMMARY:Preschool Storytime
DESCRIPTION:Join Children’s Room staff for a fun morning of stories! Each storytime includes 30 minutes of stories from popular children’s books followed by a short literacy-based movie and an easy-to-make craft.  Introduce your preschooler to the exciting world of children’s literature! Recommended for ages 3 to 5.
URL:https://www.vivafallriver.com/event/preschool-storytime/2028-06-06/
LOCATION:Fall River Public Library\, 104 North Main St\, Fall River\, MA\, 02720
CATEGORIES:Family Friendly Events
ATTACH;FMTTYPE=image/png:https://www.vivafallriver.com/wp-content/uploads/2025/12/image-50.png
END:VEVENT
BEGIN:VEVENT
DTSTART;TZID=America/New_York:20280606T193000
DTEND;TZID=America/New_York:20280606T203000
DTSTAMP:20260425T180555
CREATED:20251029T135639Z
LAST-MODIFIED:20260328T135036Z
UID:10013861-1843932600-1843936200@www.vivafallriver.com
SUMMARY:The Waiting Room - Comedy Open Mic
DESCRIPTION:List out at 7:30Show starts at 8Cheap drinks + cash bar (ATM inside)175 Danforth St\, Fall River (AmVets Hall) \n\n\n\nSign up before 8:00 to get put “in the bucket” and get extra time! \n\n\n\nStay the whole bucket to become a VIP (and get extra time next week.) \n\n\n\nThe time you give is the time you get. \n\n\n\nThank you for your patience\, your set is important to us.
URL:https://www.vivafallriver.com/event/the-waiting-room-comedy-open-mic/2028-06-06/
CATEGORIES:Fundraisers/Community
ATTACH;FMTTYPE=image/png:https://www.vivafallriver.com/wp-content/uploads/2025/10/image-44.png
END:VEVENT
BEGIN:VEVENT
DTSTART;TZID=America/New_York:20280607T070000
DTEND;TZID=America/New_York:20280607T230000
DTSTAMP:20260425T180555
CREATED:20251127T205732Z
LAST-MODIFIED:20251127T205738Z
UID:10014200-1843974000-1844031600@www.vivafallriver.com
SUMMARY:Kids eat FREE on Wednesdays
DESCRIPTION:
URL:https://www.vivafallriver.com/event/kids-eat-free-on-wednesdays/2028-06-07/
LOCATION:Primo on Water Street\, 36 Water Street\, Fall River\, MA\, 02724\, United States
CATEGORIES:Family Friendly Events
ATTACH;FMTTYPE=image/png:https://www.vivafallriver.com/wp-content/uploads/2025/11/image-9.png
END:VEVENT
BEGIN:VEVENT
DTSTART;TZID=America/New_York:20280607T173000
DTEND;TZID=America/New_York:20280607T184500
DTSTAMP:20260425T180555
CREATED:20260328T181307Z
LAST-MODIFIED:20260425T194849Z
UID:10021364-1844011800-1844016300@www.vivafallriver.com
SUMMARY:Candlelit Slow Flow Beginner Yoga Class (weekly)
DESCRIPTION:Exploring the breath\, movement and stillness. We will move slowly and compassionately thru the asanas in this Beginner-friendly class by candle light. All levels are welcome.
URL:https://www.vivafallriver.com/event/candlelit-slow-flow-beginner-yoga-class-weekly/2028-06-07/
LOCATION:Blue Lotus Spa\, 64 Durfee St\, Fall River\, Massachusetts\, 02720
CATEGORIES:Health & Wellness,Workshops & Classes
ATTACH;FMTTYPE=image/png:https://www.vivafallriver.com/wp-content/uploads/2026/03/image-6.png
END:VEVENT
BEGIN:VEVENT
DTSTART;TZID=America/New_York:20280607T180000
DTEND;TZID=America/New_York:20280607T180000
DTSTAMP:20260425T180555
CREATED:20251230T010225Z
LAST-MODIFIED:20260131T210851Z
UID:10016480-1844013600-1844013600@www.vivafallriver.com
SUMMARY:English Conversation Group
DESCRIPTION:Learning to speak English can be a challenge. Come practice with us in the Nagle Room. Join our English Conversation Club and practice your speaking and listening skills. Beginners are welcome to join!
URL:https://www.vivafallriver.com/event/english-conversation-group/2028-06-07/
LOCATION:Fall River Public Library\, 104 North Main St\, Fall River\, MA\, 02720
CATEGORIES:Fundraisers/Community
END:VEVENT
BEGIN:VEVENT
DTSTART;TZID=America/New_York:20280607T180000
DTEND;TZID=America/New_York:20280608T000000
DTSTAMP:20260425T180555
CREATED:20250630T180448Z
LAST-MODIFIED:20251028T233246Z
UID:10010900-1844013600-1844035200@www.vivafallriver.com
SUMMARY:WING WEDNESDAY!!
DESCRIPTION:Every Wednesday after 6pm enjoy half priced wings! \n$0.50 wings all night long after 6pm! \n*dine-in only!!*
URL:https://www.vivafallriver.com/event/wing-wednesday/2028-06-07/
LOCATION:Saint James Irish Pub\, 91 Purchase Street\, Fall River\, MA\, 02720\, United States
CATEGORIES:Culinary Events
ATTACH;FMTTYPE=image/jpeg:https://www.vivafallriver.com/wp-content/uploads/2025/06/WINGWED-1.jpg
END:VEVENT
BEGIN:VEVENT
DTSTART;TZID=America/New_York:20280607T190000
DTEND;TZID=America/New_York:20280607T210000
DTSTAMP:20260425T180555
CREATED:20260328T181913Z
LAST-MODIFIED:20260328T181947Z
UID:10020312-1844017200-1844024400@www.vivafallriver.com
SUMMARY:Musical Bingo (weekly)
DESCRIPTION:Looking for a fun\, low-key way to break up the week? Join us for Musical Bingo every Wednesday night\, and it’s FREE to play!7:00 PM – 9:00 PMBring your friends\, grab a drink\, and sing along while you play. All are welcome. \n\n\n\nWhat to Expect:Free to playMusic from all genresEasy\, interactive gameplayPrizes for winnersGreat vibes and good company
URL:https://www.vivafallriver.com/event/musical-bingo-weekly/2028-06-07/
LOCATION:The Liberal Club\, 20 Star St\, Fall River
CATEGORIES:Fundraisers/Community,Recreation/Sports Events
ATTACH;FMTTYPE=image/png:https://www.vivafallriver.com/wp-content/uploads/2026/02/image-27.png
END:VEVENT
BEGIN:VEVENT
DTSTART;TZID=America/New_York:20280608T130000
DTEND;TZID=America/New_York:20280608T130000
DTSTAMP:20260425T180555
CREATED:20260131T211404Z
LAST-MODIFIED:20260131T211417Z
UID:10018057-1844082000-1844082000@www.vivafallriver.com
SUMMARY:Knitting Club
DESCRIPTION:Do you like to knit or crochet? Come join a group of fellow crafters – just bring your yarn\, needles\, and yourself. It’s a great way to make friends\, share patterns and tips\, and make progress on your projects. Beginners are welcome and no registration is required.
URL:https://www.vivafallriver.com/event/knitting-club/2028-06-08/
LOCATION:Fall River Public Library\, 104 North Main St\, Fall River\, MA\, 02720
CATEGORIES:Workshops & Classes
ATTACH;FMTTYPE=image/png:https://www.vivafallriver.com/wp-content/uploads/2026/01/FRPL.png
END:VEVENT
BEGIN:VEVENT
DTSTART;TZID=America/New_York:20280608T180000
DTEND;TZID=America/New_York:20280608T190000
DTSTAMP:20260425T180555
CREATED:20260425T212327Z
LAST-MODIFIED:20260425T212334Z
UID:10021689-1844100000-1844103600@www.vivafallriver.com
SUMMARY:YA Comics Club
DESCRIPTION:CALLING ALL teenage COMICS ENTHUSIASTS!!!! Do you like comics? Graphics novels? Manga? Webcomics? Some other combination of pictures and words?? Then the Young Adult Comics Club is the place for you! \n\n\n\nThe second Thursday of each month we meet to discuss all things comics – making\, thinking\, reading\, sharing\, etc. Share your favorite manga with peers! Show off the comic you’ve been making to other comic artists! Finally start that cool comic idea you’ve been meaning to draw! Learn what comics are all about!!! \n\n\n\nEach month we will have an optional comic prompt to make and share for the following meeting. Make us some words and pictures!! \n\n\n\nFor teens ages 13 – 18.
URL:https://www.vivafallriver.com/event/ya-comics-club/2028-06-08/
LOCATION:Fall River Public Library\, 104 North Main St\, Fall River\, MA\, 02720
CATEGORIES:Arts & Culture Events,Family Friendly Events,Other
ATTACH;FMTTYPE=image/png:https://www.vivafallriver.com/wp-content/uploads/2026/01/FRPL.png
END:VEVENT
BEGIN:VEVENT
DTSTART;TZID=America/New_York:20280608T180000
DTEND;TZID=America/New_York:20280608T210000
DTSTAMP:20260425T180555
CREATED:20250121T221713Z
LAST-MODIFIED:20260118T195533Z
UID:10017513-1844100000-1844110800@www.vivafallriver.com
SUMMARY:Zach Guillette Thursdays
DESCRIPTION:Every Thursday catch Zach and his reggae vibes and chill with us in the taproom! Make friends\, play arcade games and enjoy complimentary popcorn!
URL:https://www.vivafallriver.com/event/zach-guillette-thursdays/2028-06-08/
LOCATION:Canned Heat Craft Beer Co.\, 52 Ferry Street\, Fall River\, MA\, 02724\, United States
CATEGORIES:Live Music
END:VEVENT
BEGIN:VEVENT
DTSTART;TZID=America/New_York:20280608T200000
DTEND;TZID=America/New_York:20280608T220000
DTSTAMP:20260425T180555
CREATED:20250121T162138Z
LAST-MODIFIED:20260425T193942Z
UID:10020839-1844107200-1844114400@www.vivafallriver.com
SUMMARY:THURSDAY NIGHT TRIVIA
DESCRIPTION:General knowledge trivia with 1st\, 2nd & 3rd place prizes!
URL:https://www.vivafallriver.com/event/thursday-night-trivia/2028-06-08/
LOCATION:Saint James Irish Pub\, 91 Purchase Street\, Fall River\, MA\, 02720\, United States
CATEGORIES:Recreation/Sports Events
ATTACH;FMTTYPE=image/jpeg:https://www.vivafallriver.com/wp-content/uploads/2025/01/TRIVIA.jpg
END:VEVENT
BEGIN:VEVENT
DTSTART;TZID=America/New_York:20280610T100000
DTEND;TZID=America/New_York:20280610T123000
DTSTAMP:20260425T180555
CREATED:20250518T201957Z
LAST-MODIFIED:20251224T145226Z
UID:10015039-1844244000-1844253000@www.vivafallriver.com
SUMMARY:Weekend Brunch
DESCRIPTION:Bring the crew! Enjoy brunch\, mimosas\, bloodys and more!! \n\n\n\nEvery Saturday and Sunday from 10am-1230pm!
URL:https://www.vivafallriver.com/event/weekend-brunch/2028-06-10/
LOCATION:The Tipsy Toboggan\, 75 Ferry Street\, Fall River\, MA\, United States
CATEGORIES:Culinary Events
ATTACH;FMTTYPE=image/jpeg:https://www.vivafallriver.com/wp-content/uploads/2025/05/brunch.jpg
END:VEVENT
BEGIN:VEVENT
DTSTART;TZID=America/New_York:20280610T123000
DTEND;TZID=America/New_York:20280610T123000
DTSTAMP:20260425T180555
CREATED:20251230T005724Z
LAST-MODIFIED:20251230T005730Z
UID:10016056-1844253000-1844253000@www.vivafallriver.com
SUMMARY:Chess Club
DESCRIPTION:Play a game of chess at the library! Chess players at all levels are invited to stop by on Saturday afternoons. Bring your own chess board and pieces\, or we have some available at the desk.
URL:https://www.vivafallriver.com/event/chess-club/2028-06-10/
LOCATION:Fall River Public Library\, 104 North Main St\, Fall River\, MA\, 02720
CATEGORIES:Family Friendly Events,Recreation/Sports Events
ATTACH;FMTTYPE=image/png:https://www.vivafallriver.com/wp-content/uploads/2025/12/image-49.png
END:VEVENT
BEGIN:VEVENT
DTSTART;TZID=America/New_York:20280610T200000
DTEND;TZID=America/New_York:20280610T200000
DTSTAMP:20260425T180555
CREATED:20260425T194211Z
LAST-MODIFIED:20260425T194221Z
UID:10020050-1844280000-1844280000@www.vivafallriver.com
SUMMARY:Primo After Dark - Weekly DJ Sets
DESCRIPTION:Turn your Friday night up at Primo After Dark  \n\n\n\n\n\n\n\n\n\n\n\nSip\, dance\, and hang late while our After Dark Food Menu is available from 10PM–12AM.Free entry\, great vibes\, and the perfect late-night scene at Primo on Water Street. \n\n\n\n \n\n\n\nMay 1: DJ Joey Green \n\n\n\nMay 8: DJ Nuno \n\n\n\nMay 15: DJ Austin Campos \n\n\n\nMay 22: DJ Nuno Raposo \n\n\n\nMay 29: DJ Nook
URL:https://www.vivafallriver.com/event/primo-after-dark-weekly-dj-sets-2/2028-06-10/
LOCATION:Primo on Water Street\, 36 Water Street\, Fall River\, MA\, 02724\, United States
CATEGORIES:Live Music
ATTACH;FMTTYPE=image/jpeg:https://www.vivafallriver.com/wp-content/uploads/2025/12/600257701_786931647739597_8906257509503853684_n.jpg
END:VEVENT
BEGIN:VEVENT
DTSTART;TZID=America/New_York:20280611T100000
DTEND;TZID=America/New_York:20280611T123000
DTSTAMP:20260425T180555
CREATED:20250518T201957Z
LAST-MODIFIED:20251224T145226Z
UID:10015040-1844330400-1844339400@www.vivafallriver.com
SUMMARY:Weekend Brunch
DESCRIPTION:Bring the crew! Enjoy brunch\, mimosas\, bloodys and more!! \n\n\n\nEvery Saturday and Sunday from 10am-1230pm!
URL:https://www.vivafallriver.com/event/weekend-brunch/2028-06-11/
LOCATION:The Tipsy Toboggan\, 75 Ferry Street\, Fall River\, MA\, United States
CATEGORIES:Culinary Events
ATTACH;FMTTYPE=image/jpeg:https://www.vivafallriver.com/wp-content/uploads/2025/05/brunch.jpg
END:VEVENT
BEGIN:VEVENT
DTSTART;TZID=America/New_York:20280611T100000
DTEND;TZID=America/New_York:20280611T140000
DTSTAMP:20260425T180555
CREATED:20251012T190600Z
LAST-MODIFIED:20260425T194238Z
UID:10021100-1844330400-1844344800@www.vivafallriver.com
SUMMARY:Poppin’ Prosecco with Primo! Brunch
DESCRIPTION:We’re Brunching on Sundays at Primo on Water Street—and we’re doing it in style! Join us every Sunday\, from 10 AM – 2 PM for an elevated brunch experience you won’t want to miss. \n\n\n\n Primo Brunch Menu \n\n\n\n Build Your Own Prosecco Bar – $35When Purchased\, your server will give you an official “Primo Prosecco Punch Card” that you can use to refill your glass up to 3 times!Featuring a rainbow of homemade fruit simple syrups\, flavored rims (salt\, sugar\, cinnamon)\, and a variety of fun garnishes to mix\, match\, and create your perfect bubbly!
URL:https://www.vivafallriver.com/event/poppin-prosecco-with-primo-brunch/2028-06-11/
LOCATION:Primo on Water Street\, 36 Water Street\, Fall River\, MA\, 02724\, United States
CATEGORIES:Culinary Events
ATTACH;FMTTYPE=image/png:https://www.vivafallriver.com/wp-content/uploads/2025/10/image-5.png
END:VEVENT
BEGIN:VEVENT
DTSTART;TZID=America/New_York:20280611T160000
DTEND;TZID=America/New_York:20280611T190000
DTSTAMP:20260425T180555
CREATED:20250107T205401Z
LAST-MODIFIED:20260103T204612Z
UID:10016864-1844352000-1844362800@www.vivafallriver.com
SUMMARY:Matt Silva Sunday Funday
DESCRIPTION:Every Sunday meet Matt Silva in the Tipsy Toboggan Lounge. He brings the vocals\, the charm and charisma and you bring your friends! See you there!
URL:https://www.vivafallriver.com/event/matt-silva-sunday-funday/2028-06-11/
LOCATION:The Tipsy Toboggan\, 75 Ferry Street\, Fall River\, MA\, United States
CATEGORIES:Live Music
ATTACH;FMTTYPE=image/jpeg:https://www.vivafallriver.com/wp-content/uploads/2025/01/IMG_2710.jpeg
END:VEVENT
END:VCALENDAR