BEGIN:VCALENDAR
VERSION:2.0
PRODID:-//Viva Fall River - ECPv6.15.18//NONSGML v1.0//EN
CALSCALE:GREGORIAN
METHOD:PUBLISH
X-ORIGINAL-URL:https://www.vivafallriver.com
X-WR-CALDESC:Events for Viva Fall River
REFRESH-INTERVAL;VALUE=DURATION:PT1H
X-Robots-Tag:noindex
X-PUBLISHED-TTL:PT1H
BEGIN:VTIMEZONE
TZID:America/New_York
BEGIN:DAYLIGHT
TZOFFSETFROM:-0500
TZOFFSETTO:-0400
TZNAME:EDT
DTSTART:20270314T070000
END:DAYLIGHT
BEGIN:STANDARD
TZOFFSETFROM:-0400
TZOFFSETTO:-0500
TZNAME:EST
DTSTART:20271107T060000
END:STANDARD
BEGIN:DAYLIGHT
TZOFFSETFROM:-0500
TZOFFSETTO:-0400
TZNAME:EDT
DTSTART:20280312T070000
END:DAYLIGHT
BEGIN:STANDARD
TZOFFSETFROM:-0400
TZOFFSETTO:-0500
TZNAME:EST
DTSTART:20281105T060000
END:STANDARD
BEGIN:DAYLIGHT
TZOFFSETFROM:-0500
TZOFFSETTO:-0400
TZNAME:EDT
DTSTART:20290311T070000
END:DAYLIGHT
BEGIN:STANDARD
TZOFFSETFROM:-0400
TZOFFSETTO:-0500
TZNAME:EST
DTSTART:20291104T060000
END:STANDARD
END:VTIMEZONE
BEGIN:VEVENT
DTSTART;TZID=America/New_York:20280324T180000
DTEND;TZID=America/New_York:20280324T180000
DTSTAMP:20260425T154850
CREATED:20260202T003230Z
LAST-MODIFIED:20260202T003235Z
UID:10017675-1837533600-1837533600@www.vivafallriver.com
SUMMARY:Silent Book Club
DESCRIPTION:Bring along whatever you are currently reading\, and join other readers for Fall River’s very own chapter of Silent Book Club.
URL:https://www.vivafallriver.com/event/silent-book-club/2028-03-24/
LOCATION:Once Upon a Bookstore\, 418 Quequechan St. 2nd Fl.\, Fall River\, Massachusetts\, 02721
CATEGORIES:Arts & Culture Events,Workshops & Classes
ATTACH;FMTTYPE=image/png:https://www.vivafallriver.com/wp-content/uploads/2025/09/image-54.png
END:VEVENT
BEGIN:VEVENT
DTSTART;TZID=America/New_York:20280327T180000
DTEND;TZID=America/New_York:20280327T190000
DTSTAMP:20260425T154850
CREATED:20251230T012258Z
LAST-MODIFIED:20260425T194354Z
UID:10016606-1837792800-1837796400@www.vivafallriver.com
SUMMARY:Historical Fiction Book Club
DESCRIPTION:Join us on the last Monday of every month from 6:00-7:00 in the meeting room to read\, discuss\, analyze\, review\, and suggest all books Historical Fiction. Drink some tea and enjoy living in another time. 
URL:https://www.vivafallriver.com/event/historical-fiction-book-club/2028-03-27/
LOCATION:Fall River Public Library\, 104 North Main St\, Fall River\, MA\, 02720
CATEGORIES:Workshops & Classes
END:VEVENT
BEGIN:VEVENT
DTSTART;TZID=America/New_York:20280329T173000
DTEND;TZID=America/New_York:20280329T184500
DTSTAMP:20260425T154850
CREATED:20260328T181307Z
LAST-MODIFIED:20260425T194849Z
UID:10021354-1837963800-1837968300@www.vivafallriver.com
SUMMARY:Candlelit Slow Flow Beginner Yoga Class (weekly)
DESCRIPTION:Exploring the breath\, movement and stillness. We will move slowly and compassionately thru the asanas in this Beginner-friendly class by candle light. All levels are welcome.
URL:https://www.vivafallriver.com/event/candlelit-slow-flow-beginner-yoga-class-weekly/2028-03-29/
LOCATION:Blue Lotus Spa\, 64 Durfee St\, Fall River\, Massachusetts\, 02720
CATEGORIES:Health & Wellness,Workshops & Classes
ATTACH;FMTTYPE=image/png:https://www.vivafallriver.com/wp-content/uploads/2026/03/image-6.png
END:VEVENT
BEGIN:VEVENT
DTSTART;TZID=America/New_York:20280329T180000
DTEND;TZID=America/New_York:20280329T190000
DTSTAMP:20260425T154850
CREATED:20251230T012036Z
LAST-MODIFIED:20260120T204438Z
UID:10016545-1837965600-1837969200@www.vivafallriver.com
SUMMARY:Photography Group
DESCRIPTION:The Fall River Public Library invites all photography enthusiasts to join our new Photography Group. \n\n\n\nOn the last Wednesday of each month\, participants will share their work\, provide feedback\, and join in open discussion about the wonderful art of photography! A monthly\, optional theme will be picked at random to help inspire and prompt our members to make new and exciting work to share each session. Participants are asked to bring in a thumbdrive of their work\, with a selection of 5-10 photos\, if they intend to share with the group that month. \n\n\n\nWhile we gladly accept photographers at all stages of their journeys\, the Photography Group does not offer photography lessons. We do encourage our participants to ask questions about photography\, and to share tips and tricks they’ve learned with each other. \n\n\n\nThis program is intended for photographers ages 13 and up.
URL:https://www.vivafallriver.com/event/photography-group/2028-03-29/
LOCATION:Fall River Public Library\, 104 North Main St\, Fall River\, MA\, 02720
CATEGORIES:Workshops & Classes
ATTACH;FMTTYPE=image/png:https://www.vivafallriver.com/wp-content/uploads/2025/12/image-59.png
END:VEVENT
BEGIN:VEVENT
DTSTART;TZID=America/New_York:20280331T080000
DTEND;TZID=America/New_York:20280331T170000
DTSTAMP:20260425T154850
CREATED:20260118T195139Z
LAST-MODIFIED:20260118T195147Z
UID:10012138-1838102400-1838134800@www.vivafallriver.com
SUMMARY:Aging Well: Senior LGBTQ+ Breakfast Club
DESCRIPTION:For South Coast LGBTQ+ individuals ages 60+ \n\n\n\nREGISTER AT: https://tinyurl.com/breakfast-club-fr 
URL:https://www.vivafallriver.com/event/aging-well-senior-lgbtq-breakfast-club-2/2028-03-31/
LOCATION:Munchies\, 4263 North Main Street\, Fall River\, MA\, 02720\, United States
CATEGORIES:Fundraisers/Community
ATTACH;FMTTYPE=image/png:https://www.vivafallriver.com/wp-content/uploads/2025/09/image-55.png
END:VEVENT
BEGIN:VEVENT
DTSTART;TZID=America/New_York:20280405T173000
DTEND;TZID=America/New_York:20280405T184500
DTSTAMP:20260425T154850
CREATED:20260328T181307Z
LAST-MODIFIED:20260425T194849Z
UID:10021355-1838568600-1838573100@www.vivafallriver.com
SUMMARY:Candlelit Slow Flow Beginner Yoga Class (weekly)
DESCRIPTION:Exploring the breath\, movement and stillness. We will move slowly and compassionately thru the asanas in this Beginner-friendly class by candle light. All levels are welcome.
URL:https://www.vivafallriver.com/event/candlelit-slow-flow-beginner-yoga-class-weekly/2028-04-05/
LOCATION:Blue Lotus Spa\, 64 Durfee St\, Fall River\, Massachusetts\, 02720
CATEGORIES:Health & Wellness,Workshops & Classes
ATTACH;FMTTYPE=image/png:https://www.vivafallriver.com/wp-content/uploads/2026/03/image-6.png
END:VEVENT
BEGIN:VEVENT
DTSTART;TZID=America/New_York:20280405T180000
DTEND;TZID=America/New_York:20280405T180000
DTSTAMP:20260425T154850
CREATED:20251230T010225Z
LAST-MODIFIED:20260131T210851Z
UID:10016478-1838570400-1838570400@www.vivafallriver.com
SUMMARY:English Conversation Group
DESCRIPTION:Learning to speak English can be a challenge. Come practice with us in the Nagle Room. Join our English Conversation Club and practice your speaking and listening skills. Beginners are welcome to join!
URL:https://www.vivafallriver.com/event/english-conversation-group/2028-04-05/
LOCATION:Fall River Public Library\, 104 North Main St\, Fall River\, MA\, 02720
CATEGORIES:Fundraisers/Community
END:VEVENT
BEGIN:VEVENT
DTSTART;TZID=America/New_York:20280406T080000
DTEND;TZID=America/New_York:20280406T170000
DTSTAMP:20260425T154850
CREATED:20260131T214449Z
LAST-MODIFIED:20260131T214502Z
UID:10018539-1838620800-1838653200@www.vivafallriver.com
SUMMARY:Teen Game Night
DESCRIPTION:Gamers unite for Teen Game Night!!! \n\n\n\nEvery first Thursday of the month\, teens are invited to the Fall River Public Library to play all sorts of collaborative and competitive multiplayer video games on the library projector. Show off your skills\, learn about games new and old\, and most importantly… have a blast!! \n\n\n\nFor teens ages 13 – 18.
URL:https://www.vivafallriver.com/event/teen-game-night/2028-04-06/
LOCATION:Fall River Public Library\, 104 North Main St\, Fall River\, MA\, 02720
CATEGORIES:Family Friendly Events
ATTACH;FMTTYPE=image/png:https://www.vivafallriver.com/wp-content/uploads/2026/01/FRPL.png
END:VEVENT
BEGIN:VEVENT
DTSTART;TZID=America/New_York:20280406T190000
DTEND;TZID=America/New_York:20280406T220000
DTSTAMP:20260425T154850
CREATED:20260425T193807Z
LAST-MODIFIED:20260425T193816Z
UID:10018843-1838660400-1838671200@www.vivafallriver.com
SUMMARY:Open Mic Night
DESCRIPTION:
URL:https://www.vivafallriver.com/event/open-mic-night-2/2028-04-06/
LOCATION:The Belmont Club\, 34 Franklin Street\, Fall River
CATEGORIES:Fundraisers/Community,Live Music
ATTACH;FMTTYPE=image/png:https://www.vivafallriver.com/wp-content/uploads/2026/02/image-7.png
END:VEVENT
BEGIN:VEVENT
DTSTART;TZID=America/New_York:20280412T173000
DTEND;TZID=America/New_York:20280412T184500
DTSTAMP:20260425T154850
CREATED:20260328T181307Z
LAST-MODIFIED:20260425T194849Z
UID:10021356-1839173400-1839177900@www.vivafallriver.com
SUMMARY:Candlelit Slow Flow Beginner Yoga Class (weekly)
DESCRIPTION:Exploring the breath\, movement and stillness. We will move slowly and compassionately thru the asanas in this Beginner-friendly class by candle light. All levels are welcome.
URL:https://www.vivafallriver.com/event/candlelit-slow-flow-beginner-yoga-class-weekly/2028-04-12/
LOCATION:Blue Lotus Spa\, 64 Durfee St\, Fall River\, Massachusetts\, 02720
CATEGORIES:Health & Wellness,Workshops & Classes
ATTACH;FMTTYPE=image/png:https://www.vivafallriver.com/wp-content/uploads/2026/03/image-6.png
END:VEVENT
BEGIN:VEVENT
DTSTART;TZID=America/New_York:20280419T173000
DTEND;TZID=America/New_York:20280419T184500
DTSTAMP:20260425T154850
CREATED:20260328T181307Z
LAST-MODIFIED:20260425T194849Z
UID:10021357-1839778200-1839782700@www.vivafallriver.com
SUMMARY:Candlelit Slow Flow Beginner Yoga Class (weekly)
DESCRIPTION:Exploring the breath\, movement and stillness. We will move slowly and compassionately thru the asanas in this Beginner-friendly class by candle light. All levels are welcome.
URL:https://www.vivafallriver.com/event/candlelit-slow-flow-beginner-yoga-class-weekly/2028-04-19/
LOCATION:Blue Lotus Spa\, 64 Durfee St\, Fall River\, Massachusetts\, 02720
CATEGORIES:Health & Wellness,Workshops & Classes
ATTACH;FMTTYPE=image/png:https://www.vivafallriver.com/wp-content/uploads/2026/03/image-6.png
END:VEVENT
BEGIN:VEVENT
DTSTART;TZID=America/New_York:20280426T173000
DTEND;TZID=America/New_York:20280426T184500
DTSTAMP:20260425T154850
CREATED:20260328T181307Z
LAST-MODIFIED:20260425T194849Z
UID:10021358-1840383000-1840387500@www.vivafallriver.com
SUMMARY:Candlelit Slow Flow Beginner Yoga Class (weekly)
DESCRIPTION:Exploring the breath\, movement and stillness. We will move slowly and compassionately thru the asanas in this Beginner-friendly class by candle light. All levels are welcome.
URL:https://www.vivafallriver.com/event/candlelit-slow-flow-beginner-yoga-class-weekly/2028-04-26/
LOCATION:Blue Lotus Spa\, 64 Durfee St\, Fall River\, Massachusetts\, 02720
CATEGORIES:Health & Wellness,Workshops & Classes
ATTACH;FMTTYPE=image/png:https://www.vivafallriver.com/wp-content/uploads/2026/03/image-6.png
END:VEVENT
BEGIN:VEVENT
DTSTART;TZID=America/New_York:20280503T173000
DTEND;TZID=America/New_York:20280503T184500
DTSTAMP:20260425T154850
CREATED:20260328T181307Z
LAST-MODIFIED:20260425T194849Z
UID:10021359-1840987800-1840992300@www.vivafallriver.com
SUMMARY:Candlelit Slow Flow Beginner Yoga Class (weekly)
DESCRIPTION:Exploring the breath\, movement and stillness. We will move slowly and compassionately thru the asanas in this Beginner-friendly class by candle light. All levels are welcome.
URL:https://www.vivafallriver.com/event/candlelit-slow-flow-beginner-yoga-class-weekly/2028-05-03/
LOCATION:Blue Lotus Spa\, 64 Durfee St\, Fall River\, Massachusetts\, 02720
CATEGORIES:Health & Wellness,Workshops & Classes
ATTACH;FMTTYPE=image/png:https://www.vivafallriver.com/wp-content/uploads/2026/03/image-6.png
END:VEVENT
BEGIN:VEVENT
DTSTART;TZID=America/New_York:20280510T173000
DTEND;TZID=America/New_York:20280510T184500
DTSTAMP:20260425T154851
CREATED:20260328T181307Z
LAST-MODIFIED:20260425T194849Z
UID:10021360-1841592600-1841597100@www.vivafallriver.com
SUMMARY:Candlelit Slow Flow Beginner Yoga Class (weekly)
DESCRIPTION:Exploring the breath\, movement and stillness. We will move slowly and compassionately thru the asanas in this Beginner-friendly class by candle light. All levels are welcome.
URL:https://www.vivafallriver.com/event/candlelit-slow-flow-beginner-yoga-class-weekly/2028-05-10/
LOCATION:Blue Lotus Spa\, 64 Durfee St\, Fall River\, Massachusetts\, 02720
CATEGORIES:Health & Wellness,Workshops & Classes
ATTACH;FMTTYPE=image/png:https://www.vivafallriver.com/wp-content/uploads/2026/03/image-6.png
END:VEVENT
BEGIN:VEVENT
DTSTART;TZID=America/New_York:20280517T173000
DTEND;TZID=America/New_York:20280517T184500
DTSTAMP:20260425T154851
CREATED:20260328T181307Z
LAST-MODIFIED:20260425T194849Z
UID:10021361-1842197400-1842201900@www.vivafallriver.com
SUMMARY:Candlelit Slow Flow Beginner Yoga Class (weekly)
DESCRIPTION:Exploring the breath\, movement and stillness. We will move slowly and compassionately thru the asanas in this Beginner-friendly class by candle light. All levels are welcome.
URL:https://www.vivafallriver.com/event/candlelit-slow-flow-beginner-yoga-class-weekly/2028-05-17/
LOCATION:Blue Lotus Spa\, 64 Durfee St\, Fall River\, Massachusetts\, 02720
CATEGORIES:Health & Wellness,Workshops & Classes
ATTACH;FMTTYPE=image/png:https://www.vivafallriver.com/wp-content/uploads/2026/03/image-6.png
END:VEVENT
BEGIN:VEVENT
DTSTART;TZID=America/New_York:20280524T173000
DTEND;TZID=America/New_York:20280524T184500
DTSTAMP:20260425T154851
CREATED:20260328T181307Z
LAST-MODIFIED:20260425T194849Z
UID:10021362-1842802200-1842806700@www.vivafallriver.com
SUMMARY:Candlelit Slow Flow Beginner Yoga Class (weekly)
DESCRIPTION:Exploring the breath\, movement and stillness. We will move slowly and compassionately thru the asanas in this Beginner-friendly class by candle light. All levels are welcome.
URL:https://www.vivafallriver.com/event/candlelit-slow-flow-beginner-yoga-class-weekly/2028-05-24/
LOCATION:Blue Lotus Spa\, 64 Durfee St\, Fall River\, Massachusetts\, 02720
CATEGORIES:Health & Wellness,Workshops & Classes
ATTACH;FMTTYPE=image/png:https://www.vivafallriver.com/wp-content/uploads/2026/03/image-6.png
END:VEVENT
BEGIN:VEVENT
DTSTART;TZID=America/New_York:20280531T173000
DTEND;TZID=America/New_York:20280531T184500
DTSTAMP:20260425T154851
CREATED:20260328T181307Z
LAST-MODIFIED:20260425T194849Z
UID:10021363-1843407000-1843411500@www.vivafallriver.com
SUMMARY:Candlelit Slow Flow Beginner Yoga Class (weekly)
DESCRIPTION:Exploring the breath\, movement and stillness. We will move slowly and compassionately thru the asanas in this Beginner-friendly class by candle light. All levels are welcome.
URL:https://www.vivafallriver.com/event/candlelit-slow-flow-beginner-yoga-class-weekly/2028-05-31/
LOCATION:Blue Lotus Spa\, 64 Durfee St\, Fall River\, Massachusetts\, 02720
CATEGORIES:Health & Wellness,Workshops & Classes
ATTACH;FMTTYPE=image/png:https://www.vivafallriver.com/wp-content/uploads/2026/03/image-6.png
END:VEVENT
BEGIN:VEVENT
DTSTART;TZID=America/New_York:20280607T173000
DTEND;TZID=America/New_York:20280607T184500
DTSTAMP:20260425T154851
CREATED:20260328T181307Z
LAST-MODIFIED:20260425T194849Z
UID:10021364-1844011800-1844016300@www.vivafallriver.com
SUMMARY:Candlelit Slow Flow Beginner Yoga Class (weekly)
DESCRIPTION:Exploring the breath\, movement and stillness. We will move slowly and compassionately thru the asanas in this Beginner-friendly class by candle light. All levels are welcome.
URL:https://www.vivafallriver.com/event/candlelit-slow-flow-beginner-yoga-class-weekly/2028-06-07/
LOCATION:Blue Lotus Spa\, 64 Durfee St\, Fall River\, Massachusetts\, 02720
CATEGORIES:Health & Wellness,Workshops & Classes
ATTACH;FMTTYPE=image/png:https://www.vivafallriver.com/wp-content/uploads/2026/03/image-6.png
END:VEVENT
BEGIN:VEVENT
DTSTART;TZID=America/New_York:20280614T173000
DTEND;TZID=America/New_York:20280614T184500
DTSTAMP:20260425T154851
CREATED:20260328T181307Z
LAST-MODIFIED:20260425T194849Z
UID:10021365-1844616600-1844621100@www.vivafallriver.com
SUMMARY:Candlelit Slow Flow Beginner Yoga Class (weekly)
DESCRIPTION:Exploring the breath\, movement and stillness. We will move slowly and compassionately thru the asanas in this Beginner-friendly class by candle light. All levels are welcome.
URL:https://www.vivafallriver.com/event/candlelit-slow-flow-beginner-yoga-class-weekly/2028-06-14/
LOCATION:Blue Lotus Spa\, 64 Durfee St\, Fall River\, Massachusetts\, 02720
CATEGORIES:Health & Wellness,Workshops & Classes
ATTACH;FMTTYPE=image/png:https://www.vivafallriver.com/wp-content/uploads/2026/03/image-6.png
END:VEVENT
BEGIN:VEVENT
DTSTART;TZID=America/New_York:20280621T173000
DTEND;TZID=America/New_York:20280621T184500
DTSTAMP:20260425T154851
CREATED:20260328T181307Z
LAST-MODIFIED:20260425T194849Z
UID:10021366-1845221400-1845225900@www.vivafallriver.com
SUMMARY:Candlelit Slow Flow Beginner Yoga Class (weekly)
DESCRIPTION:Exploring the breath\, movement and stillness. We will move slowly and compassionately thru the asanas in this Beginner-friendly class by candle light. All levels are welcome.
URL:https://www.vivafallriver.com/event/candlelit-slow-flow-beginner-yoga-class-weekly/2028-06-21/
LOCATION:Blue Lotus Spa\, 64 Durfee St\, Fall River\, Massachusetts\, 02720
CATEGORIES:Health & Wellness,Workshops & Classes
ATTACH;FMTTYPE=image/png:https://www.vivafallriver.com/wp-content/uploads/2026/03/image-6.png
END:VEVENT
BEGIN:VEVENT
DTSTART;TZID=America/New_York:20280628T173000
DTEND;TZID=America/New_York:20280628T184500
DTSTAMP:20260425T154851
CREATED:20260328T181307Z
LAST-MODIFIED:20260425T194849Z
UID:10021367-1845826200-1845830700@www.vivafallriver.com
SUMMARY:Candlelit Slow Flow Beginner Yoga Class (weekly)
DESCRIPTION:Exploring the breath\, movement and stillness. We will move slowly and compassionately thru the asanas in this Beginner-friendly class by candle light. All levels are welcome.
URL:https://www.vivafallriver.com/event/candlelit-slow-flow-beginner-yoga-class-weekly/2028-06-28/
LOCATION:Blue Lotus Spa\, 64 Durfee St\, Fall River\, Massachusetts\, 02720
CATEGORIES:Health & Wellness,Workshops & Classes
ATTACH;FMTTYPE=image/png:https://www.vivafallriver.com/wp-content/uploads/2026/03/image-6.png
END:VEVENT
BEGIN:VEVENT
DTSTART;TZID=America/New_York:20280705T173000
DTEND;TZID=America/New_York:20280705T184500
DTSTAMP:20260425T154851
CREATED:20260328T181307Z
LAST-MODIFIED:20260425T194849Z
UID:10021368-1846431000-1846435500@www.vivafallriver.com
SUMMARY:Candlelit Slow Flow Beginner Yoga Class (weekly)
DESCRIPTION:Exploring the breath\, movement and stillness. We will move slowly and compassionately thru the asanas in this Beginner-friendly class by candle light. All levels are welcome.
URL:https://www.vivafallriver.com/event/candlelit-slow-flow-beginner-yoga-class-weekly/2028-07-05/
LOCATION:Blue Lotus Spa\, 64 Durfee St\, Fall River\, Massachusetts\, 02720
CATEGORIES:Health & Wellness,Workshops & Classes
ATTACH;FMTTYPE=image/png:https://www.vivafallriver.com/wp-content/uploads/2026/03/image-6.png
END:VEVENT
BEGIN:VEVENT
DTSTART;TZID=America/New_York:20280712T173000
DTEND;TZID=America/New_York:20280712T184500
DTSTAMP:20260425T154851
CREATED:20260328T181307Z
LAST-MODIFIED:20260425T194849Z
UID:10021369-1847035800-1847040300@www.vivafallriver.com
SUMMARY:Candlelit Slow Flow Beginner Yoga Class (weekly)
DESCRIPTION:Exploring the breath\, movement and stillness. We will move slowly and compassionately thru the asanas in this Beginner-friendly class by candle light. All levels are welcome.
URL:https://www.vivafallriver.com/event/candlelit-slow-flow-beginner-yoga-class-weekly/2028-07-12/
LOCATION:Blue Lotus Spa\, 64 Durfee St\, Fall River\, Massachusetts\, 02720
CATEGORIES:Health & Wellness,Workshops & Classes
ATTACH;FMTTYPE=image/png:https://www.vivafallriver.com/wp-content/uploads/2026/03/image-6.png
END:VEVENT
BEGIN:VEVENT
DTSTART;TZID=America/New_York:20280719T173000
DTEND;TZID=America/New_York:20280719T184500
DTSTAMP:20260425T154851
CREATED:20260328T181307Z
LAST-MODIFIED:20260425T194849Z
UID:10021370-1847640600-1847645100@www.vivafallriver.com
SUMMARY:Candlelit Slow Flow Beginner Yoga Class (weekly)
DESCRIPTION:Exploring the breath\, movement and stillness. We will move slowly and compassionately thru the asanas in this Beginner-friendly class by candle light. All levels are welcome.
URL:https://www.vivafallriver.com/event/candlelit-slow-flow-beginner-yoga-class-weekly/2028-07-19/
LOCATION:Blue Lotus Spa\, 64 Durfee St\, Fall River\, Massachusetts\, 02720
CATEGORIES:Health & Wellness,Workshops & Classes
ATTACH;FMTTYPE=image/png:https://www.vivafallriver.com/wp-content/uploads/2026/03/image-6.png
END:VEVENT
BEGIN:VEVENT
DTSTART;TZID=America/New_York:20280726T173000
DTEND;TZID=America/New_York:20280726T184500
DTSTAMP:20260425T154851
CREATED:20260328T181307Z
LAST-MODIFIED:20260425T194849Z
UID:10021371-1848245400-1848249900@www.vivafallriver.com
SUMMARY:Candlelit Slow Flow Beginner Yoga Class (weekly)
DESCRIPTION:Exploring the breath\, movement and stillness. We will move slowly and compassionately thru the asanas in this Beginner-friendly class by candle light. All levels are welcome.
URL:https://www.vivafallriver.com/event/candlelit-slow-flow-beginner-yoga-class-weekly/2028-07-26/
LOCATION:Blue Lotus Spa\, 64 Durfee St\, Fall River\, Massachusetts\, 02720
CATEGORIES:Health & Wellness,Workshops & Classes
ATTACH;FMTTYPE=image/png:https://www.vivafallriver.com/wp-content/uploads/2026/03/image-6.png
END:VEVENT
BEGIN:VEVENT
DTSTART;TZID=America/New_York:20280802T173000
DTEND;TZID=America/New_York:20280802T184500
DTSTAMP:20260425T154851
CREATED:20260328T181307Z
LAST-MODIFIED:20260425T194849Z
UID:10021372-1848850200-1848854700@www.vivafallriver.com
SUMMARY:Candlelit Slow Flow Beginner Yoga Class (weekly)
DESCRIPTION:Exploring the breath\, movement and stillness. We will move slowly and compassionately thru the asanas in this Beginner-friendly class by candle light. All levels are welcome.
URL:https://www.vivafallriver.com/event/candlelit-slow-flow-beginner-yoga-class-weekly/2028-08-02/
LOCATION:Blue Lotus Spa\, 64 Durfee St\, Fall River\, Massachusetts\, 02720
CATEGORIES:Health & Wellness,Workshops & Classes
ATTACH;FMTTYPE=image/png:https://www.vivafallriver.com/wp-content/uploads/2026/03/image-6.png
END:VEVENT
BEGIN:VEVENT
DTSTART;TZID=America/New_York:20280809T173000
DTEND;TZID=America/New_York:20280809T184500
DTSTAMP:20260425T154851
CREATED:20260328T181307Z
LAST-MODIFIED:20260425T194849Z
UID:10021373-1849455000-1849459500@www.vivafallriver.com
SUMMARY:Candlelit Slow Flow Beginner Yoga Class (weekly)
DESCRIPTION:Exploring the breath\, movement and stillness. We will move slowly and compassionately thru the asanas in this Beginner-friendly class by candle light. All levels are welcome.
URL:https://www.vivafallriver.com/event/candlelit-slow-flow-beginner-yoga-class-weekly/2028-08-09/
LOCATION:Blue Lotus Spa\, 64 Durfee St\, Fall River\, Massachusetts\, 02720
CATEGORIES:Health & Wellness,Workshops & Classes
ATTACH;FMTTYPE=image/png:https://www.vivafallriver.com/wp-content/uploads/2026/03/image-6.png
END:VEVENT
BEGIN:VEVENT
DTSTART;TZID=America/New_York:20280816T173000
DTEND;TZID=America/New_York:20280816T184500
DTSTAMP:20260425T154851
CREATED:20260328T181307Z
LAST-MODIFIED:20260425T194849Z
UID:10021374-1850059800-1850064300@www.vivafallriver.com
SUMMARY:Candlelit Slow Flow Beginner Yoga Class (weekly)
DESCRIPTION:Exploring the breath\, movement and stillness. We will move slowly and compassionately thru the asanas in this Beginner-friendly class by candle light. All levels are welcome.
URL:https://www.vivafallriver.com/event/candlelit-slow-flow-beginner-yoga-class-weekly/2028-08-16/
LOCATION:Blue Lotus Spa\, 64 Durfee St\, Fall River\, Massachusetts\, 02720
CATEGORIES:Health & Wellness,Workshops & Classes
ATTACH;FMTTYPE=image/png:https://www.vivafallriver.com/wp-content/uploads/2026/03/image-6.png
END:VEVENT
BEGIN:VEVENT
DTSTART;TZID=America/New_York:20280823T173000
DTEND;TZID=America/New_York:20280823T184500
DTSTAMP:20260425T154851
CREATED:20260328T181307Z
LAST-MODIFIED:20260425T194849Z
UID:10021375-1850664600-1850669100@www.vivafallriver.com
SUMMARY:Candlelit Slow Flow Beginner Yoga Class (weekly)
DESCRIPTION:Exploring the breath\, movement and stillness. We will move slowly and compassionately thru the asanas in this Beginner-friendly class by candle light. All levels are welcome.
URL:https://www.vivafallriver.com/event/candlelit-slow-flow-beginner-yoga-class-weekly/2028-08-23/
LOCATION:Blue Lotus Spa\, 64 Durfee St\, Fall River\, Massachusetts\, 02720
CATEGORIES:Health & Wellness,Workshops & Classes
ATTACH;FMTTYPE=image/png:https://www.vivafallriver.com/wp-content/uploads/2026/03/image-6.png
END:VEVENT
BEGIN:VEVENT
DTSTART;TZID=America/New_York:20280830T173000
DTEND;TZID=America/New_York:20280830T184500
DTSTAMP:20260425T154851
CREATED:20260328T181307Z
LAST-MODIFIED:20260425T194849Z
UID:10021376-1851269400-1851273900@www.vivafallriver.com
SUMMARY:Candlelit Slow Flow Beginner Yoga Class (weekly)
DESCRIPTION:Exploring the breath\, movement and stillness. We will move slowly and compassionately thru the asanas in this Beginner-friendly class by candle light. All levels are welcome.
URL:https://www.vivafallriver.com/event/candlelit-slow-flow-beginner-yoga-class-weekly/2028-08-30/
LOCATION:Blue Lotus Spa\, 64 Durfee St\, Fall River\, Massachusetts\, 02720
CATEGORIES:Health & Wellness,Workshops & Classes
ATTACH;FMTTYPE=image/png:https://www.vivafallriver.com/wp-content/uploads/2026/03/image-6.png
END:VEVENT
END:VCALENDAR