BEGIN:VCALENDAR
VERSION:2.0
PRODID:-//Viva Fall River - ECPv6.15.18//NONSGML v1.0//EN
CALSCALE:GREGORIAN
METHOD:PUBLISH
X-ORIGINAL-URL:https://www.vivafallriver.com
X-WR-CALDESC:Events for Viva Fall River
REFRESH-INTERVAL;VALUE=DURATION:PT1H
X-Robots-Tag:noindex
X-PUBLISHED-TTL:PT1H
BEGIN:VTIMEZONE
TZID:America/New_York
BEGIN:DAYLIGHT
TZOFFSETFROM:-0500
TZOFFSETTO:-0400
TZNAME:EDT
DTSTART:20270314T070000
END:DAYLIGHT
BEGIN:STANDARD
TZOFFSETFROM:-0400
TZOFFSETTO:-0500
TZNAME:EST
DTSTART:20271107T060000
END:STANDARD
BEGIN:DAYLIGHT
TZOFFSETFROM:-0500
TZOFFSETTO:-0400
TZNAME:EDT
DTSTART:20280312T070000
END:DAYLIGHT
BEGIN:STANDARD
TZOFFSETFROM:-0400
TZOFFSETTO:-0500
TZNAME:EST
DTSTART:20281105T060000
END:STANDARD
BEGIN:DAYLIGHT
TZOFFSETFROM:-0500
TZOFFSETTO:-0400
TZNAME:EDT
DTSTART:20290311T070000
END:DAYLIGHT
BEGIN:STANDARD
TZOFFSETFROM:-0400
TZOFFSETTO:-0500
TZNAME:EST
DTSTART:20291104T060000
END:STANDARD
END:VTIMEZONE
BEGIN:VEVENT
DTSTART;TZID=America/New_York:20280131T180000
DTEND;TZID=America/New_York:20280131T190000
DTSTAMP:20260425T144048
CREATED:20251230T012258Z
LAST-MODIFIED:20251230T012305Z
UID:10016604-1832954400-1832958000@www.vivafallriver.com
SUMMARY:Historical Fiction Book Club
DESCRIPTION:Join us on the last Monday of every month from 6:00-7:00 in the meeting room to read\, discuss\, analyze\, review\, and suggest all books Historical Fiction. Drink some tea and enjoy living in another time. 
URL:https://www.vivafallriver.com/event/historical-fiction-book-club/2028-01-31/
LOCATION:Fall River Public Library\, 104 North Main St\, Fall River\, MA\, 02720
CATEGORIES:Workshops & Classes
END:VEVENT
BEGIN:VEVENT
DTSTART;TZID=America/New_York:20280202T180000
DTEND;TZID=America/New_York:20280202T180000
DTSTAMP:20260425T144048
CREATED:20251230T010225Z
LAST-MODIFIED:20260131T210851Z
UID:10016476-1833127200-1833127200@www.vivafallriver.com
SUMMARY:English Conversation Group
DESCRIPTION:Learning to speak English can be a challenge. Come practice with us in the Nagle Room. Join our English Conversation Club and practice your speaking and listening skills. Beginners are welcome to join!
URL:https://www.vivafallriver.com/event/english-conversation-group/2028-02-02/
LOCATION:Fall River Public Library\, 104 North Main St\, Fall River\, MA\, 02720
CATEGORIES:Fundraisers/Community
END:VEVENT
END:VCALENDAR