BEGIN:VCALENDAR
VERSION:2.0
PRODID:-//Viva Fall River - ECPv6.15.18//NONSGML v1.0//EN
CALSCALE:GREGORIAN
METHOD:PUBLISH
X-ORIGINAL-URL:https://www.vivafallriver.com
X-WR-CALDESC:Events for Viva Fall River
REFRESH-INTERVAL;VALUE=DURATION:PT1H
X-Robots-Tag:noindex
X-PUBLISHED-TTL:PT1H
BEGIN:VTIMEZONE
TZID:America/New_York
BEGIN:DAYLIGHT
TZOFFSETFROM:-0500
TZOFFSETTO:-0400
TZNAME:EDT
DTSTART:20260308T070000
END:DAYLIGHT
BEGIN:STANDARD
TZOFFSETFROM:-0400
TZOFFSETTO:-0500
TZNAME:EST
DTSTART:20261101T060000
END:STANDARD
BEGIN:DAYLIGHT
TZOFFSETFROM:-0500
TZOFFSETTO:-0400
TZNAME:EDT
DTSTART:20270314T070000
END:DAYLIGHT
BEGIN:STANDARD
TZOFFSETFROM:-0400
TZOFFSETTO:-0500
TZNAME:EST
DTSTART:20271107T060000
END:STANDARD
BEGIN:DAYLIGHT
TZOFFSETFROM:-0500
TZOFFSETTO:-0400
TZNAME:EDT
DTSTART:20280312T070000
END:DAYLIGHT
BEGIN:STANDARD
TZOFFSETFROM:-0400
TZOFFSETTO:-0500
TZNAME:EST
DTSTART:20281105T060000
END:STANDARD
END:VTIMEZONE
BEGIN:VEVENT
DTSTART;TZID=America/New_York:20271006T180000
DTEND;TZID=America/New_York:20271006T180000
DTSTAMP:20260423T042239
CREATED:20251230T010225Z
LAST-MODIFIED:20260131T210851Z
UID:10016472-1822845600-1822845600@www.vivafallriver.com
SUMMARY:English Conversation Group
DESCRIPTION:Learning to speak English can be a challenge. Come practice with us in the Nagle Room. Join our English Conversation Club and practice your speaking and listening skills. Beginners are welcome to join!
URL:https://www.vivafallriver.com/event/english-conversation-group/2027-10-06/
LOCATION:Fall River Public Library\, 104 North Main St\, Fall River\, MA\, 02720
CATEGORIES:Fundraisers/Community
END:VEVENT
BEGIN:VEVENT
DTSTART;TZID=America/New_York:20271007T080000
DTEND;TZID=America/New_York:20271007T170000
DTSTAMP:20260423T042239
CREATED:20260131T214449Z
LAST-MODIFIED:20260131T214502Z
UID:10018533-1822896000-1822928400@www.vivafallriver.com
SUMMARY:Teen Game Night
DESCRIPTION:Gamers unite for Teen Game Night!!! \n\n\n\nEvery first Thursday of the month\, teens are invited to the Fall River Public Library to play all sorts of collaborative and competitive multiplayer video games on the library projector. Show off your skills\, learn about games new and old\, and most importantly… have a blast!! \n\n\n\nFor teens ages 13 – 18.
URL:https://www.vivafallriver.com/event/teen-game-night/2027-10-07/
LOCATION:Fall River Public Library\, 104 North Main St\, Fall River\, MA\, 02720
CATEGORIES:Family Friendly Events
ATTACH;FMTTYPE=image/png:https://www.vivafallriver.com/wp-content/uploads/2026/01/FRPL.png
END:VEVENT
BEGIN:VEVENT
DTSTART;TZID=America/New_York:20271013T180000
DTEND;TZID=America/New_York:20271013T180000
DTSTAMP:20260423T042239
CREATED:20260131T211235Z
LAST-MODIFIED:20260131T211247Z
UID:10017895-1823450400-1823450400@www.vivafallriver.com
SUMMARY:Writing Group
DESCRIPTION:Welcome all writers! Looking to build a community with creative\, like-minded people? Look no further! We’ll be getting together once a month on the second Wednesday of each month to provide support and feedback and share our love of the craft of writing. Bring your favorite pen!
URL:https://www.vivafallriver.com/event/writing-group/2027-10-13/
LOCATION:Fall River Public Library\, 104 North Main St\, Fall River\, MA\, 02720
CATEGORIES:Workshops & Classes
ATTACH;FMTTYPE=image/png:https://www.vivafallriver.com/wp-content/uploads/2026/01/FRPL.png
END:VEVENT
END:VCALENDAR