BEGIN:VCALENDAR
VERSION:2.0
PRODID:-//Viva Fall River - ECPv6.15.18//NONSGML v1.0//EN
CALSCALE:GREGORIAN
METHOD:PUBLISH
X-ORIGINAL-URL:https://www.vivafallriver.com
X-WR-CALDESC:Events for Viva Fall River
REFRESH-INTERVAL;VALUE=DURATION:PT1H
X-Robots-Tag:noindex
X-PUBLISHED-TTL:PT1H
BEGIN:VTIMEZONE
TZID:America/New_York
BEGIN:DAYLIGHT
TZOFFSETFROM:-0500
TZOFFSETTO:-0400
TZNAME:EDT
DTSTART:20260308T070000
END:DAYLIGHT
BEGIN:STANDARD
TZOFFSETFROM:-0400
TZOFFSETTO:-0500
TZNAME:EST
DTSTART:20261101T060000
END:STANDARD
BEGIN:DAYLIGHT
TZOFFSETFROM:-0500
TZOFFSETTO:-0400
TZNAME:EDT
DTSTART:20270314T070000
END:DAYLIGHT
BEGIN:STANDARD
TZOFFSETFROM:-0400
TZOFFSETTO:-0500
TZNAME:EST
DTSTART:20271107T060000
END:STANDARD
BEGIN:DAYLIGHT
TZOFFSETFROM:-0500
TZOFFSETTO:-0400
TZNAME:EDT
DTSTART:20280312T070000
END:DAYLIGHT
BEGIN:STANDARD
TZOFFSETFROM:-0400
TZOFFSETTO:-0500
TZNAME:EST
DTSTART:20281105T060000
END:STANDARD
END:VTIMEZONE
BEGIN:VEVENT
DTSTART;TZID=America/New_York:20270615T170000
DTEND;TZID=America/New_York:20270615T170000
DTSTAMP:20260420T143830
CREATED:20260131T213835Z
LAST-MODIFIED:20260131T213845Z
UID:10018467-1813078800-1813078800@www.vivafallriver.com
SUMMARY:Middle Grade Book Club
DESCRIPTION:The Children’s Room invites our middle grade readers (ages 8-12) to join our monthly book club! On the third Tuesday of every month\, we will meet to discuss the assigned title which will be chosen from a selection of popular fiction and nonfiction.  \n\n\n\nCopies of the assigned title will be provided for members to keep! Each month’s title and any related materials will be announced and distributed at the end of the previous session.
URL:https://www.vivafallriver.com/event/middle-grade-book-club/2027-06-15/
LOCATION:Fall River Public Library\, 104 North Main St\, Fall River\, MA\, 02720
CATEGORIES:Family Friendly Events
ATTACH;FMTTYPE=image/png:https://www.vivafallriver.com/wp-content/uploads/2026/01/FRPL.png
END:VEVENT
BEGIN:VEVENT
DTSTART;TZID=America/New_York:20270616T140000
DTEND;TZID=America/New_York:20270616T153000
DTSTAMP:20260420T143830
CREATED:20260131T212611Z
LAST-MODIFIED:20260131T212621Z
UID:10018345-1813154400-1813159800@www.vivafallriver.com
SUMMARY:Books & Tea Club
DESCRIPTION:Both returning and new members are invited to join us on the third Wednesday of each month for a different kind of book club–one with no required books to read! Instead\, everyone can share their own recommendations of a book they’re enjoyed recently as we meet for general book chat and afternoon tea. Light refreshments will be served. \n\n\n\nBring your favorite teacup (if you want) and a book or two to share! \n\n\n\nFor questions\, contact Betsy Washburn at 508-324-2700 ext. 3. 
URL:https://www.vivafallriver.com/event/books-tea-club/2027-06-16/
LOCATION:Fall River Public Library\, 104 North Main St\, Fall River\, MA\, 02720
CATEGORIES:Arts & Culture Events
ATTACH;FMTTYPE=image/png:https://www.vivafallriver.com/wp-content/uploads/2026/01/FRPL.png
END:VEVENT
BEGIN:VEVENT
DTSTART;TZID=America/New_York:20270630T170000
DTEND;TZID=America/New_York:20270630T190000
DTSTAMP:20260420T143830
CREATED:20250104T005018Z
LAST-MODIFIED:20250116T190347Z
UID:10007533-1814374800-1814382000@www.vivafallriver.com
SUMMARY:Magic: The Gathering Meetup
DESCRIPTION:Our monthly Magic: the Gathering group meets on the last Wednesday of each month.* Come play a few games in the world’s most popular trading card game! Participants are invited to bring their own decks or build their own with a selection of the hundreds of cards we have at the library. Don’t know how to play? We’ll be glad to show you how! \n\n\n\nThis program is intended for teens ages 12 to 18. No prior experience with the game is required to participate. We’ll be meeting in the Fell Reading Room in the library. \n\n\n\n*If the last Wednesday of the month falls on a holiday\, the meetup will be rescheduled\, probably to the week before. Please check our calendar to be sure.
URL:https://www.vivafallriver.com/event/magic-the-gathering-meetup/2027-06-30/
LOCATION:Fall River Public Library\, 104 North Main St\, Fall River\, MA\, 02720
CATEGORIES:Family Friendly Events
ATTACH;FMTTYPE=image/png:https://www.vivafallriver.com/wp-content/uploads/2025/01/IMG_2706.png
END:VEVENT
END:VCALENDAR