BEGIN:VCALENDAR
VERSION:2.0
PRODID:-//Viva Fall River - ECPv6.15.18//NONSGML v1.0//EN
CALSCALE:GREGORIAN
METHOD:PUBLISH
X-ORIGINAL-URL:https://www.vivafallriver.com
X-WR-CALDESC:Events for Viva Fall River
REFRESH-INTERVAL;VALUE=DURATION:PT1H
X-Robots-Tag:noindex
X-PUBLISHED-TTL:PT1H
BEGIN:VTIMEZONE
TZID:America/New_York
BEGIN:DAYLIGHT
TZOFFSETFROM:-0500
TZOFFSETTO:-0400
TZNAME:EDT
DTSTART:20260308T070000
END:DAYLIGHT
BEGIN:STANDARD
TZOFFSETFROM:-0400
TZOFFSETTO:-0500
TZNAME:EST
DTSTART:20261101T060000
END:STANDARD
BEGIN:DAYLIGHT
TZOFFSETFROM:-0500
TZOFFSETTO:-0400
TZNAME:EDT
DTSTART:20270314T070000
END:DAYLIGHT
BEGIN:STANDARD
TZOFFSETFROM:-0400
TZOFFSETTO:-0500
TZNAME:EST
DTSTART:20271107T060000
END:STANDARD
BEGIN:DAYLIGHT
TZOFFSETFROM:-0500
TZOFFSETTO:-0400
TZNAME:EDT
DTSTART:20280312T070000
END:DAYLIGHT
BEGIN:STANDARD
TZOFFSETFROM:-0400
TZOFFSETTO:-0500
TZNAME:EST
DTSTART:20281105T060000
END:STANDARD
END:VTIMEZONE
BEGIN:VEVENT
DTSTART;TZID=America/New_York:20270429T180000
DTEND;TZID=America/New_York:20270429T180000
DTSTAMP:20260426T000716
CREATED:20260425T195103Z
LAST-MODIFIED:20260425T195112Z
UID:10021524-1809021600-1809021600@www.vivafallriver.com
SUMMARY:Silent Book Club
DESCRIPTION:Bring along whatever you are currently reading\, and join other readers for Fall River’s very own chapter of Silent Book Club.
URL:https://www.vivafallriver.com/event/silent-book-club-2/2027-04-29/
LOCATION:Once Upon a Bookstore\, 418 Quequechan St. 2nd Fl.\, Fall River\, Massachusetts\, 02721
CATEGORIES:Arts & Culture Events,Workshops & Classes
ATTACH;FMTTYPE=image/png:https://www.vivafallriver.com/wp-content/uploads/2025/09/image-54.png
END:VEVENT
BEGIN:VEVENT
DTSTART;TZID=America/New_York:20270430T080000
DTEND;TZID=America/New_York:20270430T170000
DTSTAMP:20260426T000716
CREATED:20260118T195139Z
LAST-MODIFIED:20260118T195147Z
UID:10012127-1809072000-1809104400@www.vivafallriver.com
SUMMARY:Aging Well: Senior LGBTQ+ Breakfast Club
DESCRIPTION:For South Coast LGBTQ+ individuals ages 60+ \n\n\n\nREGISTER AT: https://tinyurl.com/breakfast-club-fr 
URL:https://www.vivafallriver.com/event/aging-well-senior-lgbtq-breakfast-club-2/2027-04-30/
LOCATION:Munchies\, 4263 North Main Street\, Fall River\, MA\, 02720\, United States
CATEGORIES:Fundraisers/Community
ATTACH;FMTTYPE=image/png:https://www.vivafallriver.com/wp-content/uploads/2025/09/image-55.png
END:VEVENT
BEGIN:VEVENT
DTSTART;TZID=America/New_York:20270505T180000
DTEND;TZID=America/New_York:20270505T180000
DTSTAMP:20260426T000716
CREATED:20251230T010225Z
LAST-MODIFIED:20260131T210851Z
UID:10016467-1809540000-1809540000@www.vivafallriver.com
SUMMARY:English Conversation Group
DESCRIPTION:Learning to speak English can be a challenge. Come practice with us in the Nagle Room. Join our English Conversation Club and practice your speaking and listening skills. Beginners are welcome to join!
URL:https://www.vivafallriver.com/event/english-conversation-group/2027-05-05/
LOCATION:Fall River Public Library\, 104 North Main St\, Fall River\, MA\, 02720
CATEGORIES:Fundraisers/Community
END:VEVENT
BEGIN:VEVENT
DTSTART;TZID=America/New_York:20270506T080000
DTEND;TZID=America/New_York:20270506T170000
DTSTAMP:20260426T000717
CREATED:20260131T214449Z
LAST-MODIFIED:20260131T214502Z
UID:10018528-1809590400-1809622800@www.vivafallriver.com
SUMMARY:Teen Game Night
DESCRIPTION:Gamers unite for Teen Game Night!!! \n\n\n\nEvery first Thursday of the month\, teens are invited to the Fall River Public Library to play all sorts of collaborative and competitive multiplayer video games on the library projector. Show off your skills\, learn about games new and old\, and most importantly… have a blast!! \n\n\n\nFor teens ages 13 – 18.
URL:https://www.vivafallriver.com/event/teen-game-night/2027-05-06/
LOCATION:Fall River Public Library\, 104 North Main St\, Fall River\, MA\, 02720
CATEGORIES:Family Friendly Events
ATTACH;FMTTYPE=image/png:https://www.vivafallriver.com/wp-content/uploads/2026/01/FRPL.png
END:VEVENT
BEGIN:VEVENT
DTSTART;TZID=America/New_York:20270506T190000
DTEND;TZID=America/New_York:20270506T220000
DTSTAMP:20260426T000717
CREATED:20260425T193807Z
LAST-MODIFIED:20260425T193816Z
UID:10018795-1809630000-1809640800@www.vivafallriver.com
SUMMARY:Open Mic Night
DESCRIPTION:
URL:https://www.vivafallriver.com/event/open-mic-night-2/2027-05-06/
LOCATION:The Belmont Club\, 34 Franklin Street\, Fall River
CATEGORIES:Fundraisers/Community,Live Music
ATTACH;FMTTYPE=image/png:https://www.vivafallriver.com/wp-content/uploads/2026/02/image-7.png
END:VEVENT
BEGIN:VEVENT
DTSTART;TZID=America/New_York:20270513T180000
DTEND;TZID=America/New_York:20270513T190000
DTSTAMP:20260426T000717
CREATED:20260425T212327Z
LAST-MODIFIED:20260425T212334Z
UID:10021676-1810231200-1810234800@www.vivafallriver.com
SUMMARY:YA Comics Club
DESCRIPTION:CALLING ALL teenage COMICS ENTHUSIASTS!!!! Do you like comics? Graphics novels? Manga? Webcomics? Some other combination of pictures and words?? Then the Young Adult Comics Club is the place for you! \n\n\n\nThe second Thursday of each month we meet to discuss all things comics – making\, thinking\, reading\, sharing\, etc. Share your favorite manga with peers! Show off the comic you’ve been making to other comic artists! Finally start that cool comic idea you’ve been meaning to draw! Learn what comics are all about!!! \n\n\n\nEach month we will have an optional comic prompt to make and share for the following meeting. Make us some words and pictures!! \n\n\n\nFor teens ages 13 – 18.
URL:https://www.vivafallriver.com/event/ya-comics-club/2027-05-13/
LOCATION:Fall River Public Library\, 104 North Main St\, Fall River\, MA\, 02720
CATEGORIES:Arts & Culture Events,Family Friendly Events,Other
ATTACH;FMTTYPE=image/png:https://www.vivafallriver.com/wp-content/uploads/2026/01/FRPL.png
END:VEVENT
BEGIN:VEVENT
DTSTART;TZID=America/New_York:20270630T170000
DTEND;TZID=America/New_York:20270630T190000
DTSTAMP:20260426T000717
CREATED:20250104T005018Z
LAST-MODIFIED:20250116T190347Z
UID:10007533-1814374800-1814382000@www.vivafallriver.com
SUMMARY:Magic: The Gathering Meetup
DESCRIPTION:Our monthly Magic: the Gathering group meets on the last Wednesday of each month.* Come play a few games in the world’s most popular trading card game! Participants are invited to bring their own decks or build their own with a selection of the hundreds of cards we have at the library. Don’t know how to play? We’ll be glad to show you how! \n\n\n\nThis program is intended for teens ages 12 to 18. No prior experience with the game is required to participate. We’ll be meeting in the Fell Reading Room in the library. \n\n\n\n*If the last Wednesday of the month falls on a holiday\, the meetup will be rescheduled\, probably to the week before. Please check our calendar to be sure.
URL:https://www.vivafallriver.com/event/magic-the-gathering-meetup/2027-06-30/
LOCATION:Fall River Public Library\, 104 North Main St\, Fall River\, MA\, 02720
CATEGORIES:Family Friendly Events
ATTACH;FMTTYPE=image/png:https://www.vivafallriver.com/wp-content/uploads/2025/01/IMG_2706.png
END:VEVENT
END:VCALENDAR