BEGIN:VCALENDAR
VERSION:2.0
PRODID:-//Viva Fall River - ECPv6.15.18//NONSGML v1.0//EN
CALSCALE:GREGORIAN
METHOD:PUBLISH
X-WR-CALNAME:Viva Fall River
X-ORIGINAL-URL:https://www.vivafallriver.com
X-WR-CALDESC:Events for Viva Fall River
REFRESH-INTERVAL;VALUE=DURATION:PT1H
X-Robots-Tag:noindex
X-PUBLISHED-TTL:PT1H
BEGIN:VTIMEZONE
TZID:America/New_York
BEGIN:DAYLIGHT
TZOFFSETFROM:-0500
TZOFFSETTO:-0400
TZNAME:EDT
DTSTART:20250309T070000
END:DAYLIGHT
BEGIN:STANDARD
TZOFFSETFROM:-0400
TZOFFSETTO:-0500
TZNAME:EST
DTSTART:20251102T060000
END:STANDARD
BEGIN:DAYLIGHT
TZOFFSETFROM:-0500
TZOFFSETTO:-0400
TZNAME:EDT
DTSTART:20260308T070000
END:DAYLIGHT
BEGIN:STANDARD
TZOFFSETFROM:-0400
TZOFFSETTO:-0500
TZNAME:EST
DTSTART:20261101T060000
END:STANDARD
BEGIN:DAYLIGHT
TZOFFSETFROM:-0500
TZOFFSETTO:-0400
TZNAME:EDT
DTSTART:20270314T070000
END:DAYLIGHT
BEGIN:STANDARD
TZOFFSETFROM:-0400
TZOFFSETTO:-0500
TZNAME:EST
DTSTART:20271107T060000
END:STANDARD
END:VTIMEZONE
BEGIN:VEVENT
DTSTART;TZID=America/New_York:20260424T080000
DTEND;TZID=America/New_York:20260424T170000
DTSTAMP:20260424T032557
CREATED:20260118T195139Z
LAST-MODIFIED:20260118T195147Z
UID:10012115-1777017600-1777050000@www.vivafallriver.com
SUMMARY:Aging Well: Senior LGBTQ+ Breakfast Club
DESCRIPTION:For South Coast LGBTQ+ individuals ages 60+ \n\n\n\nREGISTER AT: https://tinyurl.com/breakfast-club-fr 
URL:https://www.vivafallriver.com/event/aging-well-senior-lgbtq-breakfast-club-2/2026-04-24/
LOCATION:Munchies\, 4263 North Main Street\, Fall River\, MA\, 02720\, United States
CATEGORIES:Fundraisers/Community
ATTACH;FMTTYPE=image/png:https://www.vivafallriver.com/wp-content/uploads/2025/09/image-55.png
END:VEVENT
BEGIN:VEVENT
DTSTART;TZID=America/New_York:20260424T090000
DTEND;TZID=America/New_York:20260424T130000
DTSTAMP:20260424T032557
CREATED:20260328T203004Z
LAST-MODIFIED:20260328T203012Z
UID:10020548-1777021200-1777035600@www.vivafallriver.com
SUMMARY:College Success Workshop
DESCRIPTION:Our College Success Workshops provide aspiring student veterans with the skills they need to succeed in higher education. Join us for a free\, one-day workshop for veterans and service members transitioning to college. \n\n\n\nLearn about: \n\n\n\nAdapting to college cultureUsing campus resourcesTransferring skills from the military to collegeBuilding essential academic skillsThe workshops are taught by fellow enlisted veterans currently enrolled in four-year universities. \n\n\n\nIf you are interested in attending this in-person event hosted by Bristol Community College\, click the link and register now! \n\n\n\nPlease contact Dennis Cosmo with any questions at denny.cosmo@bristolcc.edu. 
URL:https://www.vivafallriver.com/event/college-success-workshop/
LOCATION:Bristol Community College\, 777 Elsbree Street\, Fall River\, MA\, 02720\, United States
CATEGORIES:Business Events/Opportunities,Other,Workshops & Classes
ATTACH;FMTTYPE=image/png:https://www.vivafallriver.com/wp-content/uploads/2026/03/image-56.png
ORGANIZER;CN="Bristol Community College Veterans Center":MAILTO:veterans@bristolcc.edu
END:VEVENT
BEGIN:VEVENT
DTSTART;TZID=America/New_York:20260424T100000
DTEND;TZID=America/New_York:20260424T120000
DTSTAMP:20260424T032557
CREATED:20260326T182037Z
LAST-MODIFIED:20260326T182049Z
UID:10019914-1777024800-1777032000@www.vivafallriver.com
SUMMARY:Community Tree ID Walk on the Tattapanum Trail
DESCRIPTION:Mark Your Calendars for the Greater Fall River City Nature Challenge! \nApril 24 to April 27\, 2026 \nJoin the Trustees and Mass Audubon for a free guided exploration of the Tattapanum Trail to celebrate Arbor Day! Participants will learn how to identify different species of trees and other wildlife during this experience\, as a part of the kick-off to the Greater Fall River City Nature Challenge. \nThe City Nature Challenge is a free worldwide event where the public helps conservation science by taking photos of wild organisms in their own city and uploading them to iNaturalist – a website dedicated to identifying wildlife\, for everyone! \nIn the Greater Fall River area\, The Trustees and Mass Audubon are teaming up to make it simple for everyone to join in. We’re hosting four free guided walks through different local habitats and offering free iNaturalist trainings so educators and community leaders can confidently run their own BioBlitz-style walks. Please consider joining us on another one of our experiences listed below! \n\nFriday April 24\, 10:00am to 12:00pm  – Tree ID Walk on the Tattapanum Trail\nSaturday April 25\, 12:00pm to 2:00pm– Freshwater Wildlife Walk on the Quequechan River Rail Trail\nSunday April 26\, 12:30pm to 2:30pm – Woodland Walk in the Copicut Woods\nMonday April 27\, 3:00pm to 5:00pm – Urban Wildlife Watching at Kennedy Park\n\nNo experience needed – just curiosity\, a phone or camera\, and a few minutes outside. Every observation helps track biodiversity and supports wildlife conservation. \nHow to Participate \nRegister for this event for free at https://thetrustees.org/program/trustees-mobile-adventurer/ \nHow to get involved \nTo help support the Greater Fall River City Nature Challenge\, or get more involved (sign up for a training\, walk\, or volunteer) please fill out our interest form: https://docs.google.com/forms/d/e/1FAIpQLSeEIGPp8jwUj1px7bYRooJKyYUlPP8bUUr7TSPiRzWvXXqpDA/viewform \nOr email mobileadventures@thetrustees.org
URL:https://www.vivafallriver.com/event/community-tree-id-walk-on-the-tattapanum-trail/
LOCATION:1341-1555 Wilson Rd\, Fall River\, MA 02720\, 1341-1555 Wilson Rd\, Fall River\, 02720
CATEGORIES:Family Friendly Events,Fundraisers/Community,Recreation/Sports Events
ATTACH;FMTTYPE=image/jpeg:https://www.vivafallriver.com/wp-content/uploads/2026/03/Greater-Fall-River-City-Nature-Challenge.jpg
END:VEVENT
BEGIN:VEVENT
DTSTART;TZID=America/New_York:20260424T120000
DTEND;TZID=America/New_York:20260424T160000
DTSTAMP:20260424T032557
CREATED:20250121T225733Z
LAST-MODIFIED:20260107T003234Z
UID:10015323-1777032000-1777046400@www.vivafallriver.com
SUMMARY:$5 Cheese Pizza Fridays
DESCRIPTION:Join us for lunch every Friday! From 12-4pm we offer $5 cheese pizza!! Our full menu is also available and ready to order! Pair your favorite bar style pizza with your favorite craft beer! 
URL:https://www.vivafallriver.com/event/5-cheese-pizza-fridays/2026-04-24/
LOCATION:Canned Heat Craft Beer Co.\, 52 Ferry Street\, Fall River\, MA\, 02724\, United States
CATEGORIES:Culinary Events
END:VEVENT
BEGIN:VEVENT
DTSTART;TZID=America/New_York:20260424T180000
DTEND;TZID=America/New_York:20260424T180000
DTSTAMP:20260424T032557
CREATED:20260202T003230Z
LAST-MODIFIED:20260202T003235Z
UID:10017652-1777053600-1777053600@www.vivafallriver.com
SUMMARY:Silent Book Club
DESCRIPTION:Bring along whatever you are currently reading\, and join other readers for Fall River’s very own chapter of Silent Book Club.
URL:https://www.vivafallriver.com/event/silent-book-club/2026-04-24/
LOCATION:Once Upon a Bookstore\, 418 Quequechan St. 2nd Fl.\, Fall River\, Massachusetts\, 02721
CATEGORIES:Arts & Culture Events,Workshops & Classes
ATTACH;FMTTYPE=image/png:https://www.vivafallriver.com/wp-content/uploads/2025/09/image-54.png
END:VEVENT
BEGIN:VEVENT
DTSTART;TZID=America/New_York:20260424T183000
DTEND;TZID=America/New_York:20260424T183000
DTSTAMP:20260424T032557
CREATED:20260328T203058Z
LAST-MODIFIED:20260328T203107Z
UID:10020549-1777055400-1777055400@www.vivafallriver.com
SUMMARY:Art Show Part 2
DESCRIPTION:
URL:https://www.vivafallriver.com/event/art-show-part-2/
LOCATION:The Belmont Club\, 34 Franklin Street\, Fall River
CATEGORIES:Arts & Culture Events
ATTACH;FMTTYPE=image/png:https://www.vivafallriver.com/wp-content/uploads/2026/03/image-57.png
END:VEVENT
BEGIN:VEVENT
DTSTART;TZID=America/New_York:20260424T190000
DTEND;TZID=America/New_York:20260424T210000
DTSTAMP:20260424T032557
CREATED:20260401T212908Z
LAST-MODIFIED:20260401T212908Z
UID:10020595-1777057200-1777064400@www.vivafallriver.com
SUMMARY:Almost Queen - A Tribute To Queen - Falls Church
DESCRIPTION:Falls Church\, get ready to sing along as Almost Queen – A Tribute To Queen lights up State Theatre – VA for a night locals love to make a tradition. Join fellow fans in the heart of the city for **Almost Queen – A Tribute To Queen – Falls Church Falls Church** on Friday\, April 24\, 2026 at 7:00 PM. \nThis isn’t just a setlist—it’s a tightly crafted recreation of Queen’s biggest moments\, from soaring vocals to layered harmonies and guitar tones that hit with arena-sized punch. \nState Theatre – VA delivers an intimate\, high-energy room with great sightlines\, easy access\, and a prime Falls Church location. You’ll feel every stomp and chorus up close at **Almost Queen – A Tribute To Queen – Falls Church State Theatre – VA**. \nBring your friends\, warm up your “We Will Rock You” claps\, and book your tickets now before the best seats are gone.
URL:https://www.vivafallriver.com/event/almost-queen-a-tribute-to-queen-falls-church/
LOCATION:State Theatre\, 220 N Washington St\, Falls Church\, 22046
CATEGORIES:Live Music
ATTACH;FMTTYPE=image/jpeg:https://www.vivafallriver.com/wp-content/uploads/2026/04/Almost-Queen-A-Tribute-To-Queen.jpg
END:VEVENT
BEGIN:VEVENT
DTSTART;TZID=America/New_York:20260424T210000
DTEND;TZID=America/New_York:20260424T210000
DTSTAMP:20260424T032557
CREATED:20241229T042025Z
LAST-MODIFIED:20250117T213334Z
UID:10007136-1777064400-1777064400@www.vivafallriver.com
SUMMARY:Social Club Karaoke w/ DJ Dan Mac (weekly)
DESCRIPTION:Join DJ Dan Mac with Mac Attack Entertainment every Friday night. It’s always a good time\, it’s always a party! Everyone sings at Social Club Karaoke! 
URL:https://www.vivafallriver.com/event/social-club-karaoke-w-dj-dan-mac-weekly/2026-04-24/
LOCATION:Canned Heat Craft Beer Co.\, 52 Ferry Street\, Fall River\, MA\, 02724\, United States
CATEGORIES:Recreation/Sports Events
END:VEVENT
END:VCALENDAR