BEGIN:VCALENDAR
VERSION:2.0
PRODID:-//Viva Fall River - ECPv6.15.18//NONSGML v1.0//EN
CALSCALE:GREGORIAN
METHOD:PUBLISH
X-WR-CALNAME:Viva Fall River
X-ORIGINAL-URL:https://www.vivafallriver.com
X-WR-CALDESC:Events for Viva Fall River
REFRESH-INTERVAL;VALUE=DURATION:PT1H
X-Robots-Tag:noindex
X-PUBLISHED-TTL:PT1H
BEGIN:VTIMEZONE
TZID:America/New_York
BEGIN:DAYLIGHT
TZOFFSETFROM:-0500
TZOFFSETTO:-0400
TZNAME:EDT
DTSTART:20250309T070000
END:DAYLIGHT
BEGIN:STANDARD
TZOFFSETFROM:-0400
TZOFFSETTO:-0500
TZNAME:EST
DTSTART:20251102T060000
END:STANDARD
BEGIN:DAYLIGHT
TZOFFSETFROM:-0500
TZOFFSETTO:-0400
TZNAME:EDT
DTSTART:20260308T070000
END:DAYLIGHT
BEGIN:STANDARD
TZOFFSETFROM:-0400
TZOFFSETTO:-0500
TZNAME:EST
DTSTART:20261101T060000
END:STANDARD
BEGIN:DAYLIGHT
TZOFFSETFROM:-0500
TZOFFSETTO:-0400
TZNAME:EDT
DTSTART:20270314T070000
END:DAYLIGHT
BEGIN:STANDARD
TZOFFSETFROM:-0400
TZOFFSETTO:-0500
TZNAME:EST
DTSTART:20271107T060000
END:STANDARD
END:VTIMEZONE
BEGIN:VEVENT
DTSTART;TZID=America/New_York:20260421T110000
DTEND;TZID=America/New_York:20260421T110000
DTSTAMP:20260421T013602
CREATED:20251230T005927Z
LAST-MODIFIED:20251230T005933Z
UID:10016205-1776769200-1776769200@www.vivafallriver.com
SUMMARY:Preschool Storytime
DESCRIPTION:Join Children’s Room staff for a fun morning of stories! Each storytime includes 30 minutes of stories from popular children’s books followed by a short literacy-based movie and an easy-to-make craft.  Introduce your preschooler to the exciting world of children’s literature! Recommended for ages 3 to 5.
URL:https://www.vivafallriver.com/event/preschool-storytime/2026-04-21/
LOCATION:Fall River Public Library\, 104 North Main St\, Fall River\, MA\, 02720
CATEGORIES:Family Friendly Events
ATTACH;FMTTYPE=image/png:https://www.vivafallriver.com/wp-content/uploads/2025/12/image-50.png
END:VEVENT
BEGIN:VEVENT
DTSTART;TZID=America/New_York:20260421T120000
DTEND;TZID=America/New_York:20260421T140000
DTSTAMP:20260421T013602
CREATED:20260328T202019Z
LAST-MODIFIED:20260328T202027Z
UID:10020543-1776772800-1776780000@www.vivafallriver.com
SUMMARY:Colonial Medicine with Dr. Dave
DESCRIPTION:With Dr. Dave of the Lafayette-Durfee House Foundation. Learn about early American medical and dental practices and see the tools that were used. It may look and sound like a horror movie\, but this was medicine! Fun for the whole family. Drop in anytime from 12:00 PM to 2:00 PM.
URL:https://www.vivafallriver.com/event/colonial-medicine-with-dr-dave/
LOCATION:Fall River Heritage State Park\, Fall River\, Massachusetts\, 02720\, United States
CATEGORIES:Arts & Culture Events,Family Friendly Events,History
ATTACH;FMTTYPE=image/jpeg:https://www.vivafallriver.com/wp-content/uploads/2025/02/Fall_River_Heritage_State_Park_sign_and_building.jpg
END:VEVENT
BEGIN:VEVENT
DTSTART;TZID=America/New_York:20260421T120000
DTEND;TZID=America/New_York:20260421T150000
DTSTAMP:20260421T013602
CREATED:20260121T141707Z
LAST-MODIFIED:20260121T141714Z
UID:10017722-1776772800-1776783600@www.vivafallriver.com
SUMMARY:Winter & Spring Senior Socials
DESCRIPTION:
URL:https://www.vivafallriver.com/event/winter-spring-senior-socials/2026-04-21/
LOCATION:Greater Fall River Re-CREATION\, 45 Rock St\, Fall River\, 02720
CATEGORIES:Fundraisers/Community
ATTACH;FMTTYPE=image/png:https://www.vivafallriver.com/wp-content/uploads/2026/01/image-27.png
END:VEVENT
BEGIN:VEVENT
DTSTART;TZID=America/New_York:20260421T150000
DTEND;TZID=America/New_York:20260421T200000
DTSTAMP:20260421T013602
CREATED:20260328T190611Z
LAST-MODIFIED:20260328T190620Z
UID:10020498-1776783600-1776801600@www.vivafallriver.com
SUMMARY:Pasta Flights (weekly)
DESCRIPTION:Experience the taste of Italy with a trio of Italian-American classics served in perfect tasting portions. \n\n\n\nJoin us every Tuesday and choose your flight: \n\n\n\nTraditional Flight – Fettuccine Alfredo\, Penne alla Vodka\, Spaghetti & Meatballs \n\n\n\nChef’s Flight – Cacio e Pepe\, Spicy Rigatoni\, Fettuccine with Mushroom Cream SaucePerfect for date night\, girls’ night\, or when you just can’t pick one pasta.
URL:https://www.vivafallriver.com/event/pasta-flights-weekly/2026-04-21/
LOCATION:Primo on Water Street\, 36 Water Street\, Fall River\, MA\, 02724\, United States
CATEGORIES:Culinary Events
ATTACH;FMTTYPE=image/png:https://www.vivafallriver.com/wp-content/uploads/2026/03/image-23.png
END:VEVENT
BEGIN:VEVENT
DTSTART;TZID=America/New_York:20260421T160000
DTEND;TZID=America/New_York:20260421T210000
DTSTAMP:20260421T013602
CREATED:20260131T192448Z
LAST-MODIFIED:20260131T192459Z
UID:10017768-1776787200-1776805200@www.vivafallriver.com
SUMMARY:Half Priced Food (weekly)
DESCRIPTION:Some say it’s the best bar pie in the area! Come see for yourself! Wings? We got those too!…and some extra bites for snacking while you enjoy Delicious Craft beer brewed right on site!
URL:https://www.vivafallriver.com/event/half-priced-food-weekly/2026-04-21/
LOCATION:Canned Heat Craft Beer Co.\, 52 Ferry Street\, Fall River\, MA\, 02724\, United States
CATEGORIES:Culinary Events
ATTACH;FMTTYPE=image/png:https://www.vivafallriver.com/wp-content/uploads/2026/01/image-33.png
END:VEVENT
BEGIN:VEVENT
DTSTART;TZID=America/New_York:20260421T170000
DTEND;TZID=America/New_York:20260421T170000
DTSTAMP:20260421T013602
CREATED:20260131T213835Z
LAST-MODIFIED:20260131T213845Z
UID:10018453-1776790800-1776790800@www.vivafallriver.com
SUMMARY:Middle Grade Book Club
DESCRIPTION:The Children’s Room invites our middle grade readers (ages 8-12) to join our monthly book club! On the third Tuesday of every month\, we will meet to discuss the assigned title which will be chosen from a selection of popular fiction and nonfiction.  \n\n\n\nCopies of the assigned title will be provided for members to keep! Each month’s title and any related materials will be announced and distributed at the end of the previous session.
URL:https://www.vivafallriver.com/event/middle-grade-book-club/2026-04-21/
LOCATION:Fall River Public Library\, 104 North Main St\, Fall River\, MA\, 02720
CATEGORIES:Family Friendly Events
ATTACH;FMTTYPE=image/png:https://www.vivafallriver.com/wp-content/uploads/2026/01/FRPL.png
END:VEVENT
BEGIN:VEVENT
DTSTART;TZID=America/New_York:20260421T193000
DTEND;TZID=America/New_York:20260421T203000
DTSTAMP:20260421T013602
CREATED:20251029T135639Z
LAST-MODIFIED:20260328T135036Z
UID:10013750-1776799800-1776803400@www.vivafallriver.com
SUMMARY:The Waiting Room - Comedy Open Mic
DESCRIPTION:List out at 7:30Show starts at 8Cheap drinks + cash bar (ATM inside)175 Danforth St\, Fall River (AmVets Hall) \n\n\n\nSign up before 8:00 to get put “in the bucket” and get extra time! \n\n\n\nStay the whole bucket to become a VIP (and get extra time next week.) \n\n\n\nThe time you give is the time you get. \n\n\n\nThank you for your patience\, your set is important to us.
URL:https://www.vivafallriver.com/event/the-waiting-room-comedy-open-mic/2026-04-21/
CATEGORIES:Fundraisers/Community
ATTACH;FMTTYPE=image/png:https://www.vivafallriver.com/wp-content/uploads/2025/10/image-44.png
END:VEVENT
END:VCALENDAR